BEGIN:VCALENDAR
VERSION:2.0
PRODID:-//NiceNSleazy - ECPv6.15.20//NONSGML v1.0//EN
CALSCALE:GREGORIAN
METHOD:PUBLISH
X-ORIGINAL-URL:https://www.nicensleazy.com
X-WR-CALDESC:Events for NiceNSleazy
REFRESH-INTERVAL;VALUE=DURATION:PT1H
X-Robots-Tag:noindex
X-PUBLISHED-TTL:PT1H
BEGIN:VTIMEZONE
TZID:Europe/London
BEGIN:DAYLIGHT
TZOFFSETFROM:+0000
TZOFFSETTO:+0100
TZNAME:BST
DTSTART:20250330T010000
END:DAYLIGHT
BEGIN:STANDARD
TZOFFSETFROM:+0100
TZOFFSETTO:+0000
TZNAME:GMT
DTSTART:20251026T010000
END:STANDARD
BEGIN:DAYLIGHT
TZOFFSETFROM:+0000
TZOFFSETTO:+0100
TZNAME:BST
DTSTART:20260329T010000
END:DAYLIGHT
BEGIN:STANDARD
TZOFFSETFROM:+0100
TZOFFSETTO:+0000
TZNAME:GMT
DTSTART:20261025T010000
END:STANDARD
BEGIN:DAYLIGHT
TZOFFSETFROM:+0000
TZOFFSETTO:+0100
TZNAME:BST
DTSTART:20270328T010000
END:DAYLIGHT
BEGIN:STANDARD
TZOFFSETFROM:+0100
TZOFFSETTO:+0000
TZNAME:GMT
DTSTART:20271031T010000
END:STANDARD
END:VTIMEZONE
BEGIN:VEVENT
DTSTART;TZID=Europe/London:20260306T190000
DTEND;TZID=Europe/London:20260306T230000
DTSTAMP:20260421T101916
CREATED:20251215T115342Z
LAST-MODIFIED:20260219T235951Z
UID:10004965-1772823600-1772838000@www.nicensleazy.com
SUMMARY:GIG - THE MAN\, THE MYTH\, THE MEATSLAB
DESCRIPTION:PCL Presents: The Man The Myth The Meatslab – a new project from Jamie Clarke.  \nTaking inspiration from Bon Iver\, Japanese Breakfast\, Alex G and a chance encounter with a physics professor called Gerald Womack\, TMTMTM’s music is a soundtrack to life’s small but important moments. His first release\, ‘Home Run’\, arrived in September 2024 on wave of demand from a growing TikTok audience.  \nThis was quickly followed by ‘The Chronicles of Gerald Womack’\, his debut EP which was recorded in its entirety on a £20 Akai mic that he found on eBay several years earlier.  \nNow signed to NY-based label Mutual Friends\, TMTMTM released his second EP ‘Finding Love in Wilmer pt.1’ on 30th May 2025.
URL:https://www.nicensleazy.com/event/pcl-presents-the-man-the-myth-the-meatslab
CATEGORIES:Basement,Gig
ATTACH;FMTTYPE=image/png:https://www.nicensleazy.com/wp-content/uploads/2025/12/Screenshot-2025-12-15-at-11.51.59-226x300-1.png
END:VEVENT
BEGIN:VEVENT
DTSTART;TZID=Europe/London:20260307T190000
DTEND;TZID=Europe/London:20260307T220000
DTSTAMP:20260421T101916
CREATED:20260220T001159Z
LAST-MODIFIED:20260220T001159Z
UID:10005383-1772910000-1772920800@www.nicensleazy.com
SUMMARY:GIG - CLEAR STORM
DESCRIPTION:Clear Storm are playing NNS on Saturday 7th March 2026 at 7pm.\n\n\nCome on down folks\, anyone who can please –  the gig is a fundraiser.\nOne of the band members will be running TCS London Marathon to raise funds for the amazing West Scotland Deaf Children’s Society.\n\n\nPlaying along side Clear Storm to make it a great night are the brilliant band & singer songwriter Nova Baby and Stephen Barbour!\n\n\nTickets available now – if you need any message Nova Scotia on Facebook (linked below).\n\n\nGet the date in your diary  & if you can make it along or buy a ticket\, it would be amazing!
URL:https://www.nicensleazy.com/event/gig-clear-storm
CATEGORIES:Bar,Gig
ATTACH;FMTTYPE=image/jpeg:https://www.nicensleazy.com/wp-content/uploads/2026/02/485730541_122223126638063594_5112750305943113585_n.jpg
END:VEVENT
BEGIN:VEVENT
DTSTART;TZID=Europe/London:20260308T193000
DTEND;TZID=Europe/London:20260308T230000
DTSTAMP:20260421T101916
CREATED:20260218T140955Z
LAST-MODIFIED:20260226T201334Z
UID:10005373-1772998200-1773010800@www.nicensleazy.com
SUMMARY:GIG - MOULD + WHISSKER
DESCRIPTION:MOULD is a three-man freight train storming out of Bristol\, UK. Formed by Joe Sherrin\, Kane Eagle and James Luxton. Channeling the likes of a Fugazi\, Pile and Weezer\, they seem\, with the help of producer Jon Mcmullen (Wet Leg\, Michael Kiwanuka)\, to have created an exhilarating\, unhinged musical joyride. \nSee them headline the iconic Sleazy’s basement on the 8th of March supported by Whissker.
URL:https://www.nicensleazy.com/event/gig-mould
CATEGORIES:Basement,Gig
ATTACH;FMTTYPE=image/png:https://www.nicensleazy.com/wp-content/uploads/2026/02/Artist.png
END:VEVENT
BEGIN:VEVENT
DTSTART;TZID=Europe/London:20260310T193000
DTEND;TZID=Europe/London:20260310T220000
DTSTAMP:20260421T101916
CREATED:20260220T200214Z
LAST-MODIFIED:20260220T200214Z
UID:10005384-1773171000-1773180000@www.nicensleazy.com
SUMMARY:GIG - SINGER-SONGWRITER CHARITY NIGHT
DESCRIPTION:Get ready to vibe with local talent and support a good cause at the Singer/Songwriter Charity Night\, where music meets philanthropy! \n\n\n\n\nSupport local artists and Chairty!\nOn the 10th of March there will be an event showcasing local talent\, with two acts to provide entertainment during the night with the goal of raising money for charity. The charity is LGBT Youth Scotland.
URL:https://www.nicensleazy.com/event/gig-singer-songwriter-charity-night
CATEGORIES:Basement,Gig
END:VEVENT
BEGIN:VEVENT
DTSTART;TZID=Europe/London:20260311T193000
DTEND;TZID=Europe/London:20260311T230000
DTSTAMP:20260421T101916
CREATED:20251215T124512Z
LAST-MODIFIED:20260220T200949Z
UID:10004974-1773257400-1773270000@www.nicensleazy.com
SUMMARY:GIG - THE TERRY'S
DESCRIPTION:PCL PRESENTS: The Terry’s. \nAfter an absolute tear around Australia and NZ\, The Terrys are back and are coming to the UK and Europe! Playing songs you all know and love!\n\n16+ event\, all U18s much be accompanied by a responsible adult.
URL:https://www.nicensleazy.com/event/pcl-presents-the-terrys
CATEGORIES:Basement,Gig
ATTACH;FMTTYPE=application/pdf:https://www.nicensleazy.com/wp-content/uploads/2025/12/terrys-press-1.pdf
END:VEVENT
BEGIN:VEVENT
DTSTART;TZID=Europe/London:20260312T193000
DTEND;TZID=Europe/London:20260312T223000
DTSTAMP:20260421T101916
CREATED:20251215T115921Z
LAST-MODIFIED:20260220T204856Z
UID:10004966-1773343800-1773354600@www.nicensleazy.com
SUMMARY:GIG - SNAKE EYES
DESCRIPTION:PCL PRESENTS: SNAKE EYES \n“they’ve got a cool 90’s slacker vibe which i really love” – amy lamé\, bbc radio 6 \n“combining wonderfully anthemic grunge energy with sticky melodies to create cracking modern british rock” – rock sound \n“blurring the edges between noise rock and more straight-forwardly melodic indie rock” – clash \n“there’s a simplicity to what they do – making snotty\, scrappy\, guy-and-girl-next-door punk with big fat riffs – but theirs is a case where simple is effective” – kerrang! \nsnake eyes call it gritpop. \n16+ event\, all U18s must be accompanied by a responsible adult.
URL:https://www.nicensleazy.com/event/pcl-presents-snake-eyes
CATEGORIES:Basement,Gig
ATTACH;FMTTYPE=image/jpeg:https://www.nicensleazy.com/wp-content/uploads/2025/12/snake-eyes.jpg
END:VEVENT
BEGIN:VEVENT
DTSTART;TZID=Europe/London:20260312T230000
DTEND;TZID=Europe/London:20260313T020000
DTSTAMP:20260421T101916
CREATED:20241125T225609Z
LAST-MODIFIED:20250513T204235Z
UID:10001896-1773356400-1773367200@www.nicensleazy.com
SUMMARY:TRAD THURSDAYS
DESCRIPTION:11PM-2AM EVERY THURSDAY \nBrought to you by our resident Trad band! \nAn assortment of knee-slapping traditional Scottish music\, with a few covers here and there. \nCome along just to listen\, or feel free to play – all are welcome to the session!
URL:https://www.nicensleazy.com/event/trad-thursdays-62/2026-03-12
CATEGORIES:Bar,Gig
ATTACH;FMTTYPE=image/png:https://www.nicensleazy.com/wp-content/uploads/2024/11/Screenshot-2025-05-13-at-21.38.54.png
END:VEVENT
BEGIN:VEVENT
DTSTART;TZID=Europe/London:20260313T190000
DTEND;TZID=Europe/London:20260313T220000
DTSTAMP:20260421T101916
CREATED:20260218T141726Z
LAST-MODIFIED:20260220T205702Z
UID:10005374-1773428400-1773439200@www.nicensleazy.com
SUMMARY:GIG- GUERILLA LISTENING PARTY
DESCRIPTION:Guerrilla Listening Party – a new live music showcase series featuring top emerging acts from the city & surrounding areas. \nFEATURING: \nGleam\, Reign\, The Lines\, The Violent Polite
URL:https://www.nicensleazy.com/event/gig-guerilla-listening-party
CATEGORIES:Bar,Gig
ATTACH;FMTTYPE=image/webp:https://www.nicensleazy.com/wp-content/uploads/2026/02/rsw_730h_730cg_true.webp
END:VEVENT
BEGIN:VEVENT
DTSTART;TZID=Europe/London:20260313T190000
DTEND;TZID=Europe/London:20260313T220000
DTSTAMP:20260421T101916
CREATED:20260218T142317Z
LAST-MODIFIED:20260220T205837Z
UID:10005375-1773428400-1773439200@www.nicensleazy.com
SUMMARY:GIG - STRAIGHTEN OUT (STRANGLERS TRIBUTE)
DESCRIPTION:Straighten out – the no 1 Stranglers tribute play a 2 hour show of live Stranglers music. \nAn authentic night of Stranglers music played by the most authentic Stranglers tribute around. \n  \n 
URL:https://www.nicensleazy.com/event/gig-straighten-out-stranglers-tribute
CATEGORIES:Basement,Gig
ATTACH;FMTTYPE=image/png:https://www.nicensleazy.com/wp-content/uploads/2026/02/Screenshot-2026-02-18-at-14.21.15.png
END:VEVENT
BEGIN:VEVENT
DTSTART;TZID=Europe/London:20260314T183000
DTEND;TZID=Europe/London:20260314T230000
DTSTAMP:20260421T101916
CREATED:20260218T143258Z
LAST-MODIFIED:20260218T143258Z
UID:10005376-1773513000-1773529200@www.nicensleazy.com
SUMMARY:GIG- THE BATTERY FARM
DESCRIPTION:Our debut in Glasgow. Big auld DIY job with our palz Panhead Sharps and The Red Stains. Honoured to be joined on our first trip to the big G by two of the absolute best going. Upstairs at the mighty Nice & Sleazy. This is going to go aff. \nAll ticket purchases come with a free download of 2 Shackwell Road. \nIncludes unlimited streaming of 2 Shackwell Road via the free Bandcamp app\, plus high-quality download in MP3\, FLAC and more. \n  \nhttps://thebatteryfarm.bandcamp.com/merch/ticket-nice-sleazy-glasgow-14-3-25
URL:https://www.nicensleazy.com/event/gig-the-battery-farm
CATEGORIES:Bar,Gig
END:VEVENT
BEGIN:VEVENT
DTSTART;TZID=Europe/London:20260315T150000
DTEND;TZID=Europe/London:20260315T220000
DTSTAMP:20260421T101916
CREATED:20260218T143827Z
LAST-MODIFIED:20260220T205502Z
UID:10005377-1773586800-1773612000@www.nicensleazy.com
SUMMARY:GIG - WOMEN TAKE OVER GLASGOW
DESCRIPTION:This event will be showcasing the amazing women and non-binary fronted acts we have within the Scottish music scene\, upstairs showcasing our pop and funk scene as downstairs will be the punk and rock bands the scene has to offer. \nIt’s surely not a night to miss! \n  \n 
URL:https://www.nicensleazy.com/event/gig-women-take-over-glasgow
CATEGORIES:Bar,Basement,Gig
ATTACH;FMTTYPE=image/png:https://www.nicensleazy.com/wp-content/uploads/2026/02/Screenshot-2026-02-18-at-14.36.14-1.png
END:VEVENT
BEGIN:VEVENT
DTSTART;TZID=Europe/London:20260316T193000
DTEND;TZID=Europe/London:20260316T220000
DTSTAMP:20260421T101916
CREATED:20260309T233408Z
LAST-MODIFIED:20260309T233408Z
UID:10005413-1773689400-1773698400@www.nicensleazy.com
SUMMARY:COMEDY - PLEASE LAUGH
DESCRIPTION:Please laugh – a comedy night hosted by Caitlin Connor – returns to Nice N Sleazy with a fresh line-up of acts… \n 
URL:https://www.nicensleazy.com/event/comedy-please-laugh
CATEGORIES:Basement,Gig
ATTACH;FMTTYPE=application/pdf:https://www.nicensleazy.com/wp-content/uploads/2026/03/Screenshot-2026-03-09-at-23.27.18.pdf
END:VEVENT
BEGIN:VEVENT
DTSTART;TZID=Europe/London:20260317T190000
DTEND;TZID=Europe/London:20260317T220000
DTSTAMP:20260421T101916
CREATED:20260213T161934Z
LAST-MODIFIED:20260220T210343Z
UID:10005367-1773774000-1773784800@www.nicensleazy.com
SUMMARY:GIG - ORYX + WREN + BELIEVE IN NOTHING
DESCRIPTION:ORYX is a Denver-based doom/sludge metal band comprised of Thomas Davis (vocals\, guitars\, synth)\, Abigail Davis (drums)\, and Joshua Kauffman (bass). ORYX is a monolithic force\, characterized by thick\, suffocating riffs\, pulverizing drums\, and vocals that seep into the listener’s psyche like a toxic sludge. \nFormed in 2012 by husband-and-wife duo\, Thomas and Abigail Davis\, ORYX has carved out a path of its own in the underground metal scene. Over the span of the previous decade\, the band has seamlessly blended layers of blackened doom\, atmospheric sludge\, death metal\, and black metal across four full length albums. Their intense performance has earned slots on countless US festivals\, in addition to serving as direct support for notable acts like Electric Wizard\, Candlemass\, and Sleep. Each release has seen the band become more ambitious and refined in their unique brand of unrelenting sonic assault. As a two-piece\, ORYX released its debut album\, Widowmaker (2014)\, ORYX/Languish split LP (2016)\, and Stolen Absolution (2018). With the addition of a bassist in 2018\, ORYX dove into a darker and heavier realm with the release of Born into Madness (2018) and Lamenting a Dead World (2021). Their latest offering and quintessential fourth studio album\, Primordial Sky (2024) delivers the band’s pinnacle achievement thus far. ORYX is the sonic embodiment of desolation\, a monolithic wall of sound that demands to be experienced at full volume.
URL:https://www.nicensleazy.com/event/oryx-support
CATEGORIES:Bar,Gig
ATTACH;FMTTYPE=image/png:https://www.nicensleazy.com/wp-content/uploads/2026/02/Screenshot-2026-02-18-at-17.51.48-2.png
END:VEVENT
BEGIN:VEVENT
DTSTART;TZID=Europe/London:20260317T200000
DTEND;TZID=Europe/London:20260317T230000
DTSTAMP:20260421T101916
CREATED:20260218T144447Z
LAST-MODIFIED:20260220T210738Z
UID:10005378-1773777600-1773788400@www.nicensleazy.com
SUMMARY:GIG - AUTONYM + BAD ACTRESS
DESCRIPTION:West Yorkshire rockers Autonym are taking their debut album ‘Winter’ on tour up and down the UK\, in what is expected to be an explosive show of on stage energy and a setlist packed with unforgettable tunes! \nThis Glasgow date sees them joining forces with the brilliant Bad Actress for a co headline show that you do not wanna miss! \n  \n  \n 
URL:https://www.nicensleazy.com/event/gig-autonym
CATEGORIES:Basement,Gig
ATTACH;FMTTYPE=image/jpeg:https://www.nicensleazy.com/wp-content/uploads/2026/02/b35a699e-f7fc-4ba5-a31d-d987680cca78.jpg
END:VEVENT
BEGIN:VEVENT
DTSTART;TZID=Europe/London:20260318T190000
DTEND;TZID=Europe/London:20260318T220000
DTSTAMP:20260421T101916
CREATED:20260310T202338Z
LAST-MODIFIED:20260310T202338Z
UID:10005425-1773860400-1773871200@www.nicensleazy.com
SUMMARY:GIG - ROLLA + PANHEAD SHARPS
DESCRIPTION:“If you’re going to see the emergence of a new great band you’ll see them at This Feeling first.” Carl Barat \n18+ event.
URL:https://www.nicensleazy.com/event/gig-rolla-panhead-sharps
CATEGORIES:Bar,Gig
ATTACH;FMTTYPE=application/pdf:https://www.nicensleazy.com/wp-content/uploads/2026/03/Screenshot-2026-03-10-at-20.15.17-1.pdf
END:VEVENT
BEGIN:VEVENT
DTSTART;TZID=Europe/London:20260318T193000
DTEND;TZID=Europe/London:20260318T220000
DTSTAMP:20260421T101916
CREATED:20260218T180755Z
LAST-MODIFIED:20260220T211120Z
UID:10005379-1773862200-1773871200@www.nicensleazy.com
SUMMARY:COMEDY - SASHA DOLGOPOLOV
DESCRIPTION:finally! a new english language comedy show from alternative comedian sasha dolgopolov! \nif in her previous show sasha explored the theme of stress\, this time the focus is on its opposite – rest\, slowing down\, and calm. \nhow do you take care of yourself when the world around you is falling apart? how do you balance survival and rest? how do you keep from exploding under pressure? how do you stay calm when your life is unstable? how do you accept yourself when the world around you doesn’t? \nsasha asks these questions (to herself and to us) searching for answers and inviting us to join this intriguing and hilarious exploration\, while also talking about migration\, gender\, sexuality\, politics\, language\, growing up\, and of course… fruit flies! \nThe show will be held entirely in English. \n⭐️ Press Reviews ⭐️ \n“One of the most famous stand-up comedians in Russia\, who often mocks the authorities” – Forbes\n“Dolgopolov certainly does mix themes of God\, atheism and profanity – often hilariously” – the Independent\n“One of the most famous representatives of the stand-up genre which is gaining popularity in Russia” – Euronews \n🦄 Audience Reviews: 🦄 \n“I’m and English and German speaker and I just found your stand-up!! I’m obsessed!! I’m jealous of everyone who can understand you in your native language but know that your humor translates well! <3” \n“I am sure most comedians envy you for having so much shitty life experience which you can turn into hilarious material.” \n“Somehow even after switching to English\, Sasha kept her unique style of delivery and wordplay. Absolutely loved the show\, please support Sasha and go see her live if you can.” \n“you’re my boyfriends favorite comedian (he saw you wayy back in moscow) and your first english special is part of how we started dating (he posted a story that said he doesnt go on dates with anyone who hasn’t seen your comedy special\, and well.. here we are).” \n“Well Dolgopolov is a freak for sure” \n🌈 About Sasha: \nSasha(Over 10 mln views on youtube/insta/tiktok )\, a queer alternative political comedian from Russia who immigrated when the war in Ukraine started\, has spent a decade honing her stand-up craft. She’s evolved into one of the most provocative\, recognisable\, original\, and significant Russian-speaking comedians. \nFrequently lauded by opposition media and colleagues\, she’s considered one of the best Russian-speaking comedians in modern history. Now embarking on her second English tour with a completely new program\, Sasha is embracing a new chapter in life and career. \nOver the last decade\, she’s delivered hundreds of solo shows\, open mics\, festivals\, contests across more than 24 countries (not an easy task with this type of passport). Sasha has successfully filmed seven one-hour comedy specials (including one in english) amassing over 14 million views on YouTube collectively. \nDespite public attacks from Russian propagandist media\, she persists in addressing topics like religion\, authoritarianism\, gender non-conformity\, and anti-war stances. \nThis unique comedian is now ready to captivate an English-speaking audience once again! \n🎟️ To keep show open to everyone we’re offering tickets as low as 15 eur and with maximum to whatever you want. all proceeds of the show go directly to artist’s team after all expenses \n16+ event\, all U18s must be accompanied by a responsible adult.
URL:https://www.nicensleazy.com/event/comedy-sasha-dolgopolov
CATEGORIES:Basement,Gig
ATTACH;FMTTYPE=image/webp:https://www.nicensleazy.com/wp-content/uploads/2026/02/download.webp
END:VEVENT
BEGIN:VEVENT
DTSTART;TZID=Europe/London:20260319T190000
DTEND;TZID=Europe/London:20260319T230000
DTSTAMP:20260421T101916
CREATED:20260218T182556Z
LAST-MODIFIED:20260220T211840Z
UID:10005380-1773946800-1773961200@www.nicensleazy.com
SUMMARY:GIG - CRUZ + ARIENAS + PARALLEL SENSES
DESCRIPTION:Causing a stir in the Sheffield with rousing indie riffs and grit galore. \nFor fans of Arctic Monkeys\, The Reytons\, The K’s\, The Royston Club\, Viola Beach \n16+ event\, all U18s must be accompanied by a responsible adult.
URL:https://www.nicensleazy.com/event/gig-cruz
CATEGORIES:Basement,Gig
ATTACH;FMTTYPE=image/png:https://www.nicensleazy.com/wp-content/uploads/2026/02/Screenshot-2026-02-18-at-18.22.27-1.png
END:VEVENT
BEGIN:VEVENT
DTSTART;TZID=Europe/London:20260319T230000
DTEND;TZID=Europe/London:20260320T020000
DTSTAMP:20260421T101916
CREATED:20241125T225609Z
LAST-MODIFIED:20250513T204235Z
UID:10001897-1773961200-1773972000@www.nicensleazy.com
SUMMARY:TRAD THURSDAYS
DESCRIPTION:11PM-2AM EVERY THURSDAY \nBrought to you by our resident Trad band! \nAn assortment of knee-slapping traditional Scottish music\, with a few covers here and there. \nCome along just to listen\, or feel free to play – all are welcome to the session!
URL:https://www.nicensleazy.com/event/trad-thursdays-62/2026-03-19
CATEGORIES:Bar,Gig
ATTACH;FMTTYPE=image/png:https://www.nicensleazy.com/wp-content/uploads/2024/11/Screenshot-2025-05-13-at-21.38.54.png
END:VEVENT
BEGIN:VEVENT
DTSTART;TZID=Europe/London:20260320T193000
DTEND;TZID=Europe/London:20260320T230000
DTSTAMP:20260421T101917
CREATED:20260218T184117Z
LAST-MODIFIED:20260220T213113Z
UID:10005381-1774035000-1774047600@www.nicensleazy.com
SUMMARY:GIG - RAT HOLE
DESCRIPTION:Rat Hole is coming to town alongside lovely local supports Aftershocks and Thrown Away!
URL:https://www.nicensleazy.com/event/gig-rat-hole
CATEGORIES:Basement,Gig
ATTACH;FMTTYPE=image/png:https://www.nicensleazy.com/wp-content/uploads/2026/02/Glasgow-Poster-1.png
END:VEVENT
BEGIN:VEVENT
DTSTART;TZID=Europe/London:20260320T193000
DTEND;TZID=Europe/London:20260320T230000
DTSTAMP:20260421T101917
CREATED:20260218T185723Z
LAST-MODIFIED:20260220T213524Z
UID:10005382-1774035000-1774047600@www.nicensleazy.com
SUMMARY:GIG - THE BREATHING METHOD
DESCRIPTION:The Breathing Method bring their intense\, genre-blurring sound to Nice n Sleazy for a night of raw energy and immersive live music. Known for fusing driving rhythms with dark\, dynamic textures\, the band promise a set that hits hard and stays with you long after the last note. \nJoining them are Newcastle noise merchants Ruled By Raptors\, delivering thunderous\, chaotic power\, plus local lads The Musicians of Bremen\, kicking off the night with their own unmistakable edge. \nExpect volume. Expect sweat. Expect a proper Glasgow show. \n  \n 
URL:https://www.nicensleazy.com/event/gig-the-breathing-method
CATEGORIES:Basement,Gig
ATTACH;FMTTYPE=application/pdf:https://www.nicensleazy.com/wp-content/uploads/2026/02/TBM-March-Banner.pdf
END:VEVENT
BEGIN:VEVENT
DTSTART;TZID=Europe/London:20260321T140000
DTEND;TZID=Europe/London:20260321T223000
DTSTAMP:20260421T101917
CREATED:20260223T115819Z
LAST-MODIFIED:20260226T200052Z
UID:10005385-1774101600-1774132200@www.nicensleazy.com
SUMMARY:GIG - RIPCORD FEST
DESCRIPTION:Doors : 2.00pm \nOver 18s Only \nRipcord Records presents: Ripcord Fest – a day of post-rock and post-metal with Hundred Year Old Man\, Codespeaker\, Indifferent Engine\, Beneath A Steel Sky\, Million Moons\, Helve\, Civil Service\, Solars\, and Wolves.
URL:https://www.nicensleazy.com/event/ripcord-festival
CATEGORIES:Bar,Basement,Gig
ATTACH;FMTTYPE=image/png:https://www.nicensleazy.com/wp-content/uploads/2026/02/Screenshot-2026-02-23-at-11.54.13.png
END:VEVENT
BEGIN:VEVENT
DTSTART;TZID=Europe/London:20260321T190000
DTEND;TZID=Europe/London:20260321T230000
DTSTAMP:20260421T101917
CREATED:20260225T212009Z
LAST-MODIFIED:20260225T221244Z
UID:10005387-1774119600-1774134000@www.nicensleazy.com
SUMMARY:GIG- PAPERCUT PEACH + SUPPORT
DESCRIPTION:Support from Stuffed Animals & Juan Laforet. \nThis show is 18+
URL:https://www.nicensleazy.com/event/gig-papercut-peach-support
CATEGORIES:Bar,Gig
ATTACH;FMTTYPE=image/png:https://www.nicensleazy.com/wp-content/uploads/2026/02/Screenshot-2026-02-25-at-21.14.10-2.png
END:VEVENT
BEGIN:VEVENT
DTSTART;TZID=Europe/London:20260322T193000
DTEND;TZID=Europe/London:20260322T230000
DTSTAMP:20260421T101917
CREATED:20260226T202846Z
LAST-MODIFIED:20260226T202846Z
UID:10005388-1774207800-1774220400@www.nicensleazy.com
SUMMARY:GIG - SCREWDRIVER LOBOTOMY\, SLEPT ON\, ABYSMAL\, 12 GAUGE AUTOPSY\, GRIEVOUS BODILY HATE
DESCRIPTION:KINGS OF THE NORTH presents:\n\n\n“NORTHERN ASSAULT TOUR”\n\n\n\n16+ EVENT\, all U18s must be accompanied by a responsible adult.
URL:https://www.nicensleazy.com/event/gig-screwdriver-lobotomy-slept-on-abysmal-12-gauge-autopsy-grievous-bodily-hate
CATEGORIES:Basement,Gig
ATTACH;FMTTYPE=application/pdf:https://www.nicensleazy.com/wp-content/uploads/2026/02/Screenshot-2026-02-26-at-20.27.26.pdf
END:VEVENT
BEGIN:VEVENT
DTSTART;TZID=Europe/London:20260325T193000
DTEND;TZID=Europe/London:20260325T223000
DTSTAMP:20260421T101917
CREATED:20251215T124737Z
LAST-MODIFIED:20260226T203449Z
UID:10004976-1774467000-1774477800@www.nicensleazy.com
SUMMARY:GIG - GOON
DESCRIPTION:PCL PRESENTS: GOON \nGoon began in 2015 as singer and multi-instrumentalist\, Kenny Becker’s\, solo project\, releasing a compilation of his best home recordings\, the 2016 EP Dusk of Punk. With a full band in tow\, Goon released the band’s first full-length\, 2019’s Heaven is Humming on Partisan Records. Becker recruited a new band—Andy Polito on drums\, Dillon Peralta on guitar\, and Tamara Simons on bass—and recorded the self-released Paint By Numbers 1. A second LP\, Hour of Green Evening\, soon followed\, as well as another EP\, Red Ladder\, in 2022. To support Hour of Green Evening\, Goon hit the road hard\, touring and playing shows with Built to Spill\, Jadu Heart\, Slow Pulp\, Teethe\, Squirrel Flower\, and many others. In the midst of all this\, the band signed with Philadelphia label Born Losers and began recording their next LP with Claire Morison at Wild Horizon Sound in Los Angeles. Dream 3 melds the intimate\, lo-fi stylings of Goon with the live-band sound of Hour of Green Evening; a veteran band exploring every aspect of theirsound\, pushing themselves into new musical and emotional realms.
URL:https://www.nicensleazy.com/event/pcl-presents-goon
CATEGORIES:Basement,Gig
ATTACH;FMTTYPE=image/jpeg:https://www.nicensleazy.com/wp-content/uploads/2025/12/goon-170496642-300x300-1-1.jpg
END:VEVENT
BEGIN:VEVENT
DTSTART;TZID=Europe/London:20260326T193000
DTEND;TZID=Europe/London:20260326T230000
DTSTAMP:20260421T101917
CREATED:20260226T204111Z
LAST-MODIFIED:20260226T204111Z
UID:10005389-1774553400-1774566000@www.nicensleazy.com
SUMMARY:GIG - CASUAL DRAG + GROGG
DESCRIPTION:Casual Drag are hitting the road with brothers Grogg for a Scottish garage rock bonanza in March 🏴󠁧󠁢󠁳󠁣󠁴󠁿🍻 \nPlaying alongside them are Club Dumm + Duncecap \n18+
URL:https://www.nicensleazy.com/event/gig-casual-drag-grogg
CATEGORIES:Basement,Gig
ATTACH;FMTTYPE=application/pdf:https://www.nicensleazy.com/wp-content/uploads/2026/02/Screenshot-2026-02-26-at-20.40.06.pdf
END:VEVENT
BEGIN:VEVENT
DTSTART;TZID=Europe/London:20260326T230000
DTEND;TZID=Europe/London:20260327T020000
DTSTAMP:20260421T101917
CREATED:20241125T225609Z
LAST-MODIFIED:20250513T204235Z
UID:10001898-1774566000-1774576800@www.nicensleazy.com
SUMMARY:TRAD THURSDAYS
DESCRIPTION:11PM-2AM EVERY THURSDAY \nBrought to you by our resident Trad band! \nAn assortment of knee-slapping traditional Scottish music\, with a few covers here and there. \nCome along just to listen\, or feel free to play – all are welcome to the session!
URL:https://www.nicensleazy.com/event/trad-thursdays-62/2026-03-26
CATEGORIES:Bar,Gig
ATTACH;FMTTYPE=image/png:https://www.nicensleazy.com/wp-content/uploads/2024/11/Screenshot-2025-05-13-at-21.38.54.png
END:VEVENT
BEGIN:VEVENT
DTSTART;TZID=Europe/London:20260327T180000
DTEND;TZID=Europe/London:20260327T220000
DTSTAMP:20260421T101917
CREATED:20260226T204621Z
LAST-MODIFIED:20260226T204621Z
UID:10005390-1774634400-1774648800@www.nicensleazy.com
SUMMARY:GIG - TOO RED
DESCRIPTION:Too Red will headline Nice n Sleazy in celebration of the release of their brand new EP. \nWith Support from Ruby Cherry + Amy Louise! \n16+\, all U18s must be accompanied by a responsible adult.
URL:https://www.nicensleazy.com/event/gig-too-red
CATEGORIES:Bar,Gig
ATTACH;FMTTYPE=application/pdf:https://www.nicensleazy.com/wp-content/uploads/2026/02/unnamed.pdf
END:VEVENT
BEGIN:VEVENT
DTSTART;TZID=Europe/London:20260327T190000
DTEND;TZID=Europe/London:20260327T230000
DTSTAMP:20260421T101917
CREATED:20260226T205101Z
LAST-MODIFIED:20260226T205101Z
UID:10005391-1774638000-1774652400@www.nicensleazy.com
SUMMARY:GIG - AVENUE STREET + THE FALLS + SKUM + FLAIR
DESCRIPTION:Avenue Street are back! \nThey return for their first headline of 2026 as they gear up for what is set to be an incredible year. This event comes on the back of a standout 2025 and their loyal and new fans alike are invited to come out in numbers once again to make the night eventful. \nKnown for their energetic and memorable stage performances – Avenue Street really are Glasgow’s must see act.
URL:https://www.nicensleazy.com/event/gig-avenue-street-the-falls-skum-flair
CATEGORIES:Bar,Gig
ATTACH;FMTTYPE=application/pdf:https://www.nicensleazy.com/wp-content/uploads/2026/02/Screenshot-2026-02-26-at-20.49.08.pdf
END:VEVENT
BEGIN:VEVENT
DTSTART;TZID=Europe/London:20260328T130000
DTEND;TZID=Europe/London:20260328T140000
DTSTAMP:20260421T101917
CREATED:20260226T211136Z
LAST-MODIFIED:20260226T211136Z
UID:10005393-1774702800-1774706400@www.nicensleazy.com
SUMMARY:COMEDY - 4 FUNNY GUYS
DESCRIPTION:Tam Anderson\, Jack Crosby\, Gordon Keane and Stevie Wicks take the stage for an afternoon of comedy in Nice N Sleazy. \nFree entry. \n16+ event\, all U18s must be accompanied by a responsible adult.
URL:https://www.nicensleazy.com/event/comedy-4-funny-guys
CATEGORIES:Basement,Gig
END:VEVENT
BEGIN:VEVENT
DTSTART;TZID=Europe/London:20260328T150000
DTEND;TZID=Europe/London:20260328T160000
DTSTAMP:20260421T101917
CREATED:20260226T211439Z
LAST-MODIFIED:20260226T211439Z
UID:10005394-1774710000-1774713600@www.nicensleazy.com
SUMMARY:COMEDY - ALL YOUR EZZ IN ONE BASKET
DESCRIPTION:All Your Ezz In One Basket is a fast\, chaotic hour of stand-up at the legendary Nice n Sleazy. \nHosted by Ezz\, the show brings together four very different comedic voices for non-stop gags and sharply contrasted styles. \nExpect absurdism from Calum Frost (BBC New Comedy Awards)\, conversational bite from Ezz and Olivia Hall (a Glasgow scene staple)\, and raw comic force from Fudgie McFadden (the Blackfriars powerhouse behind open mics and the infamous gong show). \n18+ EVENT.
URL:https://www.nicensleazy.com/event/comedy-all-your-ezz-in-one-basket
CATEGORIES:Basement,Gig
END:VEVENT
END:VCALENDAR