BEGIN:VCALENDAR
VERSION:2.0
PRODID:-//NiceNSleazy - ECPv6.15.20//NONSGML v1.0//EN
CALSCALE:GREGORIAN
METHOD:PUBLISH
X-ORIGINAL-URL:https://www.nicensleazy.com
X-WR-CALDESC:Events for NiceNSleazy
REFRESH-INTERVAL;VALUE=DURATION:PT1H
X-Robots-Tag:noindex
X-PUBLISHED-TTL:PT1H
BEGIN:VTIMEZONE
TZID:Europe/London
BEGIN:DAYLIGHT
TZOFFSETFROM:+0000
TZOFFSETTO:+0100
TZNAME:BST
DTSTART:20250330T010000
END:DAYLIGHT
BEGIN:STANDARD
TZOFFSETFROM:+0100
TZOFFSETTO:+0000
TZNAME:GMT
DTSTART:20251026T010000
END:STANDARD
BEGIN:DAYLIGHT
TZOFFSETFROM:+0000
TZOFFSETTO:+0100
TZNAME:BST
DTSTART:20260329T010000
END:DAYLIGHT
BEGIN:STANDARD
TZOFFSETFROM:+0100
TZOFFSETTO:+0000
TZNAME:GMT
DTSTART:20261025T010000
END:STANDARD
BEGIN:DAYLIGHT
TZOFFSETFROM:+0000
TZOFFSETTO:+0100
TZNAME:BST
DTSTART:20270328T010000
END:DAYLIGHT
BEGIN:STANDARD
TZOFFSETFROM:+0100
TZOFFSETTO:+0000
TZNAME:GMT
DTSTART:20271031T010000
END:STANDARD
END:VTIMEZONE
BEGIN:VEVENT
DTSTART;TZID=Europe/London:20260116T190000
DTEND;TZID=Europe/London:20260116T230000
DTSTAMP:20260421T011748
CREATED:20251227T201405Z
LAST-MODIFIED:20251227T203101Z
UID:10005050-1768590000-1768604400@www.nicensleazy.com
SUMMARY:GIG: THE LOCAL
DESCRIPTION:RCMS PRESENTS: The Local\, supported by Klozer\, The Goodtrips and Lucas H. \n16+\, U18s must be accompanied by an adult.
URL:https://www.nicensleazy.com/event/gig-the-local
CATEGORIES:Basement,Gig
ATTACH;FMTTYPE=application/pdf:https://www.nicensleazy.com/wp-content/uploads/2025/12/Screenshot-2025-12-27-at-20.09.47.pdf
END:VEVENT
BEGIN:VEVENT
DTSTART;TZID=Europe/London:20260117T190000
DTEND;TZID=Europe/London:20260117T223000
DTSTAMP:20260421T011748
CREATED:20260102T204107Z
LAST-MODIFIED:20260102T204127Z
UID:10005061-1768676400-1768689000@www.nicensleazy.com
SUMMARY:GIG UPSTAIRS: THE SECOND WORLD WAR + HALFHEAD
DESCRIPTION:The Second World War are allured back to Glasgow. \nJoin them alongside local punk legends HALFHEAD for a night of madness. \nAdditional support TBA\, watch this space! \n 
URL:https://www.nicensleazy.com/event/gig-the-second-world-war-halfhead
CATEGORIES:Basement,Gig
ATTACH;FMTTYPE=application/pdf:https://www.nicensleazy.com/wp-content/uploads/2026/01/Screenshot-2026-01-02-at-20.36.37.pdf
END:VEVENT
BEGIN:VEVENT
DTSTART;TZID=Europe/London:20260119T193000
DTEND;TZID=Europe/London:20260119T230000
DTSTAMP:20260421T011748
CREATED:20251227T221208Z
LAST-MODIFIED:20251227T221208Z
UID:10005055-1768851000-1768863600@www.nicensleazy.com
SUMMARY:COMEDY GIG: PLEASE LAUGH
DESCRIPTION:Please Laugh – a comedy night at Nice n Sleazy hosted by Caitlin Connor. \nFull line-up TBA soon…
URL:https://www.nicensleazy.com/event/comedy-gig-please-laugh
CATEGORIES:Basement,Gig
END:VEVENT
BEGIN:VEVENT
DTSTART;TZID=Europe/London:20260122T230000
DTEND;TZID=Europe/London:20260123T020000
DTSTAMP:20260421T011748
CREATED:20241125T225609Z
LAST-MODIFIED:20250513T204235Z
UID:10001889-1769122800-1769133600@www.nicensleazy.com
SUMMARY:TRAD THURSDAYS
DESCRIPTION:11PM-2AM EVERY THURSDAY \nBrought to you by our resident Trad band! \nAn assortment of knee-slapping traditional Scottish music\, with a few covers here and there. \nCome along just to listen\, or feel free to play – all are welcome to the session!
URL:https://www.nicensleazy.com/event/trad-thursdays-62/2026-01-22
CATEGORIES:Bar,Gig
ATTACH;FMTTYPE=image/png:https://www.nicensleazy.com/wp-content/uploads/2024/11/Screenshot-2025-05-13-at-21.38.54.png
END:VEVENT
BEGIN:VEVENT
DTSTART;TZID=Europe/London:20260124T193000
DTEND;TZID=Europe/London:20260124T230000
DTSTAMP:20260421T011748
CREATED:20260102T212159Z
LAST-MODIFIED:20260102T212159Z
UID:10005064-1769283000-1769295600@www.nicensleazy.com
SUMMARY:GIG: A DOSE OF DEATH + KING NOBODY + THE VIOLENT POLITE
DESCRIPTION:A Dose of Death invites you to a night of serial killers and savage metal with King Nobody and The Violent Polite. \nLoud. Dark. Relentless. \n 
URL:https://www.nicensleazy.com/event/gig-a-dose-of-death-king-nobody-the-violent-polite
CATEGORIES:Basement,Gig
ATTACH;FMTTYPE=application/pdf:https://www.nicensleazy.com/wp-content/uploads/2026/01/Screenshot-2026-01-02-at-21.21.04.pdf
END:VEVENT
BEGIN:VEVENT
DTSTART;TZID=Europe/London:20260129T193000
DTEND;TZID=Europe/London:20260129T223000
DTSTAMP:20260421T011748
CREATED:20251215T122738Z
LAST-MODIFIED:20251215T122738Z
UID:10004970-1769715000-1769725800@www.nicensleazy.com
SUMMARY:PCL Presents: Oslo Twins
DESCRIPTION:https://pclpresents.seetickets.com/event/oslo-twins/nice-n-sleazy/3520385
URL:https://www.nicensleazy.com/event/pcl-presents-oslo-twins
CATEGORIES:Basement,Gig
END:VEVENT
BEGIN:VEVENT
DTSTART;TZID=Europe/London:20260129T230000
DTEND;TZID=Europe/London:20260130T020000
DTSTAMP:20260421T011748
CREATED:20241125T225609Z
LAST-MODIFIED:20250513T204235Z
UID:10001890-1769727600-1769738400@www.nicensleazy.com
SUMMARY:TRAD THURSDAYS
DESCRIPTION:11PM-2AM EVERY THURSDAY \nBrought to you by our resident Trad band! \nAn assortment of knee-slapping traditional Scottish music\, with a few covers here and there. \nCome along just to listen\, or feel free to play – all are welcome to the session!
URL:https://www.nicensleazy.com/event/trad-thursdays-62/2026-01-29
CATEGORIES:Bar,Gig
ATTACH;FMTTYPE=image/png:https://www.nicensleazy.com/wp-content/uploads/2024/11/Screenshot-2025-05-13-at-21.38.54.png
END:VEVENT
BEGIN:VEVENT
DTSTART;TZID=Europe/London:20260131T193000
DTEND;TZID=Europe/London:20260131T223000
DTSTAMP:20260421T011748
CREATED:20251215T124200Z
LAST-MODIFIED:20251215T124200Z
UID:10004972-1769887800-1769898600@www.nicensleazy.com
SUMMARY:PCL Presents: Jerkclub
DESCRIPTION:https://pclpresents.seetickets.com/event/jerkcurb/nice-n-sleazy/3507899
URL:https://www.nicensleazy.com/event/pcl-presents-jerkclub
CATEGORIES:Basement,Gig
END:VEVENT
BEGIN:VEVENT
DTSTART;TZID=Europe/London:20260201T170000
DTEND;TZID=Europe/London:20260201T200000
DTSTAMP:20260421T011748
CREATED:20260127T211307Z
LAST-MODIFIED:20260127T211527Z
UID:10005082-1769965200-1769976000@www.nicensleazy.com
SUMMARY:WAVELENGTH - CDJ OPEN DECKS
DESCRIPTION:Calling the queers\, the gays\, the them’s and they’s!! \nDo you fancy trying your hand at DJing? Or already DJ and want to get your name out there? Would you like to meet like minded people in a safe space at one of Glasgow’s most renowned venues? \nIf so\, come and pay us a visit at NNS on Sunday 1st of Feb for our first open decks event. \nJust turn up\, put your name down and blast whatever tunes you want. \nWe will be starting with 20 minute slots for the launch but depending on how busy we are we may increase set times to allow people more time. \nThis event is open to everyone\, however women and LGBTQIA + will be given priority to DJ\, we will try to make it as fair as possible for everyone. \nWe look forward to seeing your gorgeous selves!
URL:https://www.nicensleazy.com/event/wavelength-open-decks
CATEGORIES:Bar,Gig
ATTACH;FMTTYPE=application/pdf:https://www.nicensleazy.com/wp-content/uploads/2026/01/Screenshot-2026-01-27-at-21.10.45.pdf
END:VEVENT
BEGIN:VEVENT
DTSTART;TZID=Europe/London:20260202T200000
DTEND;TZID=Europe/London:20260202T230000
DTSTAMP:20260421T011748
CREATED:20241125T200533Z
LAST-MODIFIED:20250514T023452Z
UID:10001518-1770062400-1770073200@www.nicensleazy.com
SUMMARY:OPEN MIC NIGHT WITH GERRY LYONS
DESCRIPTION:Come sing a tune at the longest running Open Mic Night\, going 27 years strong x \nFirst Monday of every month\, 8pm-11pm!\nEveryone welcome\, to perform or just to revel in the talent!
URL:https://www.nicensleazy.com/event/open-mic-night-with-gerry-lyons/2026-02-02
CATEGORIES:Basement,Gig
ATTACH;FMTTYPE=image/png:https://www.nicensleazy.com/wp-content/uploads/2024/11/Screenshot-2025-05-14-at-03.32.04.png
LOCATION:
END:VEVENT
BEGIN:VEVENT
DTSTART;TZID=Europe/London:20260205T230000
DTEND;TZID=Europe/London:20260206T020000
DTSTAMP:20260421T011748
CREATED:20241125T225609Z
LAST-MODIFIED:20250513T204235Z
UID:10001891-1770332400-1770343200@www.nicensleazy.com
SUMMARY:TRAD THURSDAYS
DESCRIPTION:11PM-2AM EVERY THURSDAY \nBrought to you by our resident Trad band! \nAn assortment of knee-slapping traditional Scottish music\, with a few covers here and there. \nCome along just to listen\, or feel free to play – all are welcome to the session!
URL:https://www.nicensleazy.com/event/trad-thursdays-62/2026-02-05
CATEGORIES:Bar,Gig
ATTACH;FMTTYPE=image/png:https://www.nicensleazy.com/wp-content/uploads/2024/11/Screenshot-2025-05-13-at-21.38.54.png
END:VEVENT
BEGIN:VEVENT
DTSTART;TZID=Europe/London:20260206T183000
DTEND;TZID=Europe/London:20260206T220000
DTSTAMP:20260421T011748
CREATED:20260126T183813Z
LAST-MODIFIED:20260127T211730Z
UID:10005071-1770402600-1770415200@www.nicensleazy.com
SUMMARY:GIG - SOAKED GLASGOW
DESCRIPTION:Fun\, energetic and being likened to legends such as Arctic Monkeys. \nGet your tickets to see Soaked at Nice N Sleazys on the 6th of February now! \n16+\, U18s must be accompanied by a responsible adult.
URL:https://www.nicensleazy.com/event/gig-soaked-glasgow
CATEGORIES:Basement,Gig
ATTACH;FMTTYPE=application/pdf:https://www.nicensleazy.com/wp-content/uploads/2026/01/Screenshot-2026-01-26-at-18.35.48.pdf
END:VEVENT
BEGIN:VEVENT
DTSTART;TZID=Europe/London:20260207T190000
DTEND;TZID=Europe/London:20260207T220000
DTSTAMP:20260421T011748
CREATED:20260126T184746Z
LAST-MODIFIED:20260126T184746Z
UID:10005073-1770490800-1770501600@www.nicensleazy.com
SUMMARY:UPSTAIRS GIG - THE WEEKENDER
DESCRIPTION:The Weekender – a new live music showcase featuring some of the top emerging talent from Glasgow & surrounding areas across 6 shows running from Friday 6th – Saturday 7th February\, with the act who sells the most tickets across the 2 days set to receive a £1000 bonus on top of their gig fee. \nThis event will feature Ann Para\, David.C\, FLU? & Han Shot First. \n18+
URL:https://www.nicensleazy.com/event/upstairs-gig-the-weekender
CATEGORIES:Bar,Gig
ATTACH;FMTTYPE=application/pdf:https://www.nicensleazy.com/wp-content/uploads/2026/01/Screenshot-2026-01-26-at-18.46.47.pdf
END:VEVENT
BEGIN:VEVENT
DTSTART;TZID=Europe/London:20260207T190000
DTEND;TZID=Europe/London:20260207T230000
DTSTAMP:20260421T011748
CREATED:20260126T184347Z
LAST-MODIFIED:20260126T184347Z
UID:10005072-1770490800-1770505200@www.nicensleazy.com
SUMMARY:GIG - WE FUNKY FEW + GRACIOUS + FRANK'S HOUSE + ASCHARI
DESCRIPTION:Slay sessions returns to Sleazys with a stacked line-up! \nJazz/Funk/Alt/Rock combo \n18+
URL:https://www.nicensleazy.com/event/gig-we-funky-few-gracious-franks-house-aschari
CATEGORIES:Basement,Gig
ATTACH;FMTTYPE=application/pdf:https://www.nicensleazy.com/wp-content/uploads/2026/01/Screenshot-2026-01-26-at-18.40.21.pdf
END:VEVENT
BEGIN:VEVENT
DTSTART;TZID=Europe/London:20260212T193000
DTEND;TZID=Europe/London:20260212T230000
DTSTAMP:20260421T011748
CREATED:20260126T190124Z
LAST-MODIFIED:20260126T190124Z
UID:10005074-1770924600-1770937200@www.nicensleazy.com
SUMMARY:GIG - NIGHT FLIGHT
DESCRIPTION:DHP Presents: NIGHT FLIGHT \nThere’s a nocturnal compulsion to Exit Stage Left\, the new release from Sam Holmes and Harry Phillips’s indie folk band-turned-duo Night Flight. Ethereal\, nostalgic\, and melancholic\, too\, the album hovers in the liminal spaces between happy and sad\, memory and presence\, the songs’ storied origins and the ear of the listener\, in this moment\, here and now. \nSee them at NNS on the 12th of February \n18+
URL:https://www.nicensleazy.com/event/gig-night-flight
CATEGORIES:Basement,Gig
ATTACH;FMTTYPE=application/pdf:https://www.nicensleazy.com/wp-content/uploads/2026/01/Screenshot-2026-01-26-at-19.00.58.pdf
END:VEVENT
BEGIN:VEVENT
DTSTART;TZID=Europe/London:20260212T230000
DTEND;TZID=Europe/London:20260213T020000
DTSTAMP:20260421T011748
CREATED:20241125T225609Z
LAST-MODIFIED:20250513T204235Z
UID:10001892-1770937200-1770948000@www.nicensleazy.com
SUMMARY:TRAD THURSDAYS
DESCRIPTION:11PM-2AM EVERY THURSDAY \nBrought to you by our resident Trad band! \nAn assortment of knee-slapping traditional Scottish music\, with a few covers here and there. \nCome along just to listen\, or feel free to play – all are welcome to the session!
URL:https://www.nicensleazy.com/event/trad-thursdays-62/2026-02-12
CATEGORIES:Bar,Gig
ATTACH;FMTTYPE=image/png:https://www.nicensleazy.com/wp-content/uploads/2024/11/Screenshot-2025-05-13-at-21.38.54.png
END:VEVENT
BEGIN:VEVENT
DTSTART;TZID=Europe/London:20260213T193000
DTEND;TZID=Europe/London:20260213T223000
DTSTAMP:20260421T011748
CREATED:20260127T212255Z
LAST-MODIFIED:20260127T212255Z
UID:10005347-1771011000-1771021800@www.nicensleazy.com
SUMMARY:VEE IS FOR VALENTINE - HELLAVERSE THEMED PARTY
DESCRIPTION:Are you ready\, amorcitos? \nThe Vees welcome all sinners to come join them for a Valentine’s Day celebration! Whether you’re flying solo or coming with a partner (or two or three–we don’t judge)\, it will be a night to remember! Maybe you’ll leave with someone(s) special\, who knows where your heart will lead you. \nWhile this is a Hellaverse themed party\, we encourage any and all types of nerdy guests to come through and see what we’re about. The entertainment will be generalised enough to where anyone can enjoy themselves. \nThere will be dancing\, games\, cosplay\, cocktails\, and performances. There will even be chances to win prizes! So don’t miss out!
URL:https://www.nicensleazy.com/event/vee-is-for-valentine-hellaverse-themed-party
CATEGORIES:Basement,Gig
ATTACH;FMTTYPE=application/pdf:https://www.nicensleazy.com/wp-content/uploads/2026/01/Screenshot-2026-01-27-at-21.20.10.pdf
END:VEVENT
BEGIN:VEVENT
DTSTART;TZID=Europe/London:20260215T193000
DTEND;TZID=Europe/London:20260215T223000
DTSTAMP:20260421T011748
CREATED:20251215T124339Z
LAST-MODIFIED:20260127T212929Z
UID:10004973-1771183800-1771194600@www.nicensleazy.com
SUMMARY:GIG - BASS DRUM OF DEATH
DESCRIPTION:PCL Presents: Bass Drum of Death… \n16+ event\, U18s must be accompanied by a responsible adult. \nFrom the bare-bones title of their sixth record—SIX—to the writing approach—their first two LPs were recorded entirely on GarageBand—the creative process for the group is strikingly similar to the early stages of their career. \nWhile the new album marks a return to their original recording method\, there are a few\nnotable changes. Instead of working solo on the demos\, frontman John Barrett and the band\n(Jim Barrett\, guitar; Ian Kirkpatrick\, drums) convened for several sessions in Barrett’s home\nstudio in Nashville to bring the songs to life. Manning the faders was producer Jeremy\nFerguson (Cage the Elephant\, White Reaper)\, who then hosted the band for ten snowy days of\nfine tuning at his Battle Tapes studio. \nThe result is a scuzzy blast of their signature sound\, with influences ranging from The Stooges to ZZ Top and very much aided by Ferguson’s deft engineering touch. If SIX sounds like a return to form\, the band proves they still have a few tricks in their pockets and things up their sleeves. \n 
URL:https://www.nicensleazy.com/event/pcl-presents-bass-drum-of-death
CATEGORIES:Basement,Gig
ATTACH;FMTTYPE=image/jpeg:https://www.nicensleazy.com/wp-content/uploads/2025/12/bass-drum-of-death-452478665-300x300-1-1.jpg
END:VEVENT
BEGIN:VEVENT
DTSTART;TZID=Europe/London:20260219T180000
DTEND;TZID=Europe/London:20260219T220000
DTSTAMP:20260421T011748
CREATED:20260127T215254Z
LAST-MODIFIED:20260127T215254Z
UID:10005349-1771524000-1771538400@www.nicensleazy.com
SUMMARY:GIG UPSTAIRS - BLACK GROOVE + AVL + ACID REFLUX
DESCRIPTION:UK sludgers Black Groove roll into Sleazys with Acid Reflux and AVL for a floorboard-rattling rager on Sauchiehall Street on Thu 19 Feb. \n18+
URL:https://www.nicensleazy.com/event/gig-upstairs-black-groove-avl-acid-reflux
CATEGORIES:Bar,Gig
ATTACH;FMTTYPE=application/pdf:https://www.nicensleazy.com/wp-content/uploads/2026/01/Screenshot-2026-01-27-at-21.42.42.pdf
END:VEVENT
BEGIN:VEVENT
DTSTART;TZID=Europe/London:20260219T230000
DTEND;TZID=Europe/London:20260220T020000
DTSTAMP:20260421T011748
CREATED:20241125T225609Z
LAST-MODIFIED:20250513T204235Z
UID:10001893-1771542000-1771552800@www.nicensleazy.com
SUMMARY:TRAD THURSDAYS
DESCRIPTION:11PM-2AM EVERY THURSDAY \nBrought to you by our resident Trad band! \nAn assortment of knee-slapping traditional Scottish music\, with a few covers here and there. \nCome along just to listen\, or feel free to play – all are welcome to the session!
URL:https://www.nicensleazy.com/event/trad-thursdays-62/2026-02-19
CATEGORIES:Bar,Gig
ATTACH;FMTTYPE=image/png:https://www.nicensleazy.com/wp-content/uploads/2024/11/Screenshot-2025-05-13-at-21.38.54.png
END:VEVENT
BEGIN:VEVENT
DTSTART;TZID=Europe/London:20260223T180000
DTEND;TZID=Europe/London:20260223T210000
DTSTAMP:20260421T011748
CREATED:20260127T221416Z
LAST-MODIFIED:20260127T221416Z
UID:10005351-1771869600-1771880400@www.nicensleazy.com
SUMMARY:GIG - THE GLASGOW ILIAD
DESCRIPTION:Join The Glasgow Iliad for an acoustic show at Nice N Sleazy\, performing their repitoire and songs from the album\, When I Was Your Age.
URL:https://www.nicensleazy.com/event/gig-the-glasgow-iliad
CATEGORIES:Basement,Gig
ATTACH;FMTTYPE=application/pdf:https://www.nicensleazy.com/wp-content/uploads/2026/01/Screenshot-2026-01-27-at-22.13.32.pdf
END:VEVENT
BEGIN:VEVENT
DTSTART;TZID=Europe/London:20260224T193000
DTEND;TZID=Europe/London:20260224T230000
DTSTAMP:20260421T011748
CREATED:20260128T001805Z
LAST-MODIFIED:20260128T001805Z
UID:10005353-1771961400-1771974000@www.nicensleazy.com
SUMMARY:GIG - MORTAL REMAINS + GRIEF INCARNATE + FEINMHARU
DESCRIPTION:MORTAL REMAINS headline a night of Metal in the Sleazy’s basement \n18+\, tickets available OTD only.
URL:https://www.nicensleazy.com/event/gig-mortal-remains-grief-incarnate-feinmharu
CATEGORIES:Bar,Gig
ATTACH;FMTTYPE=application/pdf:https://www.nicensleazy.com/wp-content/uploads/2026/01/Screenshot-2026-01-27-at-22.15.24.pdf
END:VEVENT
BEGIN:VEVENT
DTSTART;TZID=Europe/London:20260226T190000
DTEND;TZID=Europe/London:20260226T230000
DTSTAMP:20260421T011748
CREATED:20260128T000856Z
LAST-MODIFIED:20260128T000856Z
UID:10005352-1772132400-1772146800@www.nicensleazy.com
SUMMARY:GIG - CONGRATULATIONS
DESCRIPTION:Congratulations will stop in NNS on the 26th of February on their tour for the launch of their new album\, Join Hands. \nA new pop powerhouse… Congratulations have hit on the epiphany that no indie band has previously channelled Prince\, at least not with this hot\, impulsive conviction… \nThey’re so up for it they make Confidence Man sound like Tindersticks… \nThe beaming bravado will win you over\, as will the sheer energy. \n 
URL:https://www.nicensleazy.com/event/gig-congratulations
CATEGORIES:Basement,Gig
ATTACH;FMTTYPE=application/pdf:https://www.nicensleazy.com/wp-content/uploads/2026/01/Screenshot-2026-01-27-at-23.57.44.pdf
END:VEVENT
BEGIN:VEVENT
DTSTART;TZID=Europe/London:20260226T230000
DTEND;TZID=Europe/London:20260227T020000
DTSTAMP:20260421T011748
CREATED:20241125T225609Z
LAST-MODIFIED:20250513T204235Z
UID:10001894-1772146800-1772157600@www.nicensleazy.com
SUMMARY:TRAD THURSDAYS
DESCRIPTION:11PM-2AM EVERY THURSDAY \nBrought to you by our resident Trad band! \nAn assortment of knee-slapping traditional Scottish music\, with a few covers here and there. \nCome along just to listen\, or feel free to play – all are welcome to the session!
URL:https://www.nicensleazy.com/event/trad-thursdays-62/2026-02-26
CATEGORIES:Bar,Gig
ATTACH;FMTTYPE=image/png:https://www.nicensleazy.com/wp-content/uploads/2024/11/Screenshot-2025-05-13-at-21.38.54.png
END:VEVENT
BEGIN:VEVENT
DTSTART;TZID=Europe/London:20260227T193000
DTEND;TZID=Europe/London:20260227T223000
DTSTAMP:20260421T011748
CREATED:20251215T114913Z
LAST-MODIFIED:20260127T235549Z
UID:10004964-1772220600-1772231400@www.nicensleazy.com
SUMMARY:GIG - TVAM + MARINA ZISPIN
DESCRIPTION:PCL PRESENTS: TVAM\n\nTVAM self-released his much-acclaimed debut Psychic Data in the autumn of 2018. Something of a cult-classic\, the album joined the dots between Suicide’s deconstructed rock ’n’ roll\, Boards of Canada’s irresistible nostalgia and My Bloody Valentine’s infinite noise. Psychic Data attained BBC 6Music ‘Album Of The Day’ whilst signature tune Porsche Majeure featured in HBO’s smash-hit ‘Succession’.\nReleased by Invada Records\, follow-up album High Art Lite took a different tilt to its predecessor by emphasising the immediate and the personal. The colours were blown-out and the brightness was cranked up. A heady mix of Black Mirror’s modern fables\, JG Ballard’s gated communities of sun-drenched wealth\, and Mulholland Drive’s boulevard of broken daydreams\, High Art Lite offered an all-inclusive package of redemption. \nNew single The Words released this November on Invada Records hints at a new chapter in TVAM\, embracing emotions in the darkness…
URL:https://www.nicensleazy.com/event/pcl-presents-tvam
CATEGORIES:Basement,Gig
ATTACH;FMTTYPE=image/png:https://www.nicensleazy.com/wp-content/uploads/2025/12/Screenshot-2025-12-15-at-11.47.56-240x300-1.png
END:VEVENT
BEGIN:VEVENT
DTSTART;TZID=Europe/London:20260228T180000
DTEND;TZID=Europe/London:20260228T220000
DTSTAMP:20260421T011748
CREATED:20260128T002802Z
LAST-MODIFIED:20260128T002802Z
UID:10005354-1772301600-1772316000@www.nicensleazy.com
SUMMARY:UPSTAIRS GIG - CREEPING JEAN
DESCRIPTION:Creeping Jean are the fast-rising Brighton indie-rock force bringing their fuzz-heavy\, hook-stacked sound to a new generation of young\, hip music lovers up and down the country. An international gang who’ve made their homes in Brighton\, Sheffield and London\, the band released their second album Business Is Dead to rave reviews last year\, doubling down this year with the Record Store Day limited-edition Clothes Shop 7-inch. Since then\, they’ve spent the past year tearing through sold-out rooms and turning heads everywhere they land. \nThey’ve toured with Rival Sons\, The Sheepdogs and These Wicked Rivers\, shared stages with Miles Kane and Tom Rowley (Arctic Monkeys)\, and recently set the 100 Club alight at a sold-out show that even drew Jimmy Page into the crowd. Page praised the band’s energy and chemistry\, a milestone moment for the young quintet. \nLed by singer-guitarist Olly Tooze\, Creeping Jean blend garage-rock grit\, vintage swagger and anthemic choruses built for sweaty clubs and big festival stages. With new music on the horizon and word spreading fast\, Creeping Jean are proving that rock’n’roll is alive\, loud and very much kicking (in flared vintage trousers).
URL:https://www.nicensleazy.com/event/upstairs-gig-creeping-jean
CATEGORIES:Bar,Gig
ATTACH;FMTTYPE=application/pdf:https://www.nicensleazy.com/wp-content/uploads/2026/01/Screenshot-2026-01-28-at-00.24.52.pdf
END:VEVENT
BEGIN:VEVENT
DTSTART;TZID=Europe/London:20260302T200000
DTEND;TZID=Europe/London:20260302T230000
DTSTAMP:20260421T011748
CREATED:20241125T200533Z
LAST-MODIFIED:20250514T023452Z
UID:10001519-1772481600-1772492400@www.nicensleazy.com
SUMMARY:OPEN MIC NIGHT WITH GERRY LYONS
DESCRIPTION:Come sing a tune at the longest running Open Mic Night\, going 27 years strong x \nFirst Monday of every month\, 8pm-11pm!\nEveryone welcome\, to perform or just to revel in the talent!
URL:https://www.nicensleazy.com/event/open-mic-night-with-gerry-lyons/2026-03-02
CATEGORIES:Basement,Gig
ATTACH;FMTTYPE=image/png:https://www.nicensleazy.com/wp-content/uploads/2024/11/Screenshot-2025-05-14-at-03.32.04.png
LOCATION:
END:VEVENT
BEGIN:VEVENT
DTSTART;TZID=Europe/London:20260305T203000
DTEND;TZID=Europe/London:20260305T220000
DTSTAMP:20260421T011748
CREATED:20260218T133741Z
LAST-MODIFIED:20260219T234836Z
UID:10005371-1772742600-1772748000@www.nicensleazy.com
SUMMARY:GIG - GEORGIA DAGAKI
DESCRIPTION:Georgia Dagaki stands out in the Greek music scene for the way she blends tradition\nwith modern influences. Her powerful voice and distinctive style have earned her the\nrespect of audiences across Crete and beyond. \nFor the past 20 years\, Georgia Dagaki has imprinted Greek music with her beloved\nCretan lyra and her songs. Those who know Georgia well also know that she is a\nmusician who never rests.
URL:https://www.nicensleazy.com/event/gig-georgia-dagaki
CATEGORIES:Basement,Gig
ATTACH;FMTTYPE=image/png:https://www.nicensleazy.com/wp-content/uploads/2026/02/DAGAKI-POST-SQUARE-TOUR-1.png
END:VEVENT
BEGIN:VEVENT
DTSTART;TZID=Europe/London:20260305T230000
DTEND;TZID=Europe/London:20260306T020000
DTSTAMP:20260421T011748
CREATED:20241125T225609Z
LAST-MODIFIED:20250513T204235Z
UID:10001895-1772751600-1772762400@www.nicensleazy.com
SUMMARY:TRAD THURSDAYS
DESCRIPTION:11PM-2AM EVERY THURSDAY \nBrought to you by our resident Trad band! \nAn assortment of knee-slapping traditional Scottish music\, with a few covers here and there. \nCome along just to listen\, or feel free to play – all are welcome to the session!
URL:https://www.nicensleazy.com/event/trad-thursdays-62/2026-03-05
CATEGORIES:Bar,Gig
ATTACH;FMTTYPE=image/png:https://www.nicensleazy.com/wp-content/uploads/2024/11/Screenshot-2025-05-13-at-21.38.54.png
END:VEVENT
BEGIN:VEVENT
DTSTART;TZID=Europe/London:20260306T180000
DTEND;TZID=Europe/London:20260306T220000
DTSTAMP:20260421T011748
CREATED:20260218T135447Z
LAST-MODIFIED:20260219T235522Z
UID:10005372-1772820000-1772834400@www.nicensleazy.com
SUMMARY:GIG - THE WEEKENDER DAY 1
DESCRIPTION:The Weekender – a new live music showcase featuring some of the top emerging talent from Glasgow & surrounding areas across 6 shows running from Friday 6th – Saturday 7th March\, with the act who sells the most tickets across the 2 days set to receive a £1000 bonus on top of their gig fee. \nThis event will feature Evyn\, Lewis Aird\, Ryan Brown\, Plus more TBA. \n 
URL:https://www.nicensleazy.com/event/gig-the-weekender-day-1
CATEGORIES:Bar,Gig
ATTACH;FMTTYPE=image/png:https://www.nicensleazy.com/wp-content/uploads/2026/02/Screenshot-2026-02-18-at-13.53.08.png
END:VEVENT
END:VCALENDAR