BEGIN:VCALENDAR
VERSION:2.0
PRODID:-//NiceNSleazy - ECPv6.15.20//NONSGML v1.0//EN
CALSCALE:GREGORIAN
METHOD:PUBLISH
X-WR-CALNAME:NiceNSleazy
X-ORIGINAL-URL:https://www.nicensleazy.com
X-WR-CALDESC:Events for NiceNSleazy
REFRESH-INTERVAL;VALUE=DURATION:PT1H
X-Robots-Tag:noindex
X-PUBLISHED-TTL:PT1H
BEGIN:VTIMEZONE
TZID:Europe/London
BEGIN:DAYLIGHT
TZOFFSETFROM:+0000
TZOFFSETTO:+0100
TZNAME:BST
DTSTART:20240331T010000
END:DAYLIGHT
BEGIN:STANDARD
TZOFFSETFROM:+0100
TZOFFSETTO:+0000
TZNAME:GMT
DTSTART:20241027T010000
END:STANDARD
BEGIN:DAYLIGHT
TZOFFSETFROM:+0000
TZOFFSETTO:+0100
TZNAME:BST
DTSTART:20250330T010000
END:DAYLIGHT
BEGIN:STANDARD
TZOFFSETFROM:+0100
TZOFFSETTO:+0000
TZNAME:GMT
DTSTART:20251026T010000
END:STANDARD
BEGIN:DAYLIGHT
TZOFFSETFROM:+0000
TZOFFSETTO:+0100
TZNAME:BST
DTSTART:20260329T010000
END:DAYLIGHT
BEGIN:STANDARD
TZOFFSETFROM:+0100
TZOFFSETTO:+0000
TZNAME:GMT
DTSTART:20261025T010000
END:STANDARD
END:VTIMEZONE
BEGIN:VEVENT
DTSTART;TZID=Europe/London:20250913T193000
DTEND;TZID=Europe/London:20250913T223000
DTSTAMP:20260420T174807
CREATED:20250910T130712Z
LAST-MODIFIED:20250910T130734Z
UID:10004246-1757791800-1757802600@www.nicensleazy.com
SUMMARY:DALMATIC + SUPPORT
DESCRIPTION:RCMS Presents…… Discola headline show at Glasgow’s Nice N Sleazy on 13th September 2025. Doors open 7\,30pm
URL:https://www.nicensleazy.com/event/dalmatic-support
CATEGORIES:Gig
ATTACH;FMTTYPE=image/png:https://www.nicensleazy.com/wp-content/uploads/2025/09/Screenshot-2025-09-10-at-14.05.22.png
END:VEVENT
BEGIN:VEVENT
DTSTART;TZID=Europe/London:20250916T190000
DTEND;TZID=Europe/London:20250916T230000
DTSTAMP:20260420T174807
CREATED:20250331T115146Z
LAST-MODIFIED:20250331T115146Z
UID:10002906-1758049200-1758063600@www.nicensleazy.com
SUMMARY:WILD THINGS + SUPPORT
DESCRIPTION:UK rock pop band The Wild Things are hitting the road to support their second album ‘Afterglow’! Having cut their teeth supporting The Who\, KISS and Pearl Jam\, they return for a triumphant run of headline shows. “The Wild Things are a fireball of energy and creativity” – Variety Magazine.
URL:https://www.nicensleazy.com/event/wild-things-support
CATEGORIES:Gig
ATTACH;FMTTYPE=image/png:https://www.nicensleazy.com/wp-content/uploads/2025/03/The-Wild-Things-Glasgow.png
END:VEVENT
BEGIN:VEVENT
DTSTART;TZID=Europe/London:20250917T193000
DTEND;TZID=Europe/London:20250917T230000
DTSTAMP:20260420T174807
CREATED:20250820T104321Z
LAST-MODIFIED:20250820T104758Z
UID:10004193-1758137400-1758150000@www.nicensleazy.com
SUMMARY:BASEMENT VENUE: M(h)aol + SUPPORT
DESCRIPTION:Feminist post-punk from Dublin\n16+
URL:https://www.nicensleazy.com/event/mhaol-support
CATEGORIES:Gig
ATTACH;FMTTYPE=image/png:https://www.nicensleazy.com/wp-content/uploads/2025/08/Mhaol-UK-25-Scotland.png
END:VEVENT
BEGIN:VEVENT
DTSTART;TZID=Europe/London:20250917T193000
DTEND;TZID=Europe/London:20250917T230000
DTSTAMP:20260420T174807
CREATED:20250820T104557Z
LAST-MODIFIED:20250820T105059Z
UID:10004194-1758137400-1758150000@www.nicensleazy.com
SUMMARY:BAR VENUE: Jehst + Support
DESCRIPTION:One of the UK’s most iconic Hip-Hop artists – Jehst – takes to the road this year or a full UK and Ireland tour and The Doctor’s Orders is proud to be a part of this exciting show. \nHaving been at the forefront the UK’s Hip-Hop scene for the past 20 years Jehst has been pushing the boundaries of his chosen art-form while providing the blueprint for countless sound-alikes\, Jehst’s sound has defined a generation. With a discography now stretching into triple figures his career has been typified by a restless creativity and side-projects galore. \nPerforming all the best loved tracks from his countless incredible albums\, singles\, mixtapes and features as well as music from his forthcoming album. This live show is sure to be another highlight of one of the most accomplished home-grown rap careers. \nAs an MC\, producer and driving force behind his own YNR label Jehst has asserted himself as possibly the most influential rapper to ever emerge from these shores and this September with our help he is reaching as much of his UK wide audience as possible!
URL:https://www.nicensleazy.com/event/jehst-support
CATEGORIES:Gig
ATTACH;FMTTYPE=image/png:https://www.nicensleazy.com/wp-content/uploads/2025/08/Screenshot-2025-08-20-at-11.44.11.png
END:VEVENT
BEGIN:VEVENT
DTSTART;TZID=Europe/London:20250918T193000
DTEND;TZID=Europe/London:20250918T230000
DTSTAMP:20260420T174807
CREATED:20250820T105018Z
LAST-MODIFIED:20250820T105040Z
UID:10004195-1758223800-1758236400@www.nicensleazy.com
SUMMARY:Oral Habit + Straid + Voitures
DESCRIPTION:Garage-punk from Brighton
URL:https://www.nicensleazy.com/event/oral-habit-straid-voitures
CATEGORIES:Gig
ATTACH;FMTTYPE=image/png:https://www.nicensleazy.com/wp-content/uploads/2025/08/Screenshot-2025-08-20-at-11.49.55.png
END:VEVENT
BEGIN:VEVENT
DTSTART;TZID=Europe/London:20250918T230000
DTEND;TZID=Europe/London:20250919T020000
DTSTAMP:20260420T174807
CREATED:20241125T225609Z
LAST-MODIFIED:20250513T204235Z
UID:10001871-1758236400-1758247200@www.nicensleazy.com
SUMMARY:TRAD THURSDAYS
DESCRIPTION:11PM-2AM EVERY THURSDAY \nBrought to you by our resident Trad band! \nAn assortment of knee-slapping traditional Scottish music\, with a few covers here and there. \nCome along just to listen\, or feel free to play – all are welcome to the session!
URL:https://www.nicensleazy.com/event/trad-thursdays-62/2025-09-18
CATEGORIES:Bar,Gig
ATTACH;FMTTYPE=image/png:https://www.nicensleazy.com/wp-content/uploads/2024/11/Screenshot-2025-05-13-at-21.38.54.png
END:VEVENT
BEGIN:VEVENT
DTSTART;TZID=Europe/London:20250919T193000
DTEND;TZID=Europe/London:20250919T230000
DTSTAMP:20260420T174807
CREATED:20250910T130416Z
LAST-MODIFIED:20250910T130548Z
UID:10004245-1758310200-1758322800@www.nicensleazy.com
SUMMARY:AGATHA FRISKY
DESCRIPTION:Get up close and personal with an interactive all in experience of raw\, risqué raunchy cabaret. Featuring an all star line-up of Scottish drag\, dance\, variety and drag. Seats are limited so come down early to get your spot in the splash zone!
URL:https://www.nicensleazy.com/event/5361
CATEGORIES:Gig
ATTACH;FMTTYPE=image/png:https://www.nicensleazy.com/wp-content/uploads/2025/09/Screenshot-2025-09-10-at-13.59.54.png
END:VEVENT
BEGIN:VEVENT
DTSTART;TZID=Europe/London:20250920T193000
DTEND;TZID=Europe/London:20250920T230000
DTSTAMP:20260420T174807
CREATED:20250830T134529Z
LAST-MODIFIED:20250830T134557Z
UID:10004241-1758396600-1758409200@www.nicensleazy.com
SUMMARY:QUEER THEORY - CABARET
DESCRIPTION:THE WORLD IS NOT ENOUGH\nSat 20 Sep @nicensleazy\nCabaret \n“We are criminal queer anarchists and this world is not and can never be enough for us. We want to annihilate bourgeois morality and make ruins of this world. We’re here to destroy what is destroying us. Let’s be speaking of revolt. We are tracing the lineage of our queer criminality and charting the demise of the social order.”\n‘Criminal Intimacy’ by a Gang of Criminal Queers\, 2011 \nCABARET 7.30-11\n🌹 @daddydelight_ drag king host\n🌹 @elisabethelektramusic ethereal femme pop singer/songwriter + band\n🌹 @ringu_.c alt r&b singer/songwriter\n🌹 @itsevaperoni comedian\n🌹 @nova.duh drag/ performance art\n🌹 @chardonnayemerald performance art\n🌹 @rossdmcfarlanepoetry
URL:https://www.nicensleazy.com/event/queer-theory-5
CATEGORIES:Basement,Gig
ATTACH;FMTTYPE=image/jpeg:https://www.nicensleazy.com/wp-content/uploads/2025/08/Screenshot-2025-08-30-at-14.42.35.jpeg
END:VEVENT
BEGIN:VEVENT
DTSTART;TZID=Europe/London:20250923T193000
DTEND;TZID=Europe/London:20250923T230000
DTSTAMP:20260420T174807
CREATED:20250922T193522Z
LAST-MODIFIED:20250922T194006Z
UID:10004276-1758655800-1758668400@www.nicensleazy.com
SUMMARY:MT CABARET - RCS
DESCRIPTION:
URL:https://www.nicensleazy.com/event/mt-cabaret-rcs
CATEGORIES:Basement,Gig
END:VEVENT
BEGIN:VEVENT
DTSTART;TZID=Europe/London:20250925T190000
DTEND;TZID=Europe/London:20250925T230000
DTSTAMP:20260420T174807
CREATED:20250820T112241Z
LAST-MODIFIED:20250820T112835Z
UID:10004196-1758826800-1758841200@www.nicensleazy.com
SUMMARY:BASEMENT VENUE: THE PILL + SUPPORT
DESCRIPTION:SIMPLY GIGGLING AT THE HURDLES OF LIFE. DRAWING FROM DIRE SITUATIONS\, LIKE YOUR SCAFFOLDER SEEING YOU NAKED\, AND THE WOES OF YOUR HAIR BEING TOO BLONDE. SPENDING THEIR TIME ON THE ISLE OF WIGHT\, THE PILL HAVE BEEN CREATING ICONIC ‘JANK’ PUNK MUSIC SINCE THE BEGINNING OF 2019\, AND WRITING TUNES THAT TALK ABOUT THE BIG ISSUES WITH A FUN SPRINKLE OF SATIRE. CONSISTING OF TWO GIRLIES\, LILY AND LOTTIE\, ON VOCALS\, GUITAR\, AND BASS\, AND RUFUS ON STICKS. THE PILL OFFERS AN INTENSE RELATABILITY\, AN EXTRAORDINARY ENERGY\, AND LOTS OF SUBJECTS THAT YOU WOULDN’T SHARE WITH YOUR DAD. GET IN GEAR FOR LOTS OF GIGGLES & WIGGLES WITH THE PILL.
URL:https://www.nicensleazy.com/event/basement-venue-the-pill-support
CATEGORIES:Gig
ATTACH;FMTTYPE=image/png:https://www.nicensleazy.com/wp-content/uploads/2025/08/Screenshot-2025-08-20-at-12.21.10.png
END:VEVENT
BEGIN:VEVENT
DTSTART;TZID=Europe/London:20250925T230000
DTEND;TZID=Europe/London:20250926T020000
DTSTAMP:20260420T174807
CREATED:20241125T225609Z
LAST-MODIFIED:20250513T204235Z
UID:10001872-1758841200-1758852000@www.nicensleazy.com
SUMMARY:TRAD THURSDAYS
DESCRIPTION:11PM-2AM EVERY THURSDAY \nBrought to you by our resident Trad band! \nAn assortment of knee-slapping traditional Scottish music\, with a few covers here and there. \nCome along just to listen\, or feel free to play – all are welcome to the session!
URL:https://www.nicensleazy.com/event/trad-thursdays-62/2025-09-25
CATEGORIES:Bar,Gig
ATTACH;FMTTYPE=image/png:https://www.nicensleazy.com/wp-content/uploads/2024/11/Screenshot-2025-05-13-at-21.38.54.png
END:VEVENT
BEGIN:VEVENT
DTSTART;TZID=Europe/London:20250926T073000
DTEND;TZID=Europe/London:20250926T230000
DTSTAMP:20260420T174807
CREATED:20250922T191144Z
LAST-MODIFIED:20250922T191144Z
UID:10004272-1758871800-1758927600@www.nicensleazy.com
SUMMARY:THE HAWFCUTS - BASEMENT VENUE
DESCRIPTION:THE HAWFCUTS\nVOIDS\nGUEST
URL:https://www.nicensleazy.com/event/the-hawfcuts-basement-venue
CATEGORIES:Basement,Gig
ATTACH;FMTTYPE=image/png:https://www.nicensleazy.com/wp-content/uploads/2025/09/Screenshot-2025-09-22-at-20.07.30.png
END:VEVENT
BEGIN:VEVENT
DTSTART;TZID=Europe/London:20250927T193000
DTEND;TZID=Europe/London:20250927T230000
DTSTAMP:20260420T174807
CREATED:20250305T172544Z
LAST-MODIFIED:20250305T172544Z
UID:10002868-1759001400-1759014000@www.nicensleazy.com
SUMMARY:PINS
DESCRIPTION:PINS are an all female five-piece-band from Manchester consisting of singer and guitarist Faith Holgate\, guitarist Lois McDonald\, bassist Anna Donigan\, drummer Sophie Galpin and Kyoko Swan (synths and guitar). They released their second album last summer and are currently touring in Europe.
URL:https://www.nicensleazy.com/event/pins
CATEGORIES:Gig
ATTACH;FMTTYPE=image/png:https://www.nicensleazy.com/wp-content/uploads/2025/03/PINS-Insta-Portait.png
END:VEVENT
BEGIN:VEVENT
DTSTART;TZID=Europe/London:20250930T193000
DTEND;TZID=Europe/London:20250930T223000
DTSTAMP:20260420T174807
CREATED:20250910T131209Z
LAST-MODIFIED:20250910T131258Z
UID:10004247-1759260600-1759271400@www.nicensleazy.com
SUMMARY:BROOKE ALEXX + SUPPORT
DESCRIPTION:Pop/Indie Pop\n16+
URL:https://www.nicensleazy.com/event/brooke-alexx-support
CATEGORIES:Gig
ATTACH;FMTTYPE=image/png:https://www.nicensleazy.com/wp-content/uploads/2025/09/Screenshot-2025-09-10-at-14.10.50.png
END:VEVENT
BEGIN:VEVENT
DTSTART;TZID=Europe/London:20251001T190000
DTEND;TZID=Europe/London:20251001T230000
DTSTAMP:20260420T174807
CREATED:20250916T153735Z
LAST-MODIFIED:20250916T153735Z
UID:10004256-1759345200-1759359600@www.nicensleazy.com
SUMMARY:CAGES FOR PREACHERS
DESCRIPTION:Grunge/metal from Nottingham
URL:https://www.nicensleazy.com/event/cages-for-preachers
CATEGORIES:Basement,Gig
ATTACH;FMTTYPE=image/avif:https://www.nicensleazy.com/wp-content/uploads/2025/09/2038519_ea81901d_cages-for-preachers-live-in-glasgow-_1024.avif
END:VEVENT
BEGIN:VEVENT
DTSTART;TZID=Europe/London:20251002T193000
DTEND;TZID=Europe/London:20251002T230000
DTSTAMP:20260420T174807
CREATED:20250922T191615Z
LAST-MODIFIED:20250922T191615Z
UID:10004273-1759433400-1759446000@www.nicensleazy.com
SUMMARY:THE KIDNEY FLOWERS - BASEMENT VENUE
DESCRIPTION:THE KIDNEY FLOWERS\nFIENDZ YT\nTHE BIG SHAKE
URL:https://www.nicensleazy.com/event/the-kidney-flowers-basement-venue
CATEGORIES:Basement,Gig
ATTACH;FMTTYPE=image/jpeg:https://www.nicensleazy.com/wp-content/uploads/2025/09/unnamed-1.jpg
END:VEVENT
BEGIN:VEVENT
DTSTART;TZID=Europe/London:20251002T230000
DTEND;TZID=Europe/London:20251003T020000
DTSTAMP:20260420T174807
CREATED:20241125T225609Z
LAST-MODIFIED:20250513T204235Z
UID:10001873-1759446000-1759456800@www.nicensleazy.com
SUMMARY:TRAD THURSDAYS
DESCRIPTION:11PM-2AM EVERY THURSDAY \nBrought to you by our resident Trad band! \nAn assortment of knee-slapping traditional Scottish music\, with a few covers here and there. \nCome along just to listen\, or feel free to play – all are welcome to the session!
URL:https://www.nicensleazy.com/event/trad-thursdays-62/2025-10-02
CATEGORIES:Bar,Gig
ATTACH;FMTTYPE=image/png:https://www.nicensleazy.com/wp-content/uploads/2024/11/Screenshot-2025-05-13-at-21.38.54.png
END:VEVENT
BEGIN:VEVENT
DTSTART;TZID=Europe/London:20251003T193000
DTEND;TZID=Europe/London:20251003T230000
DTSTAMP:20260420T174807
CREATED:20250311T154822Z
LAST-MODIFIED:20250910T231848Z
UID:10002883-1759519800-1759532400@www.nicensleazy.com
SUMMARY:DIRTY NICE
DESCRIPTION:Glitch-pop/psychedelic based in Bournemouth!
URL:https://www.nicensleazy.com/event/dirty-nice
CATEGORIES:Basement,Gig
ATTACH;FMTTYPE=image/png:https://www.nicensleazy.com/wp-content/uploads/2025/03/Dirty-Nice-Insta-Square.png
END:VEVENT
BEGIN:VEVENT
DTSTART;TZID=Europe/London:20251004T193000
DTEND;TZID=Europe/London:20251004T230000
DTSTAMP:20260420T174807
CREATED:20250910T232428Z
LAST-MODIFIED:20250910T232534Z
UID:10004252-1759606200-1759618800@www.nicensleazy.com
SUMMARY:THE EUPHONICS
DESCRIPTION:Supported by Riviera and The Provans…\nIndie/Alt Rock from Glasgow
URL:https://www.nicensleazy.com/event/the-euphonics
CATEGORIES:Basement,Gig
END:VEVENT
BEGIN:VEVENT
DTSTART;TZID=Europe/London:20251006T200000
DTEND;TZID=Europe/London:20251006T230000
DTSTAMP:20260420T174807
CREATED:20241125T200533Z
LAST-MODIFIED:20250514T023452Z
UID:10001514-1759780800-1759791600@www.nicensleazy.com
SUMMARY:OPEN MIC NIGHT WITH GERRY LYONS
DESCRIPTION:Come sing a tune at the longest running Open Mic Night\, going 27 years strong x \nFirst Monday of every month\, 8pm-11pm!\nEveryone welcome\, to perform or just to revel in the talent!
URL:https://www.nicensleazy.com/event/open-mic-night-with-gerry-lyons/2025-10-06
CATEGORIES:Basement,Gig
ATTACH;FMTTYPE=image/png:https://www.nicensleazy.com/wp-content/uploads/2024/11/Screenshot-2025-05-14-at-03.32.04.png
LOCATION:
END:VEVENT
BEGIN:VEVENT
DTSTART;TZID=Europe/London:20251009T230000
DTEND;TZID=Europe/London:20251010T020000
DTSTAMP:20260420T174807
CREATED:20241125T225609Z
LAST-MODIFIED:20250513T204235Z
UID:10001874-1760050800-1760061600@www.nicensleazy.com
SUMMARY:TRAD THURSDAYS
DESCRIPTION:11PM-2AM EVERY THURSDAY \nBrought to you by our resident Trad band! \nAn assortment of knee-slapping traditional Scottish music\, with a few covers here and there. \nCome along just to listen\, or feel free to play – all are welcome to the session!
URL:https://www.nicensleazy.com/event/trad-thursdays-62/2025-10-09
CATEGORIES:Bar,Gig
ATTACH;FMTTYPE=image/png:https://www.nicensleazy.com/wp-content/uploads/2024/11/Screenshot-2025-05-13-at-21.38.54.png
END:VEVENT
BEGIN:VEVENT
DTSTART;TZID=Europe/London:20251010T193000
DTEND;TZID=Europe/London:20251010T230000
DTSTAMP:20260420T174807
CREATED:20250904T094504Z
LAST-MODIFIED:20250904T095214Z
UID:10004244-1760124600-1760137200@www.nicensleazy.com
SUMMARY:Redzed + Acid Row
DESCRIPTION:Redzed is a Czech alternative rap-metal producer and rapper from Hustopeci\, known for his unique combination of underground rap\, nu metal and doom metal. He is one of the most listened to Czech artists on Spotify\, both in the Czech Republic and abroad. With a rich musical career that includes experimentation with different styles and original production\, he has built a strong fan base and regularly performs on both domestic and international stages. \n. . If Robert Johnson lived till the days of electric guitars and amps\, he might have considered jamming with czech stoner lunatics from Acid Row. A three-piece from Prague combining different genres and subgenres related mainly to stoner rock with tendencies and attitude of punk\, echoes of doom metal\, hazed with elements of psychedelic rock\, poignant noise rock or 90’s grunge. Existing since 2012. During that time they went through many mainly personal changes\, but what persisted from the very beginning was their sympathy for the devil. Just like in the case of Robert Johnson. But meanwhile Johnson and other haunted bluesmen had laid the foundation for rock and roll and everything that followed\, Acid Row resumed the devil’s ride with many rock and heavy metal legacies.
URL:https://www.nicensleazy.com/event/dirty-nice-support
CATEGORIES:Gig
ATTACH;FMTTYPE=image/png:https://www.nicensleazy.com/wp-content/uploads/2025/09/Screenshot-2025-09-04-at-10.51.26.png
END:VEVENT
BEGIN:VEVENT
DTSTART;TZID=Europe/London:20251011T193000
DTEND;TZID=Europe/London:20251011T223000
DTSTAMP:20260420T174807
CREATED:20251001T134711Z
LAST-MODIFIED:20251001T134711Z
UID:10004288-1760211000-1760221800@www.nicensleazy.com
SUMMARY:Wishbone Moon Headline
DESCRIPTION:Wishbone moon headline nice n Sleazys with support from Blue Cheese
URL:https://www.nicensleazy.com/event/wishbone-moon-headline
CATEGORIES:Gig
ATTACH;FMTTYPE=image/png:https://www.nicensleazy.com/wp-content/uploads/2025/10/Untitled-3.png
END:VEVENT
BEGIN:VEVENT
DTSTART;TZID=Europe/London:20251013T193000
DTEND;TZID=Europe/London:20251013T230000
DTSTAMP:20260420T174807
CREATED:20250910T134440Z
LAST-MODIFIED:20251012T194839Z
UID:10004249-1760383800-1760396400@www.nicensleazy.com
SUMMARY:CAYBEE CALABASH + NOISE HZ Hz + STOCKPORT SWIMMING TEAM
DESCRIPTION:SCOTTISH DEBUT! Derby’s finest export. Ultrafast cut-up breaks slathered in copious amounts of distortion\, backed with bittersweet melodies and psychedelic effects. Uncompromisingly dense yet still gleeful and ecstatic. A proper brainmelter.\nhttps://caybee.bandcamp.com/ \nNoise Hz \nProwling around Glasgow’s DIY underground for a handful of years now\, Noise Hz has been wrecking both eyes and ears with absolute visual and aural assault. 250bpm+ gabber kicks fly around overdriven no input mixing and blown out acapellas. Strobe warning inbound.\n \nStockport Swimming Team \nCaveman tape music. Why bother?\nhttps://wtc.neocities.org/sst
URL:https://www.nicensleazy.com/event/caybee-calabash-noise-hz-stockport-swimming-team
CATEGORIES:Gig
ATTACH;FMTTYPE=image/png:https://www.nicensleazy.com/wp-content/uploads/2025/09/1000026190.png
END:VEVENT
BEGIN:VEVENT
DTSTART;TZID=Europe/London:20251014T193000
DTEND;TZID=Europe/London:20251014T230000
DTSTAMP:20260420T174807
CREATED:20250721T134719Z
LAST-MODIFIED:20251012T195031Z
UID:10003864-1760470200-1760482800@www.nicensleazy.com
SUMMARY:OGBERT THE NERD + MY RUSHMORE + SCARSDALE
DESCRIPTION:New Jersey emo punks Ogbert The Nerd have announced their first European tour\, including a show in Nice N Sleazy on Tuesday 14th October 2025. Special guests on the night are Glasgow’s own My Rushmore and Scarsdale.\nTickets are on sale now from Fatsoma.
URL:https://www.nicensleazy.com/event/ogbert-the-nerd-support
CATEGORIES:Gig
ATTACH;FMTTYPE=image/jpeg:https://www.nicensleazy.com/wp-content/uploads/2025/07/Ogbert-the-Nerd-Glasgow-A3-scaled.jpg
END:VEVENT
BEGIN:VEVENT
DTSTART;TZID=Europe/London:20251016T193000
DTEND;TZID=Europe/London:20251016T230000
DTSTAMP:20260420T174807
CREATED:20250311T155058Z
LAST-MODIFIED:20251012T195240Z
UID:10002884-1760643000-1760655600@www.nicensleazy.com
SUMMARY:WARRINGTON RUNCORN NEW TOWN DEVELOPMENT PLAN
DESCRIPTION:PCL PRESENTS: Warrington Runcorn New Town Development Plan – Dance/Electronic from Runcorn – supported by Kinbrae and Isa Gordon.
URL:https://www.nicensleazy.com/event/warrington-runcorn-new-town-development-plan
CATEGORIES:Gig
ATTACH;FMTTYPE=image/png:https://www.nicensleazy.com/wp-content/uploads/2025/03/Warrington-Insta-Portrait.png
END:VEVENT
BEGIN:VEVENT
DTSTART;TZID=Europe/London:20251016T230000
DTEND;TZID=Europe/London:20251017T020000
DTSTAMP:20260420T174807
CREATED:20241125T225609Z
LAST-MODIFIED:20250513T204235Z
UID:10001875-1760655600-1760666400@www.nicensleazy.com
SUMMARY:TRAD THURSDAYS
DESCRIPTION:11PM-2AM EVERY THURSDAY \nBrought to you by our resident Trad band! \nAn assortment of knee-slapping traditional Scottish music\, with a few covers here and there. \nCome along just to listen\, or feel free to play – all are welcome to the session!
URL:https://www.nicensleazy.com/event/trad-thursdays-62/2025-10-16
CATEGORIES:Bar,Gig
ATTACH;FMTTYPE=image/png:https://www.nicensleazy.com/wp-content/uploads/2024/11/Screenshot-2025-05-13-at-21.38.54.png
END:VEVENT
BEGIN:VEVENT
DTSTART;TZID=Europe/London:20251017T193000
DTEND;TZID=Europe/London:20251017T223000
DTSTAMP:20260420T174807
CREATED:20251001T122028Z
LAST-MODIFIED:20251012T195418Z
UID:10004287-1760729400-1760740200@www.nicensleazy.com
SUMMARY:THE STOTES + NEAPOLITAN
DESCRIPTION:The Stotes and Neapolitan take over Nice N Sleazys for a joint headline alongside Clover and The Patient!
URL:https://www.nicensleazy.com/event/the-stotes-and-neapolitan
CATEGORIES:Gig
ATTACH;FMTTYPE=image/png:https://www.nicensleazy.com/wp-content/uploads/2025/10/Screenshot-2025-10-01-at-13.17.58.png
END:VEVENT
BEGIN:VEVENT
DTSTART;TZID=Europe/London:20251018T170000
DTEND;TZID=Europe/London:20251018T230000
DTSTAMP:20260420T174807
CREATED:20250922T192858Z
LAST-MODIFIED:20250922T192858Z
UID:10004275-1760806800-1760828400@www.nicensleazy.com
SUMMARY:HIGHER POWER - NORTHERN UNREST
DESCRIPTION:Higher Power (Leeds)\nExistence (Stockholm)\nDynamite (London)\nBathed in Sin\nGoon (Dublin)\nDivide\nNo Known Weakness\nGrand Slam
URL:https://www.nicensleazy.com/event/higher-power-northern-unrest
CATEGORIES:Basement,Gig
ATTACH;FMTTYPE=image/png:https://www.nicensleazy.com/wp-content/uploads/2025/09/Screenshot-2025-09-22-at-20.21.28.png
END:VEVENT
BEGIN:VEVENT
DTSTART;TZID=Europe/London:20251019T193000
DTEND;TZID=Europe/London:20251019T223000
DTSTAMP:20260420T174807
CREATED:20250910T134810Z
LAST-MODIFIED:20250910T141223Z
UID:10004250-1760902200-1760913000@www.nicensleazy.com
SUMMARY:CANNIBAL OX + FRIENDS
DESCRIPTION:FORM Presents\nCANNIBAL OX\n+ Special Guests
URL:https://www.nicensleazy.com/event/5383
CATEGORIES:Gig
ATTACH;FMTTYPE=image/jpeg:https://www.nicensleazy.com/wp-content/uploads/2025/09/4x5-scaled.jpg
END:VEVENT
END:VCALENDAR