BEGIN:VCALENDAR
VERSION:2.0
PRODID:-//NiceNSleazy - ECPv6.15.20//NONSGML v1.0//EN
CALSCALE:GREGORIAN
METHOD:PUBLISH
X-ORIGINAL-URL:https://www.nicensleazy.com
X-WR-CALDESC:Events for NiceNSleazy
REFRESH-INTERVAL;VALUE=DURATION:PT1H
X-Robots-Tag:noindex
X-PUBLISHED-TTL:PT1H
BEGIN:VTIMEZONE
TZID:Europe/London
BEGIN:DAYLIGHT
TZOFFSETFROM:+0000
TZOFFSETTO:+0100
TZNAME:BST
DTSTART:20240331T010000
END:DAYLIGHT
BEGIN:STANDARD
TZOFFSETFROM:+0100
TZOFFSETTO:+0000
TZNAME:GMT
DTSTART:20241027T010000
END:STANDARD
BEGIN:DAYLIGHT
TZOFFSETFROM:+0000
TZOFFSETTO:+0100
TZNAME:BST
DTSTART:20250330T010000
END:DAYLIGHT
BEGIN:STANDARD
TZOFFSETFROM:+0100
TZOFFSETTO:+0000
TZNAME:GMT
DTSTART:20251026T010000
END:STANDARD
BEGIN:DAYLIGHT
TZOFFSETFROM:+0000
TZOFFSETTO:+0100
TZNAME:BST
DTSTART:20260329T010000
END:DAYLIGHT
BEGIN:STANDARD
TZOFFSETFROM:+0100
TZOFFSETTO:+0000
TZNAME:GMT
DTSTART:20261025T010000
END:STANDARD
END:VTIMEZONE
BEGIN:VEVENT
DTSTART;TZID=Europe/London:20251004T193000
DTEND;TZID=Europe/London:20251004T230000
DTSTAMP:20260420T150615
CREATED:20250910T232428Z
LAST-MODIFIED:20250910T232534Z
UID:10004252-1759606200-1759618800@www.nicensleazy.com
SUMMARY:THE EUPHONICS
DESCRIPTION:Supported by Riviera and The Provans…\nIndie/Alt Rock from Glasgow
URL:https://www.nicensleazy.com/event/the-euphonics
CATEGORIES:Basement,Gig
END:VEVENT
BEGIN:VEVENT
DTSTART;TZID=Europe/London:20251006T200000
DTEND;TZID=Europe/London:20251006T230000
DTSTAMP:20260420T150615
CREATED:20241125T200533Z
LAST-MODIFIED:20250514T023452Z
UID:10001514-1759780800-1759791600@www.nicensleazy.com
SUMMARY:OPEN MIC NIGHT WITH GERRY LYONS
DESCRIPTION:Come sing a tune at the longest running Open Mic Night\, going 27 years strong x \nFirst Monday of every month\, 8pm-11pm!\nEveryone welcome\, to perform or just to revel in the talent!
URL:https://www.nicensleazy.com/event/open-mic-night-with-gerry-lyons/2025-10-06
CATEGORIES:Basement,Gig
ATTACH;FMTTYPE=image/png:https://www.nicensleazy.com/wp-content/uploads/2024/11/Screenshot-2025-05-14-at-03.32.04.png
LOCATION:
END:VEVENT
BEGIN:VEVENT
DTSTART;TZID=Europe/London:20251009T230000
DTEND;TZID=Europe/London:20251010T020000
DTSTAMP:20260420T150615
CREATED:20241125T225609Z
LAST-MODIFIED:20250513T204235Z
UID:10001874-1760050800-1760061600@www.nicensleazy.com
SUMMARY:TRAD THURSDAYS
DESCRIPTION:11PM-2AM EVERY THURSDAY \nBrought to you by our resident Trad band! \nAn assortment of knee-slapping traditional Scottish music\, with a few covers here and there. \nCome along just to listen\, or feel free to play – all are welcome to the session!
URL:https://www.nicensleazy.com/event/trad-thursdays-62/2025-10-09
CATEGORIES:Bar,Gig
ATTACH;FMTTYPE=image/png:https://www.nicensleazy.com/wp-content/uploads/2024/11/Screenshot-2025-05-13-at-21.38.54.png
END:VEVENT
BEGIN:VEVENT
DTSTART;TZID=Europe/London:20251010T193000
DTEND;TZID=Europe/London:20251010T230000
DTSTAMP:20260420T150615
CREATED:20250904T094504Z
LAST-MODIFIED:20250904T095214Z
UID:10004244-1760124600-1760137200@www.nicensleazy.com
SUMMARY:Redzed + Acid Row
DESCRIPTION:Redzed is a Czech alternative rap-metal producer and rapper from Hustopeci\, known for his unique combination of underground rap\, nu metal and doom metal. He is one of the most listened to Czech artists on Spotify\, both in the Czech Republic and abroad. With a rich musical career that includes experimentation with different styles and original production\, he has built a strong fan base and regularly performs on both domestic and international stages. \n. . If Robert Johnson lived till the days of electric guitars and amps\, he might have considered jamming with czech stoner lunatics from Acid Row. A three-piece from Prague combining different genres and subgenres related mainly to stoner rock with tendencies and attitude of punk\, echoes of doom metal\, hazed with elements of psychedelic rock\, poignant noise rock or 90’s grunge. Existing since 2012. During that time they went through many mainly personal changes\, but what persisted from the very beginning was their sympathy for the devil. Just like in the case of Robert Johnson. But meanwhile Johnson and other haunted bluesmen had laid the foundation for rock and roll and everything that followed\, Acid Row resumed the devil’s ride with many rock and heavy metal legacies.
URL:https://www.nicensleazy.com/event/dirty-nice-support
CATEGORIES:Gig
ATTACH;FMTTYPE=image/png:https://www.nicensleazy.com/wp-content/uploads/2025/09/Screenshot-2025-09-04-at-10.51.26.png
END:VEVENT
BEGIN:VEVENT
DTSTART;TZID=Europe/London:20251011T193000
DTEND;TZID=Europe/London:20251011T223000
DTSTAMP:20260420T150615
CREATED:20251001T134711Z
LAST-MODIFIED:20251001T134711Z
UID:10004288-1760211000-1760221800@www.nicensleazy.com
SUMMARY:Wishbone Moon Headline
DESCRIPTION:Wishbone moon headline nice n Sleazys with support from Blue Cheese
URL:https://www.nicensleazy.com/event/wishbone-moon-headline
CATEGORIES:Gig
ATTACH;FMTTYPE=image/png:https://www.nicensleazy.com/wp-content/uploads/2025/10/Untitled-3.png
END:VEVENT
BEGIN:VEVENT
DTSTART;TZID=Europe/London:20251013T193000
DTEND;TZID=Europe/London:20251013T230000
DTSTAMP:20260420T150615
CREATED:20250910T134440Z
LAST-MODIFIED:20251012T194839Z
UID:10004249-1760383800-1760396400@www.nicensleazy.com
SUMMARY:CAYBEE CALABASH + NOISE HZ Hz + STOCKPORT SWIMMING TEAM
DESCRIPTION:SCOTTISH DEBUT! Derby’s finest export. Ultrafast cut-up breaks slathered in copious amounts of distortion\, backed with bittersweet melodies and psychedelic effects. Uncompromisingly dense yet still gleeful and ecstatic. A proper brainmelter.\nhttps://caybee.bandcamp.com/ \nNoise Hz \nProwling around Glasgow’s DIY underground for a handful of years now\, Noise Hz has been wrecking both eyes and ears with absolute visual and aural assault. 250bpm+ gabber kicks fly around overdriven no input mixing and blown out acapellas. Strobe warning inbound.\n \nStockport Swimming Team \nCaveman tape music. Why bother?\nhttps://wtc.neocities.org/sst
URL:https://www.nicensleazy.com/event/caybee-calabash-noise-hz-stockport-swimming-team
CATEGORIES:Gig
ATTACH;FMTTYPE=image/png:https://www.nicensleazy.com/wp-content/uploads/2025/09/1000026190.png
END:VEVENT
BEGIN:VEVENT
DTSTART;TZID=Europe/London:20251014T193000
DTEND;TZID=Europe/London:20251014T230000
DTSTAMP:20260420T150615
CREATED:20250721T134719Z
LAST-MODIFIED:20251012T195031Z
UID:10003864-1760470200-1760482800@www.nicensleazy.com
SUMMARY:OGBERT THE NERD + MY RUSHMORE + SCARSDALE
DESCRIPTION:New Jersey emo punks Ogbert The Nerd have announced their first European tour\, including a show in Nice N Sleazy on Tuesday 14th October 2025. Special guests on the night are Glasgow’s own My Rushmore and Scarsdale.\nTickets are on sale now from Fatsoma.
URL:https://www.nicensleazy.com/event/ogbert-the-nerd-support
CATEGORIES:Gig
ATTACH;FMTTYPE=image/jpeg:https://www.nicensleazy.com/wp-content/uploads/2025/07/Ogbert-the-Nerd-Glasgow-A3-scaled.jpg
END:VEVENT
BEGIN:VEVENT
DTSTART;TZID=Europe/London:20251016T193000
DTEND;TZID=Europe/London:20251016T230000
DTSTAMP:20260420T150615
CREATED:20250311T155058Z
LAST-MODIFIED:20251012T195240Z
UID:10002884-1760643000-1760655600@www.nicensleazy.com
SUMMARY:WARRINGTON RUNCORN NEW TOWN DEVELOPMENT PLAN
DESCRIPTION:PCL PRESENTS: Warrington Runcorn New Town Development Plan – Dance/Electronic from Runcorn – supported by Kinbrae and Isa Gordon.
URL:https://www.nicensleazy.com/event/warrington-runcorn-new-town-development-plan
CATEGORIES:Gig
ATTACH;FMTTYPE=image/png:https://www.nicensleazy.com/wp-content/uploads/2025/03/Warrington-Insta-Portrait.png
END:VEVENT
BEGIN:VEVENT
DTSTART;TZID=Europe/London:20251016T230000
DTEND;TZID=Europe/London:20251017T020000
DTSTAMP:20260420T150615
CREATED:20241125T225609Z
LAST-MODIFIED:20250513T204235Z
UID:10001875-1760655600-1760666400@www.nicensleazy.com
SUMMARY:TRAD THURSDAYS
DESCRIPTION:11PM-2AM EVERY THURSDAY \nBrought to you by our resident Trad band! \nAn assortment of knee-slapping traditional Scottish music\, with a few covers here and there. \nCome along just to listen\, or feel free to play – all are welcome to the session!
URL:https://www.nicensleazy.com/event/trad-thursdays-62/2025-10-16
CATEGORIES:Bar,Gig
ATTACH;FMTTYPE=image/png:https://www.nicensleazy.com/wp-content/uploads/2024/11/Screenshot-2025-05-13-at-21.38.54.png
END:VEVENT
BEGIN:VEVENT
DTSTART;TZID=Europe/London:20251017T193000
DTEND;TZID=Europe/London:20251017T223000
DTSTAMP:20260420T150615
CREATED:20251001T122028Z
LAST-MODIFIED:20251012T195418Z
UID:10004287-1760729400-1760740200@www.nicensleazy.com
SUMMARY:THE STOTES + NEAPOLITAN
DESCRIPTION:The Stotes and Neapolitan take over Nice N Sleazys for a joint headline alongside Clover and The Patient!
URL:https://www.nicensleazy.com/event/the-stotes-and-neapolitan
CATEGORIES:Gig
ATTACH;FMTTYPE=image/png:https://www.nicensleazy.com/wp-content/uploads/2025/10/Screenshot-2025-10-01-at-13.17.58.png
END:VEVENT
BEGIN:VEVENT
DTSTART;TZID=Europe/London:20251018T170000
DTEND;TZID=Europe/London:20251018T230000
DTSTAMP:20260420T150615
CREATED:20250922T192858Z
LAST-MODIFIED:20250922T192858Z
UID:10004275-1760806800-1760828400@www.nicensleazy.com
SUMMARY:HIGHER POWER - NORTHERN UNREST
DESCRIPTION:Higher Power (Leeds)\nExistence (Stockholm)\nDynamite (London)\nBathed in Sin\nGoon (Dublin)\nDivide\nNo Known Weakness\nGrand Slam
URL:https://www.nicensleazy.com/event/higher-power-northern-unrest
CATEGORIES:Basement,Gig
ATTACH;FMTTYPE=image/png:https://www.nicensleazy.com/wp-content/uploads/2025/09/Screenshot-2025-09-22-at-20.21.28.png
END:VEVENT
BEGIN:VEVENT
DTSTART;TZID=Europe/London:20251019T193000
DTEND;TZID=Europe/London:20251019T223000
DTSTAMP:20260420T150615
CREATED:20250910T134810Z
LAST-MODIFIED:20250910T141223Z
UID:10004250-1760902200-1760913000@www.nicensleazy.com
SUMMARY:CANNIBAL OX + FRIENDS
DESCRIPTION:FORM Presents\nCANNIBAL OX\n+ Special Guests
URL:https://www.nicensleazy.com/event/5383
CATEGORIES:Gig
ATTACH;FMTTYPE=image/jpeg:https://www.nicensleazy.com/wp-content/uploads/2025/09/4x5-scaled.jpg
END:VEVENT
BEGIN:VEVENT
DTSTART;TZID=Europe/London:20251021T193000
DTEND;TZID=Europe/London:20251021T223000
DTSTAMP:20260420T150615
CREATED:20250910T141604Z
LAST-MODIFIED:20250910T141629Z
UID:10004251-1761075000-1761085800@www.nicensleazy.com
SUMMARY:TAYLOR MORE SWIFTLY
DESCRIPTION:TAYLOR MORE SWIFTLY (ska-punk Taylor Swift tribute)\nMembers of Bite Me Bambi\, Bar Stool Preachers\, Andy B & The World + Old Chase playing covers of TS songs\, way too fast\, in a punk/ska styley. Because that’s what the world needed\, right? \n16+
URL:https://www.nicensleazy.com/event/taylor-more-swiftly
CATEGORIES:Gig
ATTACH;FMTTYPE=image/png:https://www.nicensleazy.com/wp-content/uploads/2025/09/f5fba46c-93b8-404f-89dd-502024614d6f-1_all_23477.png
END:VEVENT
BEGIN:VEVENT
DTSTART;TZID=Europe/London:20251023T193000
DTEND;TZID=Europe/London:20251023T230000
DTSTAMP:20260420T150615
CREATED:20250910T233220Z
LAST-MODIFIED:20251012T212036Z
UID:10004253-1761247800-1761260400@www.nicensleazy.com
SUMMARY:MIKEY THOMAS
DESCRIPTION:Support from Holly Rollins and Laurness.\nDance/Electronic from Glasgow
URL:https://www.nicensleazy.com/event/mikey-thomas
CATEGORIES:Gig
ATTACH;FMTTYPE=application/pdf:https://www.nicensleazy.com/wp-content/uploads/2025/09/Screenshot-2025-10-12-at-22.18.25.png.pdf
END:VEVENT
BEGIN:VEVENT
DTSTART;TZID=Europe/London:20251023T230000
DTEND;TZID=Europe/London:20251024T020000
DTSTAMP:20260420T150615
CREATED:20241125T225609Z
LAST-MODIFIED:20250513T204235Z
UID:10001876-1761260400-1761271200@www.nicensleazy.com
SUMMARY:TRAD THURSDAYS
DESCRIPTION:11PM-2AM EVERY THURSDAY \nBrought to you by our resident Trad band! \nAn assortment of knee-slapping traditional Scottish music\, with a few covers here and there. \nCome along just to listen\, or feel free to play – all are welcome to the session!
URL:https://www.nicensleazy.com/event/trad-thursdays-62/2025-10-23
CATEGORIES:Bar,Gig
ATTACH;FMTTYPE=image/png:https://www.nicensleazy.com/wp-content/uploads/2024/11/Screenshot-2025-05-13-at-21.38.54.png
END:VEVENT
BEGIN:VEVENT
DTSTART;TZID=Europe/London:20251024T193000
DTEND;TZID=Europe/London:20251024T230000
DTSTAMP:20260420T150615
CREATED:20251011T155240Z
LAST-MODIFIED:20251011T155508Z
UID:10004305-1761334200-1761346800@www.nicensleazy.com
SUMMARY:HAIRCUT OVERDOSE - GIG
DESCRIPTION:RCMS PRESENTS\nHAIRCUT OVERDOSE\nLATE NIGHT GETAWAY DRIVERS\n+ MORE TBA\nTO CLEEBRATE ONE YEAR SINCE THEIR FIRST GIG HAIRCUT OVERDOSE WILL BE PLYING A FULL SET WITH SONGS CHOSEN BY YOU
URL:https://www.nicensleazy.com/event/haircut-overdose-gig
CATEGORIES:Basement,Gig
ATTACH;FMTTYPE=image/png:https://www.nicensleazy.com/wp-content/uploads/2025/10/Screenshot-2025-10-11-at-16.52.29.png
END:VEVENT
BEGIN:VEVENT
DTSTART;TZID=Europe/London:20251025T193000
DTEND;TZID=Europe/London:20251025T230000
DTSTAMP:20260420T150615
CREATED:20250927T102056Z
LAST-MODIFIED:20250927T102056Z
UID:10004286-1761420600-1761433200@www.nicensleazy.com
SUMMARY:SMC HALLOWEEN
DESCRIPTION:An SMC x Sleazy’s halloween hat-trick  \nNATIONAL PLAYBOYS\nCOUNT THE DAYS\nQUALITY CONTROL\nHONEY \ndress up!!!
URL:https://www.nicensleazy.com/event/smc-halloween
CATEGORIES:Basement,Gig
ATTACH;FMTTYPE=image/jpeg:https://www.nicensleazy.com/wp-content/uploads/2025/09/INSTA-PORTRAIT.jpeg
END:VEVENT
BEGIN:VEVENT
DTSTART;TZID=Europe/London:20251026T190000
DTEND;TZID=Europe/London:20251026T230000
DTSTAMP:20260420T150615
CREATED:20250910T233606Z
LAST-MODIFIED:20251012T214903Z
UID:10004254-1761505200-1761519600@www.nicensleazy.com
SUMMARY:ANGELS WEEP & SILKSPINE
DESCRIPTION:Hardcore from Scotland!!\nAngels Weep and Silkspine play Nice N Sleazy as joint headliners\, with support from North of Ruins!
URL:https://www.nicensleazy.com/event/angels-weep-silkspine
CATEGORIES:Basement,Gig
ATTACH;FMTTYPE=image/jpeg:https://www.nicensleazy.com/wp-content/uploads/2025/09/Screenshot-2025-10-12-at-22.28.55.jpeg
END:VEVENT
BEGIN:VEVENT
DTSTART;TZID=Europe/London:20251029T190000
DTEND;TZID=Europe/London:20251029T230000
DTSTAMP:20260420T150615
CREATED:20250910T234613Z
LAST-MODIFIED:20251012T215758Z
UID:10004255-1761764400-1761778800@www.nicensleazy.com
SUMMARY:THE WYTCHES
DESCRIPTION:The Wytches bring a night of Garage Rock/Grunge from Brighton to Nice N Sleazy!\nSupported by Melanie Baker.
URL:https://www.nicensleazy.com/event/the-wytches
CATEGORIES:Basement,Gig
ATTACH;FMTTYPE=image/jpeg:https://www.nicensleazy.com/wp-content/uploads/2025/09/images.jpeg
END:VEVENT
BEGIN:VEVENT
DTSTART;TZID=Europe/London:20251030T180000
DTEND;TZID=Europe/London:20251030T230000
DTSTAMP:20260420T150615
CREATED:20251012T144220Z
LAST-MODIFIED:20251012T220338Z
UID:10004307-1761847200-1761865200@www.nicensleazy.com
SUMMARY:GIG BROTHER'S HALLOWEEN PARTY - UPSTAIRS
DESCRIPTION:GIG BROTHER HAVE RISEN FROM THE DEAD\, AND ARE BACK WITH A VENGEANCE… \nJUST IN TIME FOR HALLOWEEN!!!!! 🎃 \nTheir annual Halloween party has returned to Sleazy’s (Upstairs/ Bar Venue). \nOn the lineup\, they have:\nBig Girl’s Blouse\nOedipus & the Mama’s Boys\nGuevara\nDownpour \nIt’s gonna be spooky… Very spooky!!!! \nAs always\, costumes are mandatory. \n🔞 18+ only
URL:https://www.nicensleazy.com/event/big-girls-blouse-gig
CATEGORIES:Bar,Gig
ATTACH;FMTTYPE=image/png:https://www.nicensleazy.com/wp-content/uploads/2025/10/Screenshot-2025-10-11-at-17.01.40.png
END:VEVENT
BEGIN:VEVENT
DTSTART;TZID=Europe/London:20251030T193000
DTEND;TZID=Europe/London:20251030T230000
DTSTAMP:20260420T150615
CREATED:20251012T220937Z
LAST-MODIFIED:20251012T220937Z
UID:10004309-1761852600-1761865200@www.nicensleazy.com
SUMMARY:EVIL DEEDS
DESCRIPTION:Evil Deeds play their first headline show at Nice N Sleazy\, supported by Pict and The Headshrinkers.\nA Halloween night of heavy music\, not to be missed!
URL:https://www.nicensleazy.com/event/evil-deeds
CATEGORIES:Gig
ATTACH;FMTTYPE=application/pdf:https://www.nicensleazy.com/wp-content/uploads/2025/10/Screenshot-2025-10-12-at-23.07.47.pdf
END:VEVENT
BEGIN:VEVENT
DTSTART;TZID=Europe/London:20251030T230000
DTEND;TZID=Europe/London:20251031T020000
DTSTAMP:20260420T150615
CREATED:20241125T225609Z
LAST-MODIFIED:20250513T204235Z
UID:10001877-1761865200-1761876000@www.nicensleazy.com
SUMMARY:TRAD THURSDAYS
DESCRIPTION:11PM-2AM EVERY THURSDAY \nBrought to you by our resident Trad band! \nAn assortment of knee-slapping traditional Scottish music\, with a few covers here and there. \nCome along just to listen\, or feel free to play – all are welcome to the session!
URL:https://www.nicensleazy.com/event/trad-thursdays-62/2025-10-30
CATEGORIES:Bar,Gig
ATTACH;FMTTYPE=image/png:https://www.nicensleazy.com/wp-content/uploads/2024/11/Screenshot-2025-05-13-at-21.38.54.png
END:VEVENT
BEGIN:VEVENT
DTSTART;TZID=Europe/London:20251031T193000
DTEND;TZID=Europe/London:20251031T223000
DTSTAMP:20260420T150615
CREATED:20251001T135031Z
LAST-MODIFIED:20251012T221104Z
UID:10004289-1761939000-1761949800@www.nicensleazy.com
SUMMARY:QUEER THEORY: FRIENDS OF DOROTHY
DESCRIPTION:*For admittance\, knock twice and ask for Dorothy* \nCABARET 7.30-11\nTom Harlow (host / showboy / chanteur)\nElisabeth Elektra (witchy artpop singer/songwriter + band)\nAggy & Jess (musical comedy)\nWong Pik Kei (dance / performance art)\nDorian T Fisk (drag king)\nNicholas Elliott (standup comedy)\nRJ Hunter (poetry) \nDJs 11-3\nClub: Suzie Mac all night long (disco / house / electropop)\nBar: Pearl Necklace all night long (vogue / pop / queer sh*t) \nVenue accessibility: we are using the basement venue that is only accessible by stairs. Nice n Sleazy has gender neutral toilets and a safe space policy detailed at www.nicensleazy.com/safe-space-policy \nIf you have any questions at all\, please don’t hesitate to get in touch at queertheoryglasgow@gmail.com
URL:https://www.nicensleazy.com/event/queer-theory-friends-of-dorothy
CATEGORIES:Gig
ATTACH;FMTTYPE=image/jpeg:https://www.nicensleazy.com/wp-content/uploads/2025/10/Friends-of-Dorothy-Queer-Theory-scaled.jpg
END:VEVENT
BEGIN:VEVENT
DTSTART;TZID=Europe/London:20251101T193000
DTEND;TZID=Europe/London:20251101T230000
DTSTAMP:20260420T150615
CREATED:20251020T210807Z
LAST-MODIFIED:20251020T210807Z
UID:10004639-1762025400-1762038000@www.nicensleazy.com
SUMMARY:TRNDS + THE PALLADIUMS
DESCRIPTION:RCMS presents……. TRNDS + support live at Glasgow’s Nice N Sleazy.\nAlt/Pop from Glasgow\nDoors open at 7.30pm.
URL:https://www.nicensleazy.com/event/trnds-the-palladiums
CATEGORIES:Gig
ATTACH;FMTTYPE=image/jpeg:https://www.nicensleazy.com/wp-content/uploads/2025/10/565416264_18066411332522536_1924532194201246839_n.jpg
END:VEVENT
BEGIN:VEVENT
DTSTART;TZID=Europe/London:20251103T200000
DTEND;TZID=Europe/London:20251103T230000
DTSTAMP:20260420T150615
CREATED:20241125T200533Z
LAST-MODIFIED:20250514T023452Z
UID:10001515-1762200000-1762210800@www.nicensleazy.com
SUMMARY:OPEN MIC NIGHT WITH GERRY LYONS
DESCRIPTION:Come sing a tune at the longest running Open Mic Night\, going 27 years strong x \nFirst Monday of every month\, 8pm-11pm!\nEveryone welcome\, to perform or just to revel in the talent!
URL:https://www.nicensleazy.com/event/open-mic-night-with-gerry-lyons/2025-11-03
CATEGORIES:Basement,Gig
ATTACH;FMTTYPE=image/png:https://www.nicensleazy.com/wp-content/uploads/2024/11/Screenshot-2025-05-14-at-03.32.04.png
LOCATION:
END:VEVENT
BEGIN:VEVENT
DTSTART;TZID=Europe/London:20251104T193000
DTEND;TZID=Europe/London:20251104T230000
DTSTAMP:20260420T150615
CREATED:20251008T125936Z
LAST-MODIFIED:20251012T223547Z
UID:10004290-1762284600-1762297200@www.nicensleazy.com
SUMMARY:GWENNO + QUINQUIS
DESCRIPTION:PCL PRESENTS… Gwenno\, supported by QUINQUIS!\nA night of Alt/Indie music from Wales
URL:https://www.nicensleazy.com/event/gwenno-support
CATEGORIES:Gig
ATTACH;FMTTYPE=image/png:https://www.nicensleazy.com/wp-content/uploads/2025/10/Screenshot-2025-10-08-at-13.58.19.png
END:VEVENT
BEGIN:VEVENT
DTSTART;TZID=Europe/London:20251106T190000
DTEND;TZID=Europe/London:20251106T230000
DTSTAMP:20260420T150615
CREATED:20251008T130633Z
LAST-MODIFIED:20251012T223729Z
UID:10004291-1762455600-1762470000@www.nicensleazy.com
SUMMARY:BAR VENUE // TRUCK VIOLENCE
DESCRIPTION:core. presents… TRUCK VIOLENCE\nHardcore/Folk-Punk from Western Canada.
URL:https://www.nicensleazy.com/event/core-presents-truck-violence
CATEGORIES:Gig
ATTACH;FMTTYPE=image/png:https://www.nicensleazy.com/wp-content/uploads/2025/10/Screenshot-2025-10-08-at-14.06.25.png
END:VEVENT
BEGIN:VEVENT
DTSTART;TZID=Europe/London:20251106T193000
DTEND;TZID=Europe/London:20251106T230000
DTSTAMP:20260420T150615
CREATED:20250311T155347Z
LAST-MODIFIED:20251012T223940Z
UID:10002885-1762457400-1762470000@www.nicensleazy.com
SUMMARY:ALBERTINE SARGES
DESCRIPTION:Albertine Sarges – an Alt/Indie artist from Berlin – plays Nice N Sleazy!\nSupport TBA
URL:https://www.nicensleazy.com/event/albertine-sarges
CATEGORIES:Gig
ATTACH;FMTTYPE=image/png:https://www.nicensleazy.com/wp-content/uploads/2025/03/Albertine-Sarges-Insta-Portrait.png
END:VEVENT
BEGIN:VEVENT
DTSTART;TZID=Europe/London:20251106T230000
DTEND;TZID=Europe/London:20251107T020000
DTSTAMP:20260420T150615
CREATED:20241125T225609Z
LAST-MODIFIED:20250513T204235Z
UID:10001878-1762470000-1762480800@www.nicensleazy.com
SUMMARY:TRAD THURSDAYS
DESCRIPTION:11PM-2AM EVERY THURSDAY \nBrought to you by our resident Trad band! \nAn assortment of knee-slapping traditional Scottish music\, with a few covers here and there. \nCome along just to listen\, or feel free to play – all are welcome to the session!
URL:https://www.nicensleazy.com/event/trad-thursdays-62/2025-11-06
CATEGORIES:Bar,Gig
ATTACH;FMTTYPE=image/png:https://www.nicensleazy.com/wp-content/uploads/2024/11/Screenshot-2025-05-13-at-21.38.54.png
END:VEVENT
BEGIN:VEVENT
DTSTART;TZID=Europe/London:20251107T190000
DTEND;TZID=Europe/London:20251107T230000
DTSTAMP:20260420T150615
CREATED:20250311T155500Z
LAST-MODIFIED:20251012T234531Z
UID:10002886-1762542000-1762556400@www.nicensleazy.com
SUMMARY:DIRT BOX DISCO
DESCRIPTION:Dressing like rejects from a fancy dress convention for idiots\, but armed with a multitude of short\, sharp glam-pop-punk-rock songs and tunes\, nothing stands in the way of the Dirt Box Disco: four musical superheroes/villains on a mission to amuse or abuse anyone who will listen! \nTouring the UK with the likes of the Misfits and the Wildhearts\, playing a wide variety of festivals and headline their own shows up and down the UK and mainland Europe on a regular basis\, Dirt Box Disco are also a fixture of the Rebellion Festival\, (the largest of all the European punk festivals) playing there every year since 2012 to capacity crowds.
URL:https://www.nicensleazy.com/event/dirt-box-disco
CATEGORIES:Gig
ATTACH;FMTTYPE=image/png:https://www.nicensleazy.com/wp-content/uploads/2025/03/Dirtbox-Nice-N-Sleazy-45.png
END:VEVENT
END:VCALENDAR