BEGIN:VCALENDAR
VERSION:2.0
PRODID:-//NiceNSleazy - ECPv6.15.20//NONSGML v1.0//EN
CALSCALE:GREGORIAN
METHOD:PUBLISH
X-ORIGINAL-URL:https://www.nicensleazy.com
X-WR-CALDESC:Events for NiceNSleazy
REFRESH-INTERVAL;VALUE=DURATION:PT1H
X-Robots-Tag:noindex
X-PUBLISHED-TTL:PT1H
BEGIN:VTIMEZONE
TZID:Europe/London
BEGIN:DAYLIGHT
TZOFFSETFROM:+0000
TZOFFSETTO:+0100
TZNAME:BST
DTSTART:20250330T010000
END:DAYLIGHT
BEGIN:STANDARD
TZOFFSETFROM:+0100
TZOFFSETTO:+0000
TZNAME:GMT
DTSTART:20251026T010000
END:STANDARD
BEGIN:DAYLIGHT
TZOFFSETFROM:+0000
TZOFFSETTO:+0100
TZNAME:BST
DTSTART:20260329T010000
END:DAYLIGHT
BEGIN:STANDARD
TZOFFSETFROM:+0100
TZOFFSETTO:+0000
TZNAME:GMT
DTSTART:20261025T010000
END:STANDARD
BEGIN:DAYLIGHT
TZOFFSETFROM:+0000
TZOFFSETTO:+0100
TZNAME:BST
DTSTART:20270328T010000
END:DAYLIGHT
BEGIN:STANDARD
TZOFFSETFROM:+0100
TZOFFSETTO:+0000
TZNAME:GMT
DTSTART:20271031T010000
END:STANDARD
END:VTIMEZONE
BEGIN:VEVENT
DTSTART;TZID=Europe/London:20260604T230000
DTEND;TZID=Europe/London:20260605T020000
DTSTAMP:20260423T114943
CREATED:20241125T225609Z
LAST-MODIFIED:20250513T204235Z
UID:10001908-1780614000-1780624800@www.nicensleazy.com
SUMMARY:TRAD THURSDAYS
DESCRIPTION:11PM-2AM EVERY THURSDAY \nBrought to you by our resident Trad band! \nAn assortment of knee-slapping traditional Scottish music\, with a few covers here and there. \nCome along just to listen\, or feel free to play – all are welcome to the session!
URL:https://www.nicensleazy.com/event/trad-thursdays-62/2026-06-04
CATEGORIES:Bar,Gig
ATTACH;FMTTYPE=image/png:https://www.nicensleazy.com/wp-content/uploads/2024/11/Screenshot-2025-05-13-at-21.38.54.png
END:VEVENT
BEGIN:VEVENT
DTSTART;TZID=Europe/London:20260611T230000
DTEND;TZID=Europe/London:20260612T020000
DTSTAMP:20260423T114943
CREATED:20241125T225609Z
LAST-MODIFIED:20250513T204235Z
UID:10001909-1781218800-1781229600@www.nicensleazy.com
SUMMARY:TRAD THURSDAYS
DESCRIPTION:11PM-2AM EVERY THURSDAY \nBrought to you by our resident Trad band! \nAn assortment of knee-slapping traditional Scottish music\, with a few covers here and there. \nCome along just to listen\, or feel free to play – all are welcome to the session!
URL:https://www.nicensleazy.com/event/trad-thursdays-62/2026-06-11
CATEGORIES:Bar,Gig
ATTACH;FMTTYPE=image/png:https://www.nicensleazy.com/wp-content/uploads/2024/11/Screenshot-2025-05-13-at-21.38.54.png
END:VEVENT
BEGIN:VEVENT
DTSTART;TZID=Europe/London:20260618T230000
DTEND;TZID=Europe/London:20260619T020000
DTSTAMP:20260423T114943
CREATED:20241125T225609Z
LAST-MODIFIED:20250513T204235Z
UID:10001910-1781823600-1781834400@www.nicensleazy.com
SUMMARY:TRAD THURSDAYS
DESCRIPTION:11PM-2AM EVERY THURSDAY \nBrought to you by our resident Trad band! \nAn assortment of knee-slapping traditional Scottish music\, with a few covers here and there. \nCome along just to listen\, or feel free to play – all are welcome to the session!
URL:https://www.nicensleazy.com/event/trad-thursdays-62/2026-06-18
CATEGORIES:Bar,Gig
ATTACH;FMTTYPE=image/png:https://www.nicensleazy.com/wp-content/uploads/2024/11/Screenshot-2025-05-13-at-21.38.54.png
END:VEVENT
BEGIN:VEVENT
DTSTART;TZID=Europe/London:20260625T230000
DTEND;TZID=Europe/London:20260626T020000
DTSTAMP:20260423T114943
CREATED:20241125T225609Z
LAST-MODIFIED:20250513T204235Z
UID:10001911-1782428400-1782439200@www.nicensleazy.com
SUMMARY:TRAD THURSDAYS
DESCRIPTION:11PM-2AM EVERY THURSDAY \nBrought to you by our resident Trad band! \nAn assortment of knee-slapping traditional Scottish music\, with a few covers here and there. \nCome along just to listen\, or feel free to play – all are welcome to the session!
URL:https://www.nicensleazy.com/event/trad-thursdays-62/2026-06-25
CATEGORIES:Bar,Gig
ATTACH;FMTTYPE=image/png:https://www.nicensleazy.com/wp-content/uploads/2024/11/Screenshot-2025-05-13-at-21.38.54.png
END:VEVENT
BEGIN:VEVENT
DTSTART;TZID=Europe/London:20260630T193000
DTEND;TZID=Europe/London:20260630T223000
DTSTAMP:20260423T114943
CREATED:20260317T163352Z
LAST-MODIFIED:20260317T163352Z
UID:10005431-1782847800-1782858600@www.nicensleazy.com
SUMMARY:PCL Presents: Good Flying Birds
DESCRIPTION:Tickets – https://www.seetickets.com/event/good-flying-birds/nice-n-sleazy/3617595 \nGood Flying Birds is a jangly\, noisy guitar-pop group from the Midwest\, USA. The project began in December 2023 with a string of 4-track cassette recordings and stop-motion videos uploaded to YouTube under the name “Talulah God\,” accompanied by a chaotic\, GIF-filled website. Over the next few months\, songs were uploaded regularly\, eventually catching the attention of influential punk and DIY label head Martin Meyer. \nIn January 2025\, Talulah’s Tape was released on Rotten Apple\, compiling home recordings from 2020-2024. It showcased a wide-ranging love for independent guitar music\, clever songwriting\, and a charmingly scrappy\, twee-punk aesthetic. The release found immediate underground acclaim\, earning radio play and selling 300 cassettes in under a month. \nRiding the momentum and building a reputation as a dynamic live act\, the group attracted significant label interest\, ultimately signing with Carpark and Smoking Room. Together\, the labels re-released Talulah’s Tape on vinyl and streaming in October 2025. It has since seen glowing reviews from Rolling Stone\, Pitchfork\, Paste\, Bandcamp\, and landed in numerous “Best of 2025” lists. \nTheir sound nods to lo-fi icons like Guided By Voices\, Beat Happening\, DLIMC\, Talulah Gosh\, and The Vaselines\, but carries a singular\, earnest charm. It’s the sound of wide-eyed optimism in a cracked world-rosy cheeks\, a tambourine in hand\, and guitars ringing in all directions.
URL:https://www.nicensleazy.com/event/pcl-presents-good-flying-birds
CATEGORIES:Basement,Gig
ATTACH;FMTTYPE=image/png:https://www.nicensleazy.com/wp-content/uploads/2026/03/Screenshot-2026-03-17-at-16.32.15.png
END:VEVENT
BEGIN:VEVENT
DTSTART;TZID=Europe/London:20260702T230000
DTEND;TZID=Europe/London:20260703T020000
DTSTAMP:20260423T114943
CREATED:20241125T225609Z
LAST-MODIFIED:20250513T204235Z
UID:10001912-1783033200-1783044000@www.nicensleazy.com
SUMMARY:TRAD THURSDAYS
DESCRIPTION:11PM-2AM EVERY THURSDAY \nBrought to you by our resident Trad band! \nAn assortment of knee-slapping traditional Scottish music\, with a few covers here and there. \nCome along just to listen\, or feel free to play – all are welcome to the session!
URL:https://www.nicensleazy.com/event/trad-thursdays-62/2026-07-02
CATEGORIES:Bar,Gig
ATTACH;FMTTYPE=image/png:https://www.nicensleazy.com/wp-content/uploads/2024/11/Screenshot-2025-05-13-at-21.38.54.png
END:VEVENT
BEGIN:VEVENT
DTSTART;TZID=Europe/London:20260706T200000
DTEND;TZID=Europe/London:20260706T230000
DTSTAMP:20260423T114943
CREATED:20241125T200533Z
LAST-MODIFIED:20250514T023452Z
UID:10001523-1783368000-1783378800@www.nicensleazy.com
SUMMARY:OPEN MIC NIGHT WITH GERRY LYONS
DESCRIPTION:Come sing a tune at the longest running Open Mic Night\, going 27 years strong x \nFirst Monday of every month\, 8pm-11pm!\nEveryone welcome\, to perform or just to revel in the talent!
URL:https://www.nicensleazy.com/event/open-mic-night-with-gerry-lyons/2026-07-06
CATEGORIES:Basement,Gig
ATTACH;FMTTYPE=image/png:https://www.nicensleazy.com/wp-content/uploads/2024/11/Screenshot-2025-05-14-at-03.32.04.png
LOCATION:
END:VEVENT
BEGIN:VEVENT
DTSTART;TZID=Europe/London:20260709T230000
DTEND;TZID=Europe/London:20260710T020000
DTSTAMP:20260423T114943
CREATED:20241125T225609Z
LAST-MODIFIED:20250513T204235Z
UID:10001913-1783638000-1783648800@www.nicensleazy.com
SUMMARY:TRAD THURSDAYS
DESCRIPTION:11PM-2AM EVERY THURSDAY \nBrought to you by our resident Trad band! \nAn assortment of knee-slapping traditional Scottish music\, with a few covers here and there. \nCome along just to listen\, or feel free to play – all are welcome to the session!
URL:https://www.nicensleazy.com/event/trad-thursdays-62/2026-07-09
CATEGORIES:Bar,Gig
ATTACH;FMTTYPE=image/png:https://www.nicensleazy.com/wp-content/uploads/2024/11/Screenshot-2025-05-13-at-21.38.54.png
END:VEVENT
BEGIN:VEVENT
DTSTART;TZID=Europe/London:20260716T230000
DTEND;TZID=Europe/London:20260717T020000
DTSTAMP:20260423T114943
CREATED:20241125T225609Z
LAST-MODIFIED:20250513T204235Z
UID:10001914-1784242800-1784253600@www.nicensleazy.com
SUMMARY:TRAD THURSDAYS
DESCRIPTION:11PM-2AM EVERY THURSDAY \nBrought to you by our resident Trad band! \nAn assortment of knee-slapping traditional Scottish music\, with a few covers here and there. \nCome along just to listen\, or feel free to play – all are welcome to the session!
URL:https://www.nicensleazy.com/event/trad-thursdays-62/2026-07-16
CATEGORIES:Bar,Gig
ATTACH;FMTTYPE=image/png:https://www.nicensleazy.com/wp-content/uploads/2024/11/Screenshot-2025-05-13-at-21.38.54.png
END:VEVENT
BEGIN:VEVENT
DTSTART;TZID=Europe/London:20260723T230000
DTEND;TZID=Europe/London:20260724T020000
DTSTAMP:20260423T114943
CREATED:20241125T225609Z
LAST-MODIFIED:20250513T204235Z
UID:10001915-1784847600-1784858400@www.nicensleazy.com
SUMMARY:TRAD THURSDAYS
DESCRIPTION:11PM-2AM EVERY THURSDAY \nBrought to you by our resident Trad band! \nAn assortment of knee-slapping traditional Scottish music\, with a few covers here and there. \nCome along just to listen\, or feel free to play – all are welcome to the session!
URL:https://www.nicensleazy.com/event/trad-thursdays-62/2026-07-23
CATEGORIES:Bar,Gig
ATTACH;FMTTYPE=image/png:https://www.nicensleazy.com/wp-content/uploads/2024/11/Screenshot-2025-05-13-at-21.38.54.png
END:VEVENT
BEGIN:VEVENT
DTSTART;TZID=Europe/London:20260730T230000
DTEND;TZID=Europe/London:20260731T020000
DTSTAMP:20260423T114943
CREATED:20241125T225609Z
LAST-MODIFIED:20250513T204235Z
UID:10001916-1785452400-1785463200@www.nicensleazy.com
SUMMARY:TRAD THURSDAYS
DESCRIPTION:11PM-2AM EVERY THURSDAY \nBrought to you by our resident Trad band! \nAn assortment of knee-slapping traditional Scottish music\, with a few covers here and there. \nCome along just to listen\, or feel free to play – all are welcome to the session!
URL:https://www.nicensleazy.com/event/trad-thursdays-62/2026-07-30
CATEGORIES:Bar,Gig
ATTACH;FMTTYPE=image/png:https://www.nicensleazy.com/wp-content/uploads/2024/11/Screenshot-2025-05-13-at-21.38.54.png
END:VEVENT
BEGIN:VEVENT
DTSTART;TZID=Europe/London:20260803T200000
DTEND;TZID=Europe/London:20260803T230000
DTSTAMP:20260423T114943
CREATED:20241125T200533Z
LAST-MODIFIED:20250514T023452Z
UID:10001524-1785787200-1785798000@www.nicensleazy.com
SUMMARY:OPEN MIC NIGHT WITH GERRY LYONS
DESCRIPTION:Come sing a tune at the longest running Open Mic Night\, going 27 years strong x \nFirst Monday of every month\, 8pm-11pm!\nEveryone welcome\, to perform or just to revel in the talent!
URL:https://www.nicensleazy.com/event/open-mic-night-with-gerry-lyons/2026-08-03
CATEGORIES:Basement,Gig
ATTACH;FMTTYPE=image/png:https://www.nicensleazy.com/wp-content/uploads/2024/11/Screenshot-2025-05-14-at-03.32.04.png
LOCATION:
END:VEVENT
BEGIN:VEVENT
DTSTART;TZID=Europe/London:20260806T230000
DTEND;TZID=Europe/London:20260807T020000
DTSTAMP:20260423T114943
CREATED:20241125T225609Z
LAST-MODIFIED:20250513T204235Z
UID:10001917-1786057200-1786068000@www.nicensleazy.com
SUMMARY:TRAD THURSDAYS
DESCRIPTION:11PM-2AM EVERY THURSDAY \nBrought to you by our resident Trad band! \nAn assortment of knee-slapping traditional Scottish music\, with a few covers here and there. \nCome along just to listen\, or feel free to play – all are welcome to the session!
URL:https://www.nicensleazy.com/event/trad-thursdays-62/2026-08-06
CATEGORIES:Bar,Gig
ATTACH;FMTTYPE=image/png:https://www.nicensleazy.com/wp-content/uploads/2024/11/Screenshot-2025-05-13-at-21.38.54.png
END:VEVENT
BEGIN:VEVENT
DTSTART;TZID=Europe/London:20260813T230000
DTEND;TZID=Europe/London:20260814T020000
DTSTAMP:20260423T114943
CREATED:20241125T225609Z
LAST-MODIFIED:20250513T204235Z
UID:10001918-1786662000-1786672800@www.nicensleazy.com
SUMMARY:TRAD THURSDAYS
DESCRIPTION:11PM-2AM EVERY THURSDAY \nBrought to you by our resident Trad band! \nAn assortment of knee-slapping traditional Scottish music\, with a few covers here and there. \nCome along just to listen\, or feel free to play – all are welcome to the session!
URL:https://www.nicensleazy.com/event/trad-thursdays-62/2026-08-13
CATEGORIES:Bar,Gig
ATTACH;FMTTYPE=image/png:https://www.nicensleazy.com/wp-content/uploads/2024/11/Screenshot-2025-05-13-at-21.38.54.png
END:VEVENT
BEGIN:VEVENT
DTSTART;TZID=Europe/London:20260820T230000
DTEND;TZID=Europe/London:20260821T020000
DTSTAMP:20260423T114943
CREATED:20241125T225609Z
LAST-MODIFIED:20250513T204235Z
UID:10001919-1787266800-1787277600@www.nicensleazy.com
SUMMARY:TRAD THURSDAYS
DESCRIPTION:11PM-2AM EVERY THURSDAY \nBrought to you by our resident Trad band! \nAn assortment of knee-slapping traditional Scottish music\, with a few covers here and there. \nCome along just to listen\, or feel free to play – all are welcome to the session!
URL:https://www.nicensleazy.com/event/trad-thursdays-62/2026-08-20
CATEGORIES:Bar,Gig
ATTACH;FMTTYPE=image/png:https://www.nicensleazy.com/wp-content/uploads/2024/11/Screenshot-2025-05-13-at-21.38.54.png
END:VEVENT
BEGIN:VEVENT
DTSTART;TZID=Europe/London:20260827T230000
DTEND;TZID=Europe/London:20260828T020000
DTSTAMP:20260423T114943
CREATED:20241125T225609Z
LAST-MODIFIED:20250513T204235Z
UID:10001920-1787871600-1787882400@www.nicensleazy.com
SUMMARY:TRAD THURSDAYS
DESCRIPTION:11PM-2AM EVERY THURSDAY \nBrought to you by our resident Trad band! \nAn assortment of knee-slapping traditional Scottish music\, with a few covers here and there. \nCome along just to listen\, or feel free to play – all are welcome to the session!
URL:https://www.nicensleazy.com/event/trad-thursdays-62/2026-08-27
CATEGORIES:Bar,Gig
ATTACH;FMTTYPE=image/png:https://www.nicensleazy.com/wp-content/uploads/2024/11/Screenshot-2025-05-13-at-21.38.54.png
END:VEVENT
BEGIN:VEVENT
DTSTART;TZID=Europe/London:20260903T230000
DTEND;TZID=Europe/London:20260904T020000
DTSTAMP:20260423T114943
CREATED:20241125T225609Z
LAST-MODIFIED:20250513T204235Z
UID:10001921-1788476400-1788487200@www.nicensleazy.com
SUMMARY:TRAD THURSDAYS
DESCRIPTION:11PM-2AM EVERY THURSDAY \nBrought to you by our resident Trad band! \nAn assortment of knee-slapping traditional Scottish music\, with a few covers here and there. \nCome along just to listen\, or feel free to play – all are welcome to the session!
URL:https://www.nicensleazy.com/event/trad-thursdays-62/2026-09-03
CATEGORIES:Bar,Gig
ATTACH;FMTTYPE=image/png:https://www.nicensleazy.com/wp-content/uploads/2024/11/Screenshot-2025-05-13-at-21.38.54.png
END:VEVENT
BEGIN:VEVENT
DTSTART;TZID=Europe/London:20260907T200000
DTEND;TZID=Europe/London:20260907T230000
DTSTAMP:20260423T114943
CREATED:20241125T200533Z
LAST-MODIFIED:20250514T023452Z
UID:10001525-1788811200-1788822000@www.nicensleazy.com
SUMMARY:OPEN MIC NIGHT WITH GERRY LYONS
DESCRIPTION:Come sing a tune at the longest running Open Mic Night\, going 27 years strong x \nFirst Monday of every month\, 8pm-11pm!\nEveryone welcome\, to perform or just to revel in the talent!
URL:https://www.nicensleazy.com/event/open-mic-night-with-gerry-lyons/2026-09-07
CATEGORIES:Basement,Gig
ATTACH;FMTTYPE=image/png:https://www.nicensleazy.com/wp-content/uploads/2024/11/Screenshot-2025-05-14-at-03.32.04.png
LOCATION:
END:VEVENT
BEGIN:VEVENT
DTSTART;TZID=Europe/London:20260910T230000
DTEND;TZID=Europe/London:20260911T020000
DTSTAMP:20260423T114943
CREATED:20241125T225609Z
LAST-MODIFIED:20250513T204235Z
UID:10001922-1789081200-1789092000@www.nicensleazy.com
SUMMARY:TRAD THURSDAYS
DESCRIPTION:11PM-2AM EVERY THURSDAY \nBrought to you by our resident Trad band! \nAn assortment of knee-slapping traditional Scottish music\, with a few covers here and there. \nCome along just to listen\, or feel free to play – all are welcome to the session!
URL:https://www.nicensleazy.com/event/trad-thursdays-62/2026-09-10
CATEGORIES:Bar,Gig
ATTACH;FMTTYPE=image/png:https://www.nicensleazy.com/wp-content/uploads/2024/11/Screenshot-2025-05-13-at-21.38.54.png
END:VEVENT
BEGIN:VEVENT
DTSTART;TZID=Europe/London:20260917T230000
DTEND;TZID=Europe/London:20260918T020000
DTSTAMP:20260423T114943
CREATED:20241125T225609Z
LAST-MODIFIED:20250513T204235Z
UID:10001923-1789686000-1789696800@www.nicensleazy.com
SUMMARY:TRAD THURSDAYS
DESCRIPTION:11PM-2AM EVERY THURSDAY \nBrought to you by our resident Trad band! \nAn assortment of knee-slapping traditional Scottish music\, with a few covers here and there. \nCome along just to listen\, or feel free to play – all are welcome to the session!
URL:https://www.nicensleazy.com/event/trad-thursdays-62/2026-09-17
CATEGORIES:Bar,Gig
ATTACH;FMTTYPE=image/png:https://www.nicensleazy.com/wp-content/uploads/2024/11/Screenshot-2025-05-13-at-21.38.54.png
END:VEVENT
BEGIN:VEVENT
DTSTART;TZID=Europe/London:20260924T230000
DTEND;TZID=Europe/London:20260925T020000
DTSTAMP:20260423T114943
CREATED:20241125T225609Z
LAST-MODIFIED:20250513T204235Z
UID:10001924-1790290800-1790301600@www.nicensleazy.com
SUMMARY:TRAD THURSDAYS
DESCRIPTION:11PM-2AM EVERY THURSDAY \nBrought to you by our resident Trad band! \nAn assortment of knee-slapping traditional Scottish music\, with a few covers here and there. \nCome along just to listen\, or feel free to play – all are welcome to the session!
URL:https://www.nicensleazy.com/event/trad-thursdays-62/2026-09-24
CATEGORIES:Bar,Gig
ATTACH;FMTTYPE=image/png:https://www.nicensleazy.com/wp-content/uploads/2024/11/Screenshot-2025-05-13-at-21.38.54.png
END:VEVENT
BEGIN:VEVENT
DTSTART;TZID=Europe/London:20261001T230000
DTEND;TZID=Europe/London:20261002T020000
DTSTAMP:20260423T114943
CREATED:20241125T225609Z
LAST-MODIFIED:20250513T204235Z
UID:10001925-1790895600-1790906400@www.nicensleazy.com
SUMMARY:TRAD THURSDAYS
DESCRIPTION:11PM-2AM EVERY THURSDAY \nBrought to you by our resident Trad band! \nAn assortment of knee-slapping traditional Scottish music\, with a few covers here and there. \nCome along just to listen\, or feel free to play – all are welcome to the session!
URL:https://www.nicensleazy.com/event/trad-thursdays-62/2026-10-01
CATEGORIES:Bar,Gig
ATTACH;FMTTYPE=image/png:https://www.nicensleazy.com/wp-content/uploads/2024/11/Screenshot-2025-05-13-at-21.38.54.png
END:VEVENT
BEGIN:VEVENT
DTSTART;TZID=Europe/London:20261005T200000
DTEND;TZID=Europe/London:20261005T230000
DTSTAMP:20260423T114943
CREATED:20241125T200533Z
LAST-MODIFIED:20250514T023452Z
UID:10001526-1791230400-1791241200@www.nicensleazy.com
SUMMARY:OPEN MIC NIGHT WITH GERRY LYONS
DESCRIPTION:Come sing a tune at the longest running Open Mic Night\, going 27 years strong x \nFirst Monday of every month\, 8pm-11pm!\nEveryone welcome\, to perform or just to revel in the talent!
URL:https://www.nicensleazy.com/event/open-mic-night-with-gerry-lyons/2026-10-05
CATEGORIES:Basement,Gig
ATTACH;FMTTYPE=image/png:https://www.nicensleazy.com/wp-content/uploads/2024/11/Screenshot-2025-05-14-at-03.32.04.png
LOCATION:
END:VEVENT
BEGIN:VEVENT
DTSTART;TZID=Europe/London:20261008T230000
DTEND;TZID=Europe/London:20261009T020000
DTSTAMP:20260423T114943
CREATED:20241125T225609Z
LAST-MODIFIED:20250513T204235Z
UID:10001926-1791500400-1791511200@www.nicensleazy.com
SUMMARY:TRAD THURSDAYS
DESCRIPTION:11PM-2AM EVERY THURSDAY \nBrought to you by our resident Trad band! \nAn assortment of knee-slapping traditional Scottish music\, with a few covers here and there. \nCome along just to listen\, or feel free to play – all are welcome to the session!
URL:https://www.nicensleazy.com/event/trad-thursdays-62/2026-10-08
CATEGORIES:Bar,Gig
ATTACH;FMTTYPE=image/png:https://www.nicensleazy.com/wp-content/uploads/2024/11/Screenshot-2025-05-13-at-21.38.54.png
END:VEVENT
BEGIN:VEVENT
DTSTART;TZID=Europe/London:20261015T230000
DTEND;TZID=Europe/London:20261016T020000
DTSTAMP:20260423T114943
CREATED:20241125T225609Z
LAST-MODIFIED:20250513T204235Z
UID:10001927-1792105200-1792116000@www.nicensleazy.com
SUMMARY:TRAD THURSDAYS
DESCRIPTION:11PM-2AM EVERY THURSDAY \nBrought to you by our resident Trad band! \nAn assortment of knee-slapping traditional Scottish music\, with a few covers here and there. \nCome along just to listen\, or feel free to play – all are welcome to the session!
URL:https://www.nicensleazy.com/event/trad-thursdays-62/2026-10-15
CATEGORIES:Bar,Gig
ATTACH;FMTTYPE=image/png:https://www.nicensleazy.com/wp-content/uploads/2024/11/Screenshot-2025-05-13-at-21.38.54.png
END:VEVENT
BEGIN:VEVENT
DTSTART;TZID=Europe/London:20261017T193000
DTEND;TZID=Europe/London:20261017T223000
DTSTAMP:20260423T114943
CREATED:20260302T160753Z
LAST-MODIFIED:20260303T125457Z
UID:10005408-1792265400-1792276200@www.nicensleazy.com
SUMMARY:Lungs: Performing The Music Of Florence + The Machine
DESCRIPTION:Lungs – Performing The Music of Florence + Machine capture the soaring vocals\, dramatic rhythms\, and emotional intensity that define Florence Welch’s iconic music. \nFrom euphoric anthems to haunting ballads\, expect a powerful live performance that celebrates the spirit\, style\, and soul of one of modern music’s most distinctive artists. \nhttps://wegottickets.com/exepresents
URL:https://www.nicensleazy.com/event/lungs-performing-the-music-of-florence-the-machine
CATEGORIES:Basement,Gig
END:VEVENT
BEGIN:VEVENT
DTSTART;TZID=Europe/London:20261022T230000
DTEND;TZID=Europe/London:20261023T020000
DTSTAMP:20260423T114943
CREATED:20241125T225609Z
LAST-MODIFIED:20250513T204235Z
UID:10001928-1792710000-1792720800@www.nicensleazy.com
SUMMARY:TRAD THURSDAYS
DESCRIPTION:11PM-2AM EVERY THURSDAY \nBrought to you by our resident Trad band! \nAn assortment of knee-slapping traditional Scottish music\, with a few covers here and there. \nCome along just to listen\, or feel free to play – all are welcome to the session!
URL:https://www.nicensleazy.com/event/trad-thursdays-62/2026-10-22
CATEGORIES:Bar,Gig
ATTACH;FMTTYPE=image/png:https://www.nicensleazy.com/wp-content/uploads/2024/11/Screenshot-2025-05-13-at-21.38.54.png
END:VEVENT
BEGIN:VEVENT
DTSTART;TZID=Europe/London:20261029T230000
DTEND;TZID=Europe/London:20261030T020000
DTSTAMP:20260423T114943
CREATED:20241125T225609Z
LAST-MODIFIED:20250513T204235Z
UID:10001929-1793314800-1793325600@www.nicensleazy.com
SUMMARY:TRAD THURSDAYS
DESCRIPTION:11PM-2AM EVERY THURSDAY \nBrought to you by our resident Trad band! \nAn assortment of knee-slapping traditional Scottish music\, with a few covers here and there. \nCome along just to listen\, or feel free to play – all are welcome to the session!
URL:https://www.nicensleazy.com/event/trad-thursdays-62/2026-10-29
CATEGORIES:Bar,Gig
ATTACH;FMTTYPE=image/png:https://www.nicensleazy.com/wp-content/uploads/2024/11/Screenshot-2025-05-13-at-21.38.54.png
END:VEVENT
BEGIN:VEVENT
DTSTART;TZID=Europe/London:20261030T193000
DTEND;TZID=Europe/London:20261030T223000
DTSTAMP:20260423T114943
CREATED:20260213T171207Z
LAST-MODIFIED:20260213T171207Z
UID:10005368-1793388600-1793399400@www.nicensleazy.com
SUMMARY:WHEEZER (A Tribute To Weezer)
DESCRIPTION:Celebrating 30 Years of Weezer’s Pinkerton. \nGlasgow – Get ready for a night of distorted guitars\, huge choruses\, and pure 90s alt-rock nostalgia as Wheezer the ultimate Weezer tribute band\, headline Nice N Sleazy for a special show celebrating 30 years of the legendary album Pinkerton. \nExpect a high-energy set packed with Pinkerton classics like El Scorcho\, The Good Life\, Pink Triangle and more — plus a stack of fan favourites from across Weezer’s career. \nCome join us for one of alternative rock’s most iconic albums live in Glasgow. \nTickets – www.nicensleazy.com | www.WeGotTickets.com/exepresents | 16+
URL:https://www.nicensleazy.com/event/wheezer-a-tribute-to-weezer
CATEGORIES:Basement,Gig
END:VEVENT
BEGIN:VEVENT
DTSTART;TZID=Europe/London:20261102T200000
DTEND;TZID=Europe/London:20261102T230000
DTSTAMP:20260423T114943
CREATED:20241125T200533Z
LAST-MODIFIED:20250514T023452Z
UID:10001527-1793649600-1793660400@www.nicensleazy.com
SUMMARY:OPEN MIC NIGHT WITH GERRY LYONS
DESCRIPTION:Come sing a tune at the longest running Open Mic Night\, going 27 years strong x \nFirst Monday of every month\, 8pm-11pm!\nEveryone welcome\, to perform or just to revel in the talent!
URL:https://www.nicensleazy.com/event/open-mic-night-with-gerry-lyons/2026-11-02
CATEGORIES:Basement,Gig
ATTACH;FMTTYPE=image/png:https://www.nicensleazy.com/wp-content/uploads/2024/11/Screenshot-2025-05-14-at-03.32.04.png
LOCATION:
END:VEVENT
END:VCALENDAR