BEGIN:VCALENDAR
VERSION:2.0
PRODID:-//NiceNSleazy - ECPv6.15.20//NONSGML v1.0//EN
CALSCALE:GREGORIAN
METHOD:PUBLISH
X-ORIGINAL-URL:https://www.nicensleazy.com
X-WR-CALDESC:Events for NiceNSleazy
REFRESH-INTERVAL;VALUE=DURATION:PT1H
X-Robots-Tag:noindex
X-PUBLISHED-TTL:PT1H
BEGIN:VTIMEZONE
TZID:Europe/London
BEGIN:DAYLIGHT
TZOFFSETFROM:+0000
TZOFFSETTO:+0100
TZNAME:BST
DTSTART:20240331T010000
END:DAYLIGHT
BEGIN:STANDARD
TZOFFSETFROM:+0100
TZOFFSETTO:+0000
TZNAME:GMT
DTSTART:20241027T010000
END:STANDARD
BEGIN:DAYLIGHT
TZOFFSETFROM:+0000
TZOFFSETTO:+0100
TZNAME:BST
DTSTART:20250330T010000
END:DAYLIGHT
BEGIN:STANDARD
TZOFFSETFROM:+0100
TZOFFSETTO:+0000
TZNAME:GMT
DTSTART:20251026T010000
END:STANDARD
BEGIN:DAYLIGHT
TZOFFSETFROM:+0000
TZOFFSETTO:+0100
TZNAME:BST
DTSTART:20260329T010000
END:DAYLIGHT
BEGIN:STANDARD
TZOFFSETFROM:+0100
TZOFFSETTO:+0000
TZNAME:GMT
DTSTART:20261025T010000
END:STANDARD
END:VTIMEZONE
BEGIN:VEVENT
DTSTART;TZID=Europe/London:20250620T193000
DTEND;TZID=Europe/London:20250620T230000
DTSTAMP:20260420T070242
CREATED:20250311T103445Z
LAST-MODIFIED:20250311T160820Z
UID:10002879-1750447800-1750460400@www.nicensleazy.com
SUMMARY:ARROWS IN ACTION
DESCRIPTION:Since forming at the University of Florida in 2017\, Arrows in Action (singer/guitarist Victor Viramontes-Pattison\, guitarist Matthew Fowler\, and drummer/founding member Jesse Frimmel) have ascended from undergrads to underground buzz band on the back of a swirling blend of angular indie-rock\, ‘80s electric sheen\, and saccharine alt-pop – attracting more than a half-million Spotify listeners to their effortless melodies\, vulnerable lyricism\, and rich sonic ear candy.\nNow\, their debut full-length\, Built To Last\, finds the fast-tracked Nashville trio at their most poignant and personal. Produced and mixed by longtime collaborator Dan Swank\, the independently released Built To Last is the soundtrack to new beginnings and next chapters.
URL:https://www.nicensleazy.com/event/arrows-in-action
CATEGORIES:Gig
ATTACH;FMTTYPE=image/png:https://www.nicensleazy.com/wp-content/uploads/2025/03/Arrows-In-Action-SQUARE.png
END:VEVENT
BEGIN:VEVENT
DTSTART;TZID=Europe/London:20250621T193000
DTEND;TZID=Europe/London:20250621T230000
DTSTAMP:20260420T070242
CREATED:20250311T153641Z
LAST-MODIFIED:20250311T153641Z
UID:10002880-1750534200-1750546800@www.nicensleazy.com
SUMMARY:Basia Bulat
DESCRIPTION:Basia Bulat is a Canadian folk singer-songwriter. She is known for performing with an autoharp
URL:https://www.nicensleazy.com/event/basia-bulat
CATEGORIES:Gig
ATTACH;FMTTYPE=image/png:https://www.nicensleazy.com/wp-content/uploads/2025/03/Basia-Bulat-A3.png
END:VEVENT
BEGIN:VEVENT
DTSTART;TZID=Europe/London:20250624T193000
DTEND;TZID=Europe/London:20250624T230000
DTSTAMP:20260420T070242
CREATED:20250530T135405Z
LAST-MODIFIED:20250530T135637Z
UID:10003827-1750793400-1750806000@www.nicensleazy.com
SUMMARY:FREE MANTEL HYPOTHESIS
DESCRIPTION:FREE MANTEL HYPOTHESIS\n+ SUPPORT
URL:https://www.nicensleazy.com/event/free-mantel-hypothesis
CATEGORIES:Gig
ATTACH;FMTTYPE=image/png:https://www.nicensleazy.com/wp-content/uploads/2025/05/Screenshot-2025-05-30-at-14.52.58.png
END:VEVENT
BEGIN:VEVENT
DTSTART;TZID=Europe/London:20250626T230000
DTEND;TZID=Europe/London:20250627T020000
DTSTAMP:20260420T070242
CREATED:20241125T225609Z
LAST-MODIFIED:20250513T204235Z
UID:10001859-1750978800-1750989600@www.nicensleazy.com
SUMMARY:TRAD THURSDAYS
DESCRIPTION:11PM-2AM EVERY THURSDAY \nBrought to you by our resident Trad band! \nAn assortment of knee-slapping traditional Scottish music\, with a few covers here and there. \nCome along just to listen\, or feel free to play – all are welcome to the session!
URL:https://www.nicensleazy.com/event/trad-thursdays-62/2025-06-26
CATEGORIES:Bar,Gig
ATTACH;FMTTYPE=image/png:https://www.nicensleazy.com/wp-content/uploads/2024/11/Screenshot-2025-05-13-at-21.38.54.png
END:VEVENT
BEGIN:VEVENT
DTSTART;TZID=Europe/London:20250703T230000
DTEND;TZID=Europe/London:20250704T020000
DTSTAMP:20260420T070242
CREATED:20241125T225609Z
LAST-MODIFIED:20250513T204235Z
UID:10001860-1751583600-1751594400@www.nicensleazy.com
SUMMARY:TRAD THURSDAYS
DESCRIPTION:11PM-2AM EVERY THURSDAY \nBrought to you by our resident Trad band! \nAn assortment of knee-slapping traditional Scottish music\, with a few covers here and there. \nCome along just to listen\, or feel free to play – all are welcome to the session!
URL:https://www.nicensleazy.com/event/trad-thursdays-62/2025-07-03
CATEGORIES:Bar,Gig
ATTACH;FMTTYPE=image/png:https://www.nicensleazy.com/wp-content/uploads/2024/11/Screenshot-2025-05-13-at-21.38.54.png
END:VEVENT
BEGIN:VEVENT
DTSTART;TZID=Europe/London:20250707T200000
DTEND;TZID=Europe/London:20250707T230000
DTSTAMP:20260420T070242
CREATED:20241125T200533Z
LAST-MODIFIED:20250514T023452Z
UID:10001511-1751918400-1751929200@www.nicensleazy.com
SUMMARY:OPEN MIC NIGHT WITH GERRY LYONS
DESCRIPTION:Come sing a tune at the longest running Open Mic Night\, going 27 years strong x \nFirst Monday of every month\, 8pm-11pm!\nEveryone welcome\, to perform or just to revel in the talent!
URL:https://www.nicensleazy.com/event/open-mic-night-with-gerry-lyons/2025-07-07
CATEGORIES:Basement,Gig
ATTACH;FMTTYPE=image/png:https://www.nicensleazy.com/wp-content/uploads/2024/11/Screenshot-2025-05-14-at-03.32.04.png
LOCATION:
END:VEVENT
BEGIN:VEVENT
DTSTART;TZID=Europe/London:20250710T073000
DTEND;TZID=Europe/London:20250710T223000
DTSTAMP:20260420T070242
CREATED:20250707T122834Z
LAST-MODIFIED:20250707T123101Z
UID:10003839-1752132600-1752186600@www.nicensleazy.com
SUMMARY:Lonely Daze + Landslide\, So Boring & Cassandra’s Lament
DESCRIPTION:Glasgow’s own Lonely Daze take over Nice N Sleazy for an evening of alt/rock tunes.
URL:https://www.nicensleazy.com/event/lonely-daze-landslide-so-boring-cassandras-lament
CATEGORIES:Gig
ATTACH;FMTTYPE=image/png:https://www.nicensleazy.com/wp-content/uploads/2025/07/Screenshot-2025-07-07-at-13.24.42.png
END:VEVENT
BEGIN:VEVENT
DTSTART;TZID=Europe/London:20250710T230000
DTEND;TZID=Europe/London:20250711T020000
DTSTAMP:20260420T070242
CREATED:20241125T225609Z
LAST-MODIFIED:20250513T204235Z
UID:10001861-1752188400-1752199200@www.nicensleazy.com
SUMMARY:TRAD THURSDAYS
DESCRIPTION:11PM-2AM EVERY THURSDAY \nBrought to you by our resident Trad band! \nAn assortment of knee-slapping traditional Scottish music\, with a few covers here and there. \nCome along just to listen\, or feel free to play – all are welcome to the session!
URL:https://www.nicensleazy.com/event/trad-thursdays-62/2025-07-10
CATEGORIES:Bar,Gig
ATTACH;FMTTYPE=image/png:https://www.nicensleazy.com/wp-content/uploads/2024/11/Screenshot-2025-05-13-at-21.38.54.png
END:VEVENT
BEGIN:VEVENT
DTSTART;TZID=Europe/London:20250711T193000
DTEND;TZID=Europe/London:20250711T223000
DTSTAMP:20260420T070242
CREATED:20250314T125122Z
LAST-MODIFIED:20250317T144357Z
UID:10002887-1752262200-1752273000@www.nicensleazy.com
SUMMARY:THE BODIES + special guests
DESCRIPTION:Glasgow’s alt-rock enfant terrible of the early 90s\, The Bodies\, reconvene at their old haunt to launch a new album. A reverse supergroup of sorts; the post-Bodies members went on to fill the ranks of The Blimp and the Cosmic Rough Riders. Expect propulsive riffs\, visceral beats\, and sweat.
URL:https://www.nicensleazy.com/event/the-bodies-special-guests
CATEGORIES:Gig
ATTACH;FMTTYPE=image/jpeg:https://www.nicensleazy.com/wp-content/uploads/2025/03/Friday_11_July_Flyer.jpg
END:VEVENT
BEGIN:VEVENT
DTSTART;TZID=Europe/London:20250712T193000
DTEND;TZID=Europe/London:20250712T223000
DTSTAMP:20260420T070242
CREATED:20250707T123548Z
LAST-MODIFIED:20250707T123548Z
UID:10003840-1752348600-1752359400@www.nicensleazy.com
SUMMARY:AUGER + SUPPORT
DESCRIPTION:Auger brings a night of dark rock with sharp pop sense to Glasgow’s Nice N Sleazy
URL:https://www.nicensleazy.com/event/auger-support
CATEGORIES:Gig
ATTACH;FMTTYPE=image/png:https://www.nicensleazy.com/wp-content/uploads/2025/07/Screenshot-2025-07-07-at-13.35.13.png
END:VEVENT
BEGIN:VEVENT
DTSTART;TZID=Europe/London:20250713T193000
DTEND;TZID=Europe/London:20250713T223000
DTSTAMP:20260420T070242
CREATED:20250707T124317Z
LAST-MODIFIED:20250707T124331Z
UID:10003841-1752435000-1752445800@www.nicensleazy.com
SUMMARY:APPARATUS (LIVE) + SUPPORT
DESCRIPTION:Appartus headline a night of chaotic genre-bending\, alongside Sentiment and Sugar Darling.
URL:https://www.nicensleazy.com/event/apparatus-live-support
CATEGORIES:Gig
ATTACH;FMTTYPE=image/png:https://www.nicensleazy.com/wp-content/uploads/2025/07/Screenshot-2025-07-07-at-13.42.31.png
END:VEVENT
BEGIN:VEVENT
DTSTART;TZID=Europe/London:20250715T193000
DTEND;TZID=Europe/London:20250715T223000
DTSTAMP:20260420T070242
CREATED:20250707T124726Z
LAST-MODIFIED:20250707T124726Z
UID:10003842-1752607800-1752618600@www.nicensleazy.com
SUMMARY:LEFT LANE CRUISER
DESCRIPTION:PCL presents: Left Lane Cruiser – an American blues rock band from Fort Wayne\, Indiana.
URL:https://www.nicensleazy.com/event/left-lane-cruiser
CATEGORIES:Gig
ATTACH;FMTTYPE=image/png:https://www.nicensleazy.com/wp-content/uploads/2025/07/Left-Lane-Cruiser-Insta-Portrait.png
END:VEVENT
BEGIN:VEVENT
DTSTART;TZID=Europe/London:20250717T080000
DTEND;TZID=Europe/London:20250717T170000
DTSTAMP:20260420T070242
CREATED:20250707T124923Z
LAST-MODIFIED:20250707T124923Z
UID:10003843-1752739200-1752771600@www.nicensleazy.com
SUMMARY:Gloom Cookie  +  Firing at Statues + Venus in the Lake
DESCRIPTION:Join Gloom Cookie as they launch their new EP this July! Support from Firing at Statues and Venus in the lake. Will be an excellent night of pop punk bangers!
URL:https://www.nicensleazy.com/event/gloom-cookie-firing-at-statues-venus-in-the-lake
CATEGORIES:Gig
ATTACH;FMTTYPE=image/jpeg:https://www.nicensleazy.com/wp-content/uploads/2025/07/495307697_1511618813156925_592499661774353188_n.jpg
END:VEVENT
BEGIN:VEVENT
DTSTART;TZID=Europe/London:20250717T230000
DTEND;TZID=Europe/London:20250718T020000
DTSTAMP:20260420T070242
CREATED:20241125T225609Z
LAST-MODIFIED:20250513T204235Z
UID:10001862-1752793200-1752804000@www.nicensleazy.com
SUMMARY:TRAD THURSDAYS
DESCRIPTION:11PM-2AM EVERY THURSDAY \nBrought to you by our resident Trad band! \nAn assortment of knee-slapping traditional Scottish music\, with a few covers here and there. \nCome along just to listen\, or feel free to play – all are welcome to the session!
URL:https://www.nicensleazy.com/event/trad-thursdays-62/2025-07-17
CATEGORIES:Bar,Gig
ATTACH;FMTTYPE=image/png:https://www.nicensleazy.com/wp-content/uploads/2024/11/Screenshot-2025-05-13-at-21.38.54.png
END:VEVENT
BEGIN:VEVENT
DTSTART;TZID=Europe/London:20250718T080000
DTEND;TZID=Europe/London:20250718T170000
DTSTAMP:20260420T070242
CREATED:20250707T125216Z
LAST-MODIFIED:20250707T125216Z
UID:10003844-1752825600-1752858000@www.nicensleazy.com
SUMMARY:HAZY SUNDAYS  + Sex on TV + Local Authority
DESCRIPTION:Glasgow based indie-rock band\, Hazy Sundays\, lauch their new album at Nice N Sleazy!
URL:https://www.nicensleazy.com/event/hazy-sundays-sex-on-tv-local-authority
CATEGORIES:Gig
ATTACH;FMTTYPE=image/jpeg:https://www.nicensleazy.com/wp-content/uploads/2025/07/IMG-20250616-WA0001-Hazy-Sundays.jpg
END:VEVENT
BEGIN:VEVENT
DTSTART;TZID=Europe/London:20250719T200000
DTEND;TZID=Europe/London:20250720T030000
DTSTAMP:20260420T070242
CREATED:20250619T163214Z
LAST-MODIFIED:20250619T170413Z
UID:10003828-1752955200-1752980400@www.nicensleazy.com
SUMMARY:CATEGORY IS...
DESCRIPTION:We’re back this year for another Nice N Sleazy Pride!! \nWith cabaret performances from:\nAatha Frisky\nVeronica Assault\nFemme\nDaddy Delight\nBilly\nAderayo \nClub Takeover with:\nJack D/Adam/Jas (I Kissed A Boy)\nT.D. Slider\nElanda\nLüuma Collective\nSuzie Mac
URL:https://www.nicensleazy.com/event/category-is
CATEGORIES:Gig
ATTACH;FMTTYPE=image/jpeg:https://www.nicensleazy.com/wp-content/uploads/2025/06/NNS-Insta-SQ-02-scaled.jpg
END:VEVENT
BEGIN:VEVENT
DTSTART;TZID=Europe/London:20250721T080000
DTEND;TZID=Europe/London:20250721T170000
DTSTAMP:20260420T070242
CREATED:20250721T124014Z
LAST-MODIFIED:20250721T124639Z
UID:10003863-1753084800-1753117200@www.nicensleazy.com
SUMMARY:False Futures + Lint Bin + Dylan Winters
DESCRIPTION:SMC presents
URL:https://www.nicensleazy.com/event/false-futures-lint-bin-dylan-winters
CATEGORIES:Gig
ATTACH;FMTTYPE=image/png:https://www.nicensleazy.com/wp-content/uploads/2025/07/Screenshot-2025-07-21-at-13.39.56.png
END:VEVENT
BEGIN:VEVENT
DTSTART;TZID=Europe/London:20250724T180000
DTEND;TZID=Europe/London:20250724T223000
DTSTAMP:20260420T070242
CREATED:20250707T131444Z
LAST-MODIFIED:20250707T131444Z
UID:10003845-1753380000-1753396200@www.nicensleazy.com
SUMMARY:KINGS OF NORTH PRESENTS: TERRIFIER UK TOUR: Bitewound & Terrorist PVHC + Swarms + Frail + Screwdriver Lobotomy + Slept On
DESCRIPTION:UK Beatdown Bandits BiteWound headline Glasgow alongside Italians Terrorist PVHC\, with support from Swarms\, Frail\, Screwdriver Lobotomy & Slept On
URL:https://www.nicensleazy.com/event/kings-of-north-presents-terrifier-uk-tour-bitewound-terrorist-pvhc-swarms-frail-screwdriver-lobotomy-slept-on
CATEGORIES:Gig
ATTACH;FMTTYPE=image/png:https://www.nicensleazy.com/wp-content/uploads/2025/07/Screenshot-2025-07-07-at-14.13.48.png
END:VEVENT
BEGIN:VEVENT
DTSTART;TZID=Europe/London:20250724T230000
DTEND;TZID=Europe/London:20250725T020000
DTSTAMP:20260420T070242
CREATED:20241125T225609Z
LAST-MODIFIED:20250513T204235Z
UID:10001863-1753398000-1753408800@www.nicensleazy.com
SUMMARY:TRAD THURSDAYS
DESCRIPTION:11PM-2AM EVERY THURSDAY \nBrought to you by our resident Trad band! \nAn assortment of knee-slapping traditional Scottish music\, with a few covers here and there. \nCome along just to listen\, or feel free to play – all are welcome to the session!
URL:https://www.nicensleazy.com/event/trad-thursdays-62/2025-07-24
CATEGORIES:Bar,Gig
ATTACH;FMTTYPE=image/png:https://www.nicensleazy.com/wp-content/uploads/2024/11/Screenshot-2025-05-13-at-21.38.54.png
END:VEVENT
BEGIN:VEVENT
DTSTART;TZID=Europe/London:20250725T193000
DTEND;TZID=Europe/London:20250725T223000
DTSTAMP:20260420T070242
CREATED:20250707T131731Z
LAST-MODIFIED:20250707T131757Z
UID:10003846-1753471800-1753482600@www.nicensleazy.com
SUMMARY:TEMPEST TETHERED + SAKUARA + CULANN
DESCRIPTION:Tempest Tethered return to Glasgow to showcase their enigmatic\, energetic & electric sound that is not to be missed. Top support as standard.
URL:https://www.nicensleazy.com/event/tempest-tethered-sakuara-culann
CATEGORIES:Gig
ATTACH;FMTTYPE=image/jpeg:https://www.nicensleazy.com/wp-content/uploads/2025/07/IMG_20250613_095843_358-Daniel-Sedgwick.jpg
END:VEVENT
BEGIN:VEVENT
DTSTART;TZID=Europe/London:20250726T193000
DTEND;TZID=Europe/London:20250726T223000
DTSTAMP:20260420T070242
CREATED:20250716T124556Z
LAST-MODIFIED:20250716T124606Z
UID:10003851-1753558200-1753569000@www.nicensleazy.com
SUMMARY:THE BATTLE
DESCRIPTION:TWO BATTLES IN ONE NIGHT! WHAT ONE WILL YOU CHOOSE?? \nperforming for us in Nice N Sleazy will be the incredible @nameless141223\, @raptureband_\, @insertcaptionband\, @howmeanswhy 🎸🚨
URL:https://www.nicensleazy.com/event/the-battle
CATEGORIES:Gig
ATTACH;FMTTYPE=image/png:https://www.nicensleazy.com/wp-content/uploads/2025/07/Screenshot-2025-07-16-at-13.43.59.png
END:VEVENT
BEGIN:VEVENT
DTSTART;TZID=Europe/London:20250727T193000
DTEND;TZID=Europe/London:20250727T223000
DTSTAMP:20260420T070242
CREATED:20250707T132106Z
LAST-MODIFIED:20250707T132120Z
UID:10003847-1753644600-1753655400@www.nicensleazy.com
SUMMARY:FANNY LUMSDEN  + SUPPORT TBA
DESCRIPTION:Australian singer-songwriter\, Fanny Lumsden will be playing Glasgow’s iconic Nice N Sleazy!
URL:https://www.nicensleazy.com/event/fanny-lumsden-support-tba
CATEGORIES:Gig
ATTACH;FMTTYPE=image/png:https://www.nicensleazy.com/wp-content/uploads/2025/07/Screenshot-2025-07-07-at-14.20.50.png
END:VEVENT
BEGIN:VEVENT
DTSTART;TZID=Europe/London:20250729T193000
DTEND;TZID=Europe/London:20250729T223000
DTSTAMP:20260420T070242
CREATED:20250707T133004Z
LAST-MODIFIED:20250707T133032Z
UID:10003848-1753817400-1753828200@www.nicensleazy.com
SUMMARY:FINN FORSTER  + SUPPORT
DESCRIPTION:PCL presents: Finn Forster – an alternative/indie-pop artist from Middlesborough
URL:https://www.nicensleazy.com/event/finn-forster-support
CATEGORIES:Gig
ATTACH;FMTTYPE=image/png:https://www.nicensleazy.com/wp-content/uploads/2025/07/Finn-Forster-Insta-Portrait.png
END:VEVENT
BEGIN:VEVENT
DTSTART;TZID=Europe/London:20250730T193000
DTEND;TZID=Europe/London:20250730T223000
DTSTAMP:20260420T070242
CREATED:20250707T133219Z
LAST-MODIFIED:20250707T133247Z
UID:10003849-1753903800-1753914600@www.nicensleazy.com
SUMMARY:SLUG + SUPPORT
DESCRIPTION:Glasgow locals Slug headline Nice N Sleazy on Wednesday 30th July!
URL:https://www.nicensleazy.com/event/slug-support
CATEGORIES:Gig
ATTACH;FMTTYPE=image/png:https://www.nicensleazy.com/wp-content/uploads/2025/07/SLUG-Insta-Portrait.png
END:VEVENT
BEGIN:VEVENT
DTSTART;TZID=Europe/London:20250731T193000
DTEND;TZID=Europe/London:20250731T223000
DTSTAMP:20260420T070242
CREATED:20250707T133507Z
LAST-MODIFIED:20250707T133530Z
UID:10003850-1753990200-1754001000@www.nicensleazy.com
SUMMARY:RCMS Showcase - Reign\, The Local\, RM147
DESCRIPTION:RCMS present their Showcase\, with an incredible line-up of local bands.
URL:https://www.nicensleazy.com/event/rcms-showcase-reign-the-local-rm147
CATEGORIES:Gig
ATTACH;FMTTYPE=image/png:https://www.nicensleazy.com/wp-content/uploads/2025/07/Screenshot-2025-07-07-at-14.34.33.png
END:VEVENT
BEGIN:VEVENT
DTSTART;TZID=Europe/London:20250731T230000
DTEND;TZID=Europe/London:20250801T020000
DTSTAMP:20260420T070242
CREATED:20241125T225609Z
LAST-MODIFIED:20250513T204235Z
UID:10001864-1754002800-1754013600@www.nicensleazy.com
SUMMARY:TRAD THURSDAYS
DESCRIPTION:11PM-2AM EVERY THURSDAY \nBrought to you by our resident Trad band! \nAn assortment of knee-slapping traditional Scottish music\, with a few covers here and there. \nCome along just to listen\, or feel free to play – all are welcome to the session!
URL:https://www.nicensleazy.com/event/trad-thursdays-62/2025-07-31
CATEGORIES:Bar,Gig
ATTACH;FMTTYPE=image/png:https://www.nicensleazy.com/wp-content/uploads/2024/11/Screenshot-2025-05-13-at-21.38.54.png
END:VEVENT
BEGIN:VEVENT
DTSTART;TZID=Europe/London:20250802T193000
DTEND;TZID=Europe/London:20250802T230000
DTSTAMP:20260420T070242
CREATED:20250721T121034Z
LAST-MODIFIED:20250721T121054Z
UID:10003855-1754163000-1754175600@www.nicensleazy.com
SUMMARY:The Back Pages single launch
DESCRIPTION:THE BACK PAGES\n+ SUPPORT: Haircut Overdose + The Milk  \nRCMS Presents ……… The Back Pages headline show at Glasgow’s Nice n Sleazy – over 16s welcome ..
URL:https://www.nicensleazy.com/event/the-back-pages-single-launch
CATEGORIES:Gig
ATTACH;FMTTYPE=image/png:https://www.nicensleazy.com/wp-content/uploads/2025/07/Screenshot-2025-07-21-at-13.10.08.png
END:VEVENT
BEGIN:VEVENT
DTSTART;TZID=Europe/London:20250804T200000
DTEND;TZID=Europe/London:20250804T230000
DTSTAMP:20260420T070242
CREATED:20241125T200533Z
LAST-MODIFIED:20250514T023452Z
UID:10001512-1754337600-1754348400@www.nicensleazy.com
SUMMARY:OPEN MIC NIGHT WITH GERRY LYONS
DESCRIPTION:Come sing a tune at the longest running Open Mic Night\, going 27 years strong x \nFirst Monday of every month\, 8pm-11pm!\nEveryone welcome\, to perform or just to revel in the talent!
URL:https://www.nicensleazy.com/event/open-mic-night-with-gerry-lyons/2025-08-04
CATEGORIES:Basement,Gig
ATTACH;FMTTYPE=image/png:https://www.nicensleazy.com/wp-content/uploads/2024/11/Screenshot-2025-05-14-at-03.32.04.png
LOCATION:
END:VEVENT
BEGIN:VEVENT
DTSTART;TZID=Europe/London:20250807T230000
DTEND;TZID=Europe/London:20250808T020000
DTSTAMP:20260420T070242
CREATED:20241125T225609Z
LAST-MODIFIED:20250513T204235Z
UID:10001865-1754607600-1754618400@www.nicensleazy.com
SUMMARY:TRAD THURSDAYS
DESCRIPTION:11PM-2AM EVERY THURSDAY \nBrought to you by our resident Trad band! \nAn assortment of knee-slapping traditional Scottish music\, with a few covers here and there. \nCome along just to listen\, or feel free to play – all are welcome to the session!
URL:https://www.nicensleazy.com/event/trad-thursdays-62/2025-08-07
CATEGORIES:Bar,Gig
ATTACH;FMTTYPE=image/png:https://www.nicensleazy.com/wp-content/uploads/2024/11/Screenshot-2025-05-13-at-21.38.54.png
END:VEVENT
BEGIN:VEVENT
DTSTART;TZID=Europe/London:20250808T193000
DTEND;TZID=Europe/London:20250808T220000
DTSTAMP:20260420T070242
CREATED:20250716T125332Z
LAST-MODIFIED:20250721T121419Z
UID:10003852-1754681400-1754690400@www.nicensleazy.com
SUMMARY:BAR // Martha May & The Mondays: Zeroes & Villains PARTY
DESCRIPTION:The official launch party *AT NICE N SLEAZY* for Martha May & The Mondays brand new EP Zeroes & Villains. The EP\, booze\, drag queens and a boogie.
URL:https://www.nicensleazy.com/event/bar-martha-may-the-mondays-zeroes-villains-party
CATEGORIES:Gig
ATTACH;FMTTYPE=image/png:https://www.nicensleazy.com/wp-content/uploads/2025/07/Screenshot-2025-07-16-at-13.49.06.png
END:VEVENT
END:VCALENDAR