BEGIN:VCALENDAR
VERSION:2.0
PRODID:-//NiceNSleazy - ECPv6.15.20//NONSGML v1.0//EN
CALSCALE:GREGORIAN
METHOD:PUBLISH
X-ORIGINAL-URL:https://www.nicensleazy.com
X-WR-CALDESC:Events for NiceNSleazy
REFRESH-INTERVAL;VALUE=DURATION:PT1H
X-Robots-Tag:noindex
X-PUBLISHED-TTL:PT1H
BEGIN:VTIMEZONE
TZID:Europe/London
BEGIN:DAYLIGHT
TZOFFSETFROM:+0000
TZOFFSETTO:+0100
TZNAME:BST
DTSTART:20240331T010000
END:DAYLIGHT
BEGIN:STANDARD
TZOFFSETFROM:+0100
TZOFFSETTO:+0000
TZNAME:GMT
DTSTART:20241027T010000
END:STANDARD
BEGIN:DAYLIGHT
TZOFFSETFROM:+0000
TZOFFSETTO:+0100
TZNAME:BST
DTSTART:20250330T010000
END:DAYLIGHT
BEGIN:STANDARD
TZOFFSETFROM:+0100
TZOFFSETTO:+0000
TZNAME:GMT
DTSTART:20251026T010000
END:STANDARD
BEGIN:DAYLIGHT
TZOFFSETFROM:+0000
TZOFFSETTO:+0100
TZNAME:BST
DTSTART:20260329T010000
END:DAYLIGHT
BEGIN:STANDARD
TZOFFSETFROM:+0100
TZOFFSETTO:+0000
TZNAME:GMT
DTSTART:20261025T010000
END:STANDARD
END:VTIMEZONE
BEGIN:VEVENT
DTSTART;TZID=Europe/London:20250522T230000
DTEND;TZID=Europe/London:20250523T020000
DTSTAMP:20260420T040310
CREATED:20241125T225609Z
LAST-MODIFIED:20250513T204235Z
UID:10001854-1747954800-1747965600@www.nicensleazy.com
SUMMARY:TRAD THURSDAYS
DESCRIPTION:11PM-2AM EVERY THURSDAY \nBrought to you by our resident Trad band! \nAn assortment of knee-slapping traditional Scottish music\, with a few covers here and there. \nCome along just to listen\, or feel free to play – all are welcome to the session!
URL:https://www.nicensleazy.com/event/trad-thursdays-62/2025-05-22
CATEGORIES:Bar,Gig
ATTACH;FMTTYPE=image/png:https://www.nicensleazy.com/wp-content/uploads/2024/11/Screenshot-2025-05-13-at-21.38.54.png
END:VEVENT
BEGIN:VEVENT
DTSTART;TZID=Europe/London:20250523T193000
DTEND;TZID=Europe/London:20250523T230000
DTSTAMP:20260420T040310
CREATED:20250502T112455Z
LAST-MODIFIED:20250502T112651Z
UID:10003190-1748028600-1748041200@www.nicensleazy.com
SUMMARY:VANDERLYE + SUPPORT
DESCRIPTION:+ RYAN HARLEY
URL:https://www.nicensleazy.com/event/vanderlye-support
CATEGORIES:Gig
ATTACH;FMTTYPE=image/png:https://www.nicensleazy.com/wp-content/uploads/2025/05/Screenshot-2025-05-02-at-12.21.45.png
END:VEVENT
BEGIN:VEVENT
DTSTART;TZID=Europe/London:20250529T190000
DTEND;TZID=Europe/London:20250529T230000
DTSTAMP:20260420T040310
CREATED:20241209T100003Z
LAST-MODIFIED:20241203T124304Z
UID:10002389-1748545200-1748559600@www.nicensleazy.com
SUMMARY:PRIMA QUEEN
DESCRIPTION:Thursday 29 May 2025 at 19:00. \n\nPerforming \nPrima Queen
URL:https://www.nicensleazy.com/event/prima-queen
CATEGORIES:Gig
ATTACH;FMTTYPE=image/png:https://www.nicensleazy.com/wp-content/uploads/2024/12/Prima-Queen-A3.png
END:VEVENT
BEGIN:VEVENT
DTSTART;TZID=Europe/London:20250529T193000
DTEND;TZID=Europe/London:20250529T230000
DTSTAMP:20260420T040310
CREATED:20250502T113159Z
LAST-MODIFIED:20250502T113159Z
UID:10003192-1748547000-1748559600@www.nicensleazy.com
SUMMARY:PRIMA QUEEN
DESCRIPTION:
URL:https://www.nicensleazy.com/event/prima-queen-2
CATEGORIES:Gig
ATTACH;FMTTYPE=image/png:https://www.nicensleazy.com/wp-content/uploads/2025/05/Screenshot-2025-05-02-at-12.31.14.png
END:VEVENT
BEGIN:VEVENT
DTSTART;TZID=Europe/London:20250529T230000
DTEND;TZID=Europe/London:20250530T020000
DTSTAMP:20260420T040310
CREATED:20241125T225609Z
LAST-MODIFIED:20250513T204235Z
UID:10001855-1748559600-1748570400@www.nicensleazy.com
SUMMARY:TRAD THURSDAYS
DESCRIPTION:11PM-2AM EVERY THURSDAY \nBrought to you by our resident Trad band! \nAn assortment of knee-slapping traditional Scottish music\, with a few covers here and there. \nCome along just to listen\, or feel free to play – all are welcome to the session!
URL:https://www.nicensleazy.com/event/trad-thursdays-62/2025-05-29
CATEGORIES:Bar,Gig
ATTACH;FMTTYPE=image/png:https://www.nicensleazy.com/wp-content/uploads/2024/11/Screenshot-2025-05-13-at-21.38.54.png
END:VEVENT
BEGIN:VEVENT
DTSTART;TZID=Europe/London:20250530T080000
DTEND;TZID=Europe/London:20250530T170000
DTSTAMP:20260420T040310
CREATED:20250530T132148Z
LAST-MODIFIED:20250530T134117Z
UID:10003824-1748592000-1748624400@www.nicensleazy.com
SUMMARY:ZEBRA LANE + GLEAM
DESCRIPTION:double headline!! \nGleam and Zebra Lane team up for a night of metal/grunge music with additional support from Urban and Double Standard
URL:https://www.nicensleazy.com/event/zebra-lane-gleam
CATEGORIES:Gig
ATTACH;FMTTYPE=image/png:https://www.nicensleazy.com/wp-content/uploads/2025/05/Screenshot-2025-05-30-at-14.11.47.png
END:VEVENT
BEGIN:VEVENT
DTSTART;TZID=Europe/London:20250530T193000
DTEND;TZID=Europe/London:20250530T230000
DTSTAMP:20260420T040310
CREATED:20250502T113442Z
LAST-MODIFIED:20250502T113442Z
UID:10003193-1748633400-1748646000@www.nicensleazy.com
SUMMARY:ALCATRAZ + SUPPORT
DESCRIPTION:Delighted to have the incredible @band_alcatraz for their first ever headline with support from @guevarabandofficial and @thebandpolly
URL:https://www.nicensleazy.com/event/alcatraz-support
CATEGORIES:Gig
ATTACH;FMTTYPE=image/png:https://www.nicensleazy.com/wp-content/uploads/2025/05/Screenshot-2025-05-02-at-12.33.14.png
END:VEVENT
BEGIN:VEVENT
DTSTART;TZID=Europe/London:20250531T193000
DTEND;TZID=Europe/London:20250531T230000
DTSTAMP:20260420T040310
CREATED:20250502T113851Z
LAST-MODIFIED:20250502T113851Z
UID:10003197-1748719800-1748732400@www.nicensleazy.com
SUMMARY:TORRS HEADLINE
DESCRIPTION:Slay Sessions Presents Torrs with supports TBA
URL:https://www.nicensleazy.com/event/torrs-headline
CATEGORIES:Gig
ATTACH;FMTTYPE=image/png:https://www.nicensleazy.com/wp-content/uploads/2025/05/Screenshot-2025-05-02-at-12.37.11.png
END:VEVENT
BEGIN:VEVENT
DTSTART;TZID=Europe/London:20250601T193000
DTEND;TZID=Europe/London:20250601T230000
DTSTAMP:20260420T040310
CREATED:20250530T122325Z
LAST-MODIFIED:20250530T122342Z
UID:10003815-1748806200-1748818800@www.nicensleazy.com
SUMMARY:MY STATUS IS QUO + SUPPORT
DESCRIPTION:Never Miss a Beat presents My Status is quo with support from Sunset Sorrow. A night of tribute music not to be missed.
URL:https://www.nicensleazy.com/event/my-status-is-quo-support
CATEGORIES:Gig
ATTACH;FMTTYPE=image/png:https://www.nicensleazy.com/wp-content/uploads/2025/05/Screenshot-2025-05-30-at-13.21.55.png
END:VEVENT
BEGIN:VEVENT
DTSTART;TZID=Europe/London:20250602T200000
DTEND;TZID=Europe/London:20250602T230000
DTSTAMP:20260420T040310
CREATED:20241125T200533Z
LAST-MODIFIED:20250514T023452Z
UID:10001510-1748894400-1748905200@www.nicensleazy.com
SUMMARY:OPEN MIC NIGHT WITH GERRY LYONS
DESCRIPTION:Come sing a tune at the longest running Open Mic Night\, going 27 years strong x \nFirst Monday of every month\, 8pm-11pm!\nEveryone welcome\, to perform or just to revel in the talent!
URL:https://www.nicensleazy.com/event/open-mic-night-with-gerry-lyons/2025-06-02
CATEGORIES:Basement,Gig
ATTACH;FMTTYPE=image/png:https://www.nicensleazy.com/wp-content/uploads/2024/11/Screenshot-2025-05-14-at-03.32.04.png
LOCATION:
END:VEVENT
BEGIN:VEVENT
DTSTART;TZID=Europe/London:20250602T200000
DTEND;TZID=Europe/London:20250602T230000
DTSTAMP:20260420T040310
CREATED:20250530T123812Z
LAST-MODIFIED:20250530T123824Z
UID:10003817-1748894400-1748905200@www.nicensleazy.com
SUMMARY:OPEN MIC NIGHT W/ GERRY LYONS
DESCRIPTION:the longest running open mic in the universe\ncome sing us a tune x
URL:https://www.nicensleazy.com/event/open-mic-night-w-gerry-lyons
CATEGORIES:Gig
ATTACH;FMTTYPE=image/png:https://www.nicensleazy.com/wp-content/uploads/2025/05/Screenshot-2025-05-30-at-13.35.01.png
END:VEVENT
BEGIN:VEVENT
DTSTART;TZID=Europe/London:20250604T190000
DTEND;TZID=Europe/London:20250604T230000
DTSTAMP:20260420T040310
CREATED:20250530T122733Z
LAST-MODIFIED:20250530T123410Z
UID:10003816-1749063600-1749078000@www.nicensleazy.com
SUMMARY:MSSV
DESCRIPTION:GIG MOVED FROM ORAN MOR
URL:https://www.nicensleazy.com/event/mssv
CATEGORIES:Gig
ATTACH;FMTTYPE=image/png:https://www.nicensleazy.com/wp-content/uploads/2025/05/MSSV-Socials-portrait.png
END:VEVENT
BEGIN:VEVENT
DTSTART;TZID=Europe/London:20250605T193000
DTEND;TZID=Europe/London:20250605T223000
DTSTAMP:20260420T040310
CREATED:20250530T124216Z
LAST-MODIFIED:20250530T124421Z
UID:10003818-1749151800-1749162600@www.nicensleazy.com
SUMMARY:CLAY RINGS + SUPPORT
DESCRIPTION:Spanish-Brit rock band Clay Rings take their explosive live show on tour in the UK for the first time!
URL:https://www.nicensleazy.com/event/clay-rings-support
CATEGORIES:Gig
ATTACH;FMTTYPE=image/png:https://www.nicensleazy.com/wp-content/uploads/2025/05/THIS-WEEK-2.png
END:VEVENT
BEGIN:VEVENT
DTSTART;TZID=Europe/London:20250605T230000
DTEND;TZID=Europe/London:20250606T020000
DTSTAMP:20260420T040310
CREATED:20241125T225609Z
LAST-MODIFIED:20250513T204235Z
UID:10001856-1749164400-1749175200@www.nicensleazy.com
SUMMARY:TRAD THURSDAYS
DESCRIPTION:11PM-2AM EVERY THURSDAY \nBrought to you by our resident Trad band! \nAn assortment of knee-slapping traditional Scottish music\, with a few covers here and there. \nCome along just to listen\, or feel free to play – all are welcome to the session!
URL:https://www.nicensleazy.com/event/trad-thursdays-62/2025-06-05
CATEGORIES:Bar,Gig
ATTACH;FMTTYPE=image/png:https://www.nicensleazy.com/wp-content/uploads/2024/11/Screenshot-2025-05-13-at-21.38.54.png
END:VEVENT
BEGIN:VEVENT
DTSTART;TZID=Europe/London:20250606T190000
DTEND;TZID=Europe/London:20250606T230000
DTSTAMP:20260420T040310
CREATED:20250530T125011Z
LAST-MODIFIED:20250530T125153Z
UID:10003819-1749236400-1749250800@www.nicensleazy.com
SUMMARY:THE RAMONAS + SUPPORT
DESCRIPTION:The Ramonas are the very best in tribute acts to the iconic New York forerunners of punk; The Ramones. The band began in 2004 and has since evolved into the ultimate re-creation of the 1976 spirit of the definite garage rock band. Known for high energy performances that thrill the audiences with all the classic songs\, you better be going to see them play! “Touring\, Touring is never boring” and these girls are guaranteed to play high energy\, full throttle one hour shows that’ll leave you buzzing for more of that 1976 spirit.The Ramonas not only perform sets of Ramones tunes; since 2016 they have also written and released a number of self-penned albums and EP’s. 2024 will see The Ramonas performing your favourite Ramones hits along with new material from their latest album Haphazard.
URL:https://www.nicensleazy.com/event/the-ramonas-support
CATEGORIES:Gig
ATTACH;FMTTYPE=image/png:https://www.nicensleazy.com/wp-content/uploads/2025/05/Screenshot-2025-05-30-at-13.49.17.png
END:VEVENT
BEGIN:VEVENT
DTSTART;TZID=Europe/London:20250607T193000
DTEND;TZID=Europe/London:20250607T223000
DTSTAMP:20260420T040310
CREATED:20250530T130434Z
LAST-MODIFIED:20250530T130511Z
UID:10003820-1749324600-1749335400@www.nicensleazy.com
SUMMARY:NICE N FUNY FT. SOVIREZ + SUPPORT
DESCRIPTION:Kicking off the summer in style\, Sovirez Presents Nice N Funky.
URL:https://www.nicensleazy.com/event/nice-n-funy-ft-sovirez-support
CATEGORIES:Gig
ATTACH;FMTTYPE=image/png:https://www.nicensleazy.com/wp-content/uploads/2025/05/THIS-WEEK-3.png
END:VEVENT
BEGIN:VEVENT
DTSTART;TZID=Europe/London:20250611T193000
DTEND;TZID=Europe/London:20250611T230000
DTSTAMP:20260420T040310
CREATED:20250305T172745Z
LAST-MODIFIED:20250305T172745Z
UID:10002869-1749670200-1749682800@www.nicensleazy.com
SUMMARY:DIKEMBE
DESCRIPTION:
URL:https://www.nicensleazy.com/event/dikembe
CATEGORIES:Gig
ATTACH;FMTTYPE=image/png:https://www.nicensleazy.com/wp-content/uploads/2025/03/Screenshot-2025-03-05-at-17.27.23.png
END:VEVENT
BEGIN:VEVENT
DTSTART;TZID=Europe/London:20250611T193000
DTEND;TZID=Europe/London:20250611T230000
DTSTAMP:20260420T040310
CREATED:20250530T130651Z
LAST-MODIFIED:20250530T130703Z
UID:10003821-1749670200-1749682800@www.nicensleazy.com
SUMMARY:DIKEMBE & SUDS + SUPPORT
DESCRIPTION:
URL:https://www.nicensleazy.com/event/dikembe-suds-support
CATEGORIES:Gig
ATTACH;FMTTYPE=image/png:https://www.nicensleazy.com/wp-content/uploads/2025/05/Screenshot-2025-05-30-at-14.06.35.png
END:VEVENT
BEGIN:VEVENT
DTSTART;TZID=Europe/London:20250612T193000
DTEND;TZID=Europe/London:20250612T230000
DTSTAMP:20260420T040310
CREATED:20250530T130845Z
LAST-MODIFIED:20250530T130859Z
UID:10003822-1749756600-1749769200@www.nicensleazy.com
SUMMARY:STATIC SKY + SUPPORT
DESCRIPTION:16+
URL:https://www.nicensleazy.com/event/static-sky-support
CATEGORIES:Gig
ATTACH;FMTTYPE=image/png:https://www.nicensleazy.com/wp-content/uploads/2025/05/Screenshot-2025-05-30-at-14.08.28.png
END:VEVENT
BEGIN:VEVENT
DTSTART;TZID=Europe/London:20250612T230000
DTEND;TZID=Europe/London:20250613T020000
DTSTAMP:20260420T040310
CREATED:20241125T225609Z
LAST-MODIFIED:20250513T204235Z
UID:10001857-1749769200-1749780000@www.nicensleazy.com
SUMMARY:TRAD THURSDAYS
DESCRIPTION:11PM-2AM EVERY THURSDAY \nBrought to you by our resident Trad band! \nAn assortment of knee-slapping traditional Scottish music\, with a few covers here and there. \nCome along just to listen\, or feel free to play – all are welcome to the session!
URL:https://www.nicensleazy.com/event/trad-thursdays-62/2025-06-12
CATEGORIES:Bar,Gig
ATTACH;FMTTYPE=image/png:https://www.nicensleazy.com/wp-content/uploads/2024/11/Screenshot-2025-05-13-at-21.38.54.png
END:VEVENT
BEGIN:VEVENT
DTSTART;TZID=Europe/London:20250613T193000
DTEND;TZID=Europe/London:20250613T233000
DTSTAMP:20260420T040310
CREATED:20250530T131105Z
LAST-MODIFIED:20250530T131118Z
UID:10003823-1749843000-1749857400@www.nicensleazy.com
SUMMARY:RIVIERA + GRACIOUS + FEAR THE MONGOOS  + AZALEAS
DESCRIPTION:RCMS Presents……Riviera + support live at Nice n Sleazy on June 13th. Doors open 7.30pm – 16+ welcome
URL:https://www.nicensleazy.com/event/riviera-gracious-fear-the-mongoos-azaleas
CATEGORIES:Gig
ATTACH;FMTTYPE=image/png:https://www.nicensleazy.com/wp-content/uploads/2025/05/Screenshot-2025-05-30-at-14.10.52.png
END:VEVENT
BEGIN:VEVENT
DTSTART;TZID=Europe/London:20250618T193000
DTEND;TZID=Europe/London:20250618T230000
DTSTAMP:20260420T040310
CREATED:20250530T134633Z
LAST-MODIFIED:20250530T134638Z
UID:10003825-1750275000-1750287600@www.nicensleazy.com
SUMMARY:CUPID STUNTS
DESCRIPTION:Come see the launch of Glasgow based punk band\, Cupid Stunts\, new single; and see great alt bands from around the UK!
URL:https://www.nicensleazy.com/event/cupid-stunts
CATEGORIES:Gig
ATTACH;FMTTYPE=image/jpeg:https://www.nicensleazy.com/wp-content/uploads/2025/05/1000014319-scaled.jpg
END:VEVENT
BEGIN:VEVENT
DTSTART;TZID=Europe/London:20250619T200000
DTEND;TZID=Europe/London:20250619T220000
DTSTAMP:20260420T040310
CREATED:20250530T134839Z
LAST-MODIFIED:20250530T134846Z
UID:10003826-1750363200-1750370400@www.nicensleazy.com
SUMMARY:TIMMY ALLAN
DESCRIPTION:Glasgo Jazz Festival presents
URL:https://www.nicensleazy.com/event/timmy-allan
CATEGORIES:Gig
ATTACH;FMTTYPE=image/png:https://www.nicensleazy.com/wp-content/uploads/2025/05/Screenshot-2025-05-30-at-14.47.59.png
END:VEVENT
BEGIN:VEVENT
DTSTART;TZID=Europe/London:20250619T230000
DTEND;TZID=Europe/London:20250620T020000
DTSTAMP:20260420T040310
CREATED:20241125T225609Z
LAST-MODIFIED:20250513T204235Z
UID:10001858-1750374000-1750384800@www.nicensleazy.com
SUMMARY:TRAD THURSDAYS
DESCRIPTION:11PM-2AM EVERY THURSDAY \nBrought to you by our resident Trad band! \nAn assortment of knee-slapping traditional Scottish music\, with a few covers here and there. \nCome along just to listen\, or feel free to play – all are welcome to the session!
URL:https://www.nicensleazy.com/event/trad-thursdays-62/2025-06-19
CATEGORIES:Bar,Gig
ATTACH;FMTTYPE=image/png:https://www.nicensleazy.com/wp-content/uploads/2024/11/Screenshot-2025-05-13-at-21.38.54.png
END:VEVENT
BEGIN:VEVENT
DTSTART;TZID=Europe/London:20250620T193000
DTEND;TZID=Europe/London:20250620T230000
DTSTAMP:20260420T040310
CREATED:20250311T103445Z
LAST-MODIFIED:20250311T160820Z
UID:10002879-1750447800-1750460400@www.nicensleazy.com
SUMMARY:ARROWS IN ACTION
DESCRIPTION:Since forming at the University of Florida in 2017\, Arrows in Action (singer/guitarist Victor Viramontes-Pattison\, guitarist Matthew Fowler\, and drummer/founding member Jesse Frimmel) have ascended from undergrads to underground buzz band on the back of a swirling blend of angular indie-rock\, ‘80s electric sheen\, and saccharine alt-pop – attracting more than a half-million Spotify listeners to their effortless melodies\, vulnerable lyricism\, and rich sonic ear candy.\nNow\, their debut full-length\, Built To Last\, finds the fast-tracked Nashville trio at their most poignant and personal. Produced and mixed by longtime collaborator Dan Swank\, the independently released Built To Last is the soundtrack to new beginnings and next chapters.
URL:https://www.nicensleazy.com/event/arrows-in-action
CATEGORIES:Gig
ATTACH;FMTTYPE=image/png:https://www.nicensleazy.com/wp-content/uploads/2025/03/Arrows-In-Action-SQUARE.png
END:VEVENT
BEGIN:VEVENT
DTSTART;TZID=Europe/London:20250621T193000
DTEND;TZID=Europe/London:20250621T230000
DTSTAMP:20260420T040310
CREATED:20250311T153641Z
LAST-MODIFIED:20250311T153641Z
UID:10002880-1750534200-1750546800@www.nicensleazy.com
SUMMARY:Basia Bulat
DESCRIPTION:Basia Bulat is a Canadian folk singer-songwriter. She is known for performing with an autoharp
URL:https://www.nicensleazy.com/event/basia-bulat
CATEGORIES:Gig
ATTACH;FMTTYPE=image/png:https://www.nicensleazy.com/wp-content/uploads/2025/03/Basia-Bulat-A3.png
END:VEVENT
BEGIN:VEVENT
DTSTART;TZID=Europe/London:20250624T193000
DTEND;TZID=Europe/London:20250624T230000
DTSTAMP:20260420T040310
CREATED:20250530T135405Z
LAST-MODIFIED:20250530T135637Z
UID:10003827-1750793400-1750806000@www.nicensleazy.com
SUMMARY:FREE MANTEL HYPOTHESIS
DESCRIPTION:FREE MANTEL HYPOTHESIS\n+ SUPPORT
URL:https://www.nicensleazy.com/event/free-mantel-hypothesis
CATEGORIES:Gig
ATTACH;FMTTYPE=image/png:https://www.nicensleazy.com/wp-content/uploads/2025/05/Screenshot-2025-05-30-at-14.52.58.png
END:VEVENT
BEGIN:VEVENT
DTSTART;TZID=Europe/London:20250626T230000
DTEND;TZID=Europe/London:20250627T020000
DTSTAMP:20260420T040310
CREATED:20241125T225609Z
LAST-MODIFIED:20250513T204235Z
UID:10001859-1750978800-1750989600@www.nicensleazy.com
SUMMARY:TRAD THURSDAYS
DESCRIPTION:11PM-2AM EVERY THURSDAY \nBrought to you by our resident Trad band! \nAn assortment of knee-slapping traditional Scottish music\, with a few covers here and there. \nCome along just to listen\, or feel free to play – all are welcome to the session!
URL:https://www.nicensleazy.com/event/trad-thursdays-62/2025-06-26
CATEGORIES:Bar,Gig
ATTACH;FMTTYPE=image/png:https://www.nicensleazy.com/wp-content/uploads/2024/11/Screenshot-2025-05-13-at-21.38.54.png
END:VEVENT
BEGIN:VEVENT
DTSTART;TZID=Europe/London:20250703T230000
DTEND;TZID=Europe/London:20250704T020000
DTSTAMP:20260420T040310
CREATED:20241125T225609Z
LAST-MODIFIED:20250513T204235Z
UID:10001860-1751583600-1751594400@www.nicensleazy.com
SUMMARY:TRAD THURSDAYS
DESCRIPTION:11PM-2AM EVERY THURSDAY \nBrought to you by our resident Trad band! \nAn assortment of knee-slapping traditional Scottish music\, with a few covers here and there. \nCome along just to listen\, or feel free to play – all are welcome to the session!
URL:https://www.nicensleazy.com/event/trad-thursdays-62/2025-07-03
CATEGORIES:Bar,Gig
ATTACH;FMTTYPE=image/png:https://www.nicensleazy.com/wp-content/uploads/2024/11/Screenshot-2025-05-13-at-21.38.54.png
END:VEVENT
BEGIN:VEVENT
DTSTART;TZID=Europe/London:20250707T200000
DTEND;TZID=Europe/London:20250707T230000
DTSTAMP:20260420T040310
CREATED:20241125T200533Z
LAST-MODIFIED:20250514T023452Z
UID:10001511-1751918400-1751929200@www.nicensleazy.com
SUMMARY:OPEN MIC NIGHT WITH GERRY LYONS
DESCRIPTION:Come sing a tune at the longest running Open Mic Night\, going 27 years strong x \nFirst Monday of every month\, 8pm-11pm!\nEveryone welcome\, to perform or just to revel in the talent!
URL:https://www.nicensleazy.com/event/open-mic-night-with-gerry-lyons/2025-07-07
CATEGORIES:Basement,Gig
ATTACH;FMTTYPE=image/png:https://www.nicensleazy.com/wp-content/uploads/2024/11/Screenshot-2025-05-14-at-03.32.04.png
LOCATION:
END:VEVENT
END:VCALENDAR