BEGIN:VCALENDAR
VERSION:2.0
PRODID:-//NiceNSleazy - ECPv6.15.20//NONSGML v1.0//EN
CALSCALE:GREGORIAN
METHOD:PUBLISH
X-ORIGINAL-URL:https://www.nicensleazy.com
X-WR-CALDESC:Events for NiceNSleazy
REFRESH-INTERVAL;VALUE=DURATION:PT1H
X-Robots-Tag:noindex
X-PUBLISHED-TTL:PT1H
BEGIN:VTIMEZONE
TZID:Europe/London
BEGIN:DAYLIGHT
TZOFFSETFROM:+0000
TZOFFSETTO:+0100
TZNAME:BST
DTSTART:20260329T010000
END:DAYLIGHT
BEGIN:STANDARD
TZOFFSETFROM:+0100
TZOFFSETTO:+0000
TZNAME:GMT
DTSTART:20261025T010000
END:STANDARD
BEGIN:DAYLIGHT
TZOFFSETFROM:+0000
TZOFFSETTO:+0100
TZNAME:BST
DTSTART:20270328T010000
END:DAYLIGHT
BEGIN:STANDARD
TZOFFSETFROM:+0100
TZOFFSETTO:+0000
TZNAME:GMT
DTSTART:20271031T010000
END:STANDARD
BEGIN:DAYLIGHT
TZOFFSETFROM:+0000
TZOFFSETTO:+0100
TZNAME:BST
DTSTART:20280326T010000
END:DAYLIGHT
BEGIN:STANDARD
TZOFFSETFROM:+0100
TZOFFSETTO:+0000
TZNAME:GMT
DTSTART:20281029T010000
END:STANDARD
BEGIN:DAYLIGHT
TZOFFSETFROM:+0000
TZOFFSETTO:+0100
TZNAME:BST
DTSTART:20290325T010000
END:DAYLIGHT
BEGIN:STANDARD
TZOFFSETFROM:+0100
TZOFFSETTO:+0000
TZNAME:GMT
DTSTART:20291028T010000
END:STANDARD
END:VTIMEZONE
BEGIN:VEVENT
DTSTART;TZID=Europe/London:20271206T200000
DTEND;TZID=Europe/London:20271206T230000
DTSTAMP:20260421T095943
CREATED:20241125T200533Z
LAST-MODIFIED:20250514T023452Z
UID:10001540-1828123200-1828134000@www.nicensleazy.com
SUMMARY:OPEN MIC NIGHT WITH GERRY LYONS
DESCRIPTION:Come sing a tune at the longest running Open Mic Night\, going 27 years strong x \nFirst Monday of every month\, 8pm-11pm!\nEveryone welcome\, to perform or just to revel in the talent!
URL:https://www.nicensleazy.com/event/open-mic-night-with-gerry-lyons/2027-12-06
CATEGORIES:Basement,Gig
ATTACH;FMTTYPE=image/png:https://www.nicensleazy.com/wp-content/uploads/2024/11/Screenshot-2025-05-14-at-03.32.04.png
LOCATION:
END:VEVENT
BEGIN:VEVENT
DTSTART;TZID=Europe/London:20271209T230000
DTEND;TZID=Europe/London:20271210T020000
DTSTAMP:20260421T095943
CREATED:20241125T225609Z
LAST-MODIFIED:20250513T204235Z
UID:10001987-1828393200-1828404000@www.nicensleazy.com
SUMMARY:TRAD THURSDAYS
DESCRIPTION:11PM-2AM EVERY THURSDAY \nBrought to you by our resident Trad band! \nAn assortment of knee-slapping traditional Scottish music\, with a few covers here and there. \nCome along just to listen\, or feel free to play – all are welcome to the session!
URL:https://www.nicensleazy.com/event/trad-thursdays-62/2027-12-09
CATEGORIES:Bar,Gig
ATTACH;FMTTYPE=image/png:https://www.nicensleazy.com/wp-content/uploads/2024/11/Screenshot-2025-05-13-at-21.38.54.png
END:VEVENT
BEGIN:VEVENT
DTSTART;TZID=Europe/London:20271216T230000
DTEND;TZID=Europe/London:20271217T020000
DTSTAMP:20260421T095943
CREATED:20241125T225609Z
LAST-MODIFIED:20250513T204235Z
UID:10001988-1828998000-1829008800@www.nicensleazy.com
SUMMARY:TRAD THURSDAYS
DESCRIPTION:11PM-2AM EVERY THURSDAY \nBrought to you by our resident Trad band! \nAn assortment of knee-slapping traditional Scottish music\, with a few covers here and there. \nCome along just to listen\, or feel free to play – all are welcome to the session!
URL:https://www.nicensleazy.com/event/trad-thursdays-62/2027-12-16
CATEGORIES:Bar,Gig
ATTACH;FMTTYPE=image/png:https://www.nicensleazy.com/wp-content/uploads/2024/11/Screenshot-2025-05-13-at-21.38.54.png
END:VEVENT
BEGIN:VEVENT
DTSTART;TZID=Europe/London:20271223T230000
DTEND;TZID=Europe/London:20271224T020000
DTSTAMP:20260421T095943
CREATED:20241125T225609Z
LAST-MODIFIED:20250513T204235Z
UID:10001989-1829602800-1829613600@www.nicensleazy.com
SUMMARY:TRAD THURSDAYS
DESCRIPTION:11PM-2AM EVERY THURSDAY \nBrought to you by our resident Trad band! \nAn assortment of knee-slapping traditional Scottish music\, with a few covers here and there. \nCome along just to listen\, or feel free to play – all are welcome to the session!
URL:https://www.nicensleazy.com/event/trad-thursdays-62/2027-12-23
CATEGORIES:Bar,Gig
ATTACH;FMTTYPE=image/png:https://www.nicensleazy.com/wp-content/uploads/2024/11/Screenshot-2025-05-13-at-21.38.54.png
END:VEVENT
BEGIN:VEVENT
DTSTART;TZID=Europe/London:20271230T230000
DTEND;TZID=Europe/London:20271231T020000
DTSTAMP:20260421T095943
CREATED:20241125T225609Z
LAST-MODIFIED:20250513T204235Z
UID:10001990-1830207600-1830218400@www.nicensleazy.com
SUMMARY:TRAD THURSDAYS
DESCRIPTION:11PM-2AM EVERY THURSDAY \nBrought to you by our resident Trad band! \nAn assortment of knee-slapping traditional Scottish music\, with a few covers here and there. \nCome along just to listen\, or feel free to play – all are welcome to the session!
URL:https://www.nicensleazy.com/event/trad-thursdays-62/2027-12-30
CATEGORIES:Bar,Gig
ATTACH;FMTTYPE=image/png:https://www.nicensleazy.com/wp-content/uploads/2024/11/Screenshot-2025-05-13-at-21.38.54.png
END:VEVENT
BEGIN:VEVENT
DTSTART;TZID=Europe/London:20280103T200000
DTEND;TZID=Europe/London:20280103T230000
DTSTAMP:20260421T095943
CREATED:20241125T200533Z
LAST-MODIFIED:20250514T023452Z
UID:10001541-1830542400-1830553200@www.nicensleazy.com
SUMMARY:OPEN MIC NIGHT WITH GERRY LYONS
DESCRIPTION:Come sing a tune at the longest running Open Mic Night\, going 27 years strong x \nFirst Monday of every month\, 8pm-11pm!\nEveryone welcome\, to perform or just to revel in the talent!
URL:https://www.nicensleazy.com/event/open-mic-night-with-gerry-lyons/2028-01-03
CATEGORIES:Basement,Gig
ATTACH;FMTTYPE=image/png:https://www.nicensleazy.com/wp-content/uploads/2024/11/Screenshot-2025-05-14-at-03.32.04.png
LOCATION:
END:VEVENT
BEGIN:VEVENT
DTSTART;TZID=Europe/London:20280106T230000
DTEND;TZID=Europe/London:20280107T020000
DTSTAMP:20260421T095943
CREATED:20241125T225609Z
LAST-MODIFIED:20250513T204235Z
UID:10001991-1830812400-1830823200@www.nicensleazy.com
SUMMARY:TRAD THURSDAYS
DESCRIPTION:11PM-2AM EVERY THURSDAY \nBrought to you by our resident Trad band! \nAn assortment of knee-slapping traditional Scottish music\, with a few covers here and there. \nCome along just to listen\, or feel free to play – all are welcome to the session!
URL:https://www.nicensleazy.com/event/trad-thursdays-62/2028-01-06
CATEGORIES:Bar,Gig
ATTACH;FMTTYPE=image/png:https://www.nicensleazy.com/wp-content/uploads/2024/11/Screenshot-2025-05-13-at-21.38.54.png
END:VEVENT
BEGIN:VEVENT
DTSTART;TZID=Europe/London:20280113T230000
DTEND;TZID=Europe/London:20280114T020000
DTSTAMP:20260421T095943
CREATED:20241125T225609Z
LAST-MODIFIED:20250513T204235Z
UID:10001992-1831417200-1831428000@www.nicensleazy.com
SUMMARY:TRAD THURSDAYS
DESCRIPTION:11PM-2AM EVERY THURSDAY \nBrought to you by our resident Trad band! \nAn assortment of knee-slapping traditional Scottish music\, with a few covers here and there. \nCome along just to listen\, or feel free to play – all are welcome to the session!
URL:https://www.nicensleazy.com/event/trad-thursdays-62/2028-01-13
CATEGORIES:Bar,Gig
ATTACH;FMTTYPE=image/png:https://www.nicensleazy.com/wp-content/uploads/2024/11/Screenshot-2025-05-13-at-21.38.54.png
END:VEVENT
BEGIN:VEVENT
DTSTART;TZID=Europe/London:20280120T230000
DTEND;TZID=Europe/London:20280121T020000
DTSTAMP:20260421T095943
CREATED:20241125T225609Z
LAST-MODIFIED:20250513T204235Z
UID:10001993-1832022000-1832032800@www.nicensleazy.com
SUMMARY:TRAD THURSDAYS
DESCRIPTION:11PM-2AM EVERY THURSDAY \nBrought to you by our resident Trad band! \nAn assortment of knee-slapping traditional Scottish music\, with a few covers here and there. \nCome along just to listen\, or feel free to play – all are welcome to the session!
URL:https://www.nicensleazy.com/event/trad-thursdays-62/2028-01-20
CATEGORIES:Bar,Gig
ATTACH;FMTTYPE=image/png:https://www.nicensleazy.com/wp-content/uploads/2024/11/Screenshot-2025-05-13-at-21.38.54.png
END:VEVENT
BEGIN:VEVENT
DTSTART;TZID=Europe/London:20280127T230000
DTEND;TZID=Europe/London:20280128T020000
DTSTAMP:20260421T095943
CREATED:20241125T225609Z
LAST-MODIFIED:20250513T204235Z
UID:10001994-1832626800-1832637600@www.nicensleazy.com
SUMMARY:TRAD THURSDAYS
DESCRIPTION:11PM-2AM EVERY THURSDAY \nBrought to you by our resident Trad band! \nAn assortment of knee-slapping traditional Scottish music\, with a few covers here and there. \nCome along just to listen\, or feel free to play – all are welcome to the session!
URL:https://www.nicensleazy.com/event/trad-thursdays-62/2028-01-27
CATEGORIES:Bar,Gig
ATTACH;FMTTYPE=image/png:https://www.nicensleazy.com/wp-content/uploads/2024/11/Screenshot-2025-05-13-at-21.38.54.png
END:VEVENT
BEGIN:VEVENT
DTSTART;TZID=Europe/London:20280203T230000
DTEND;TZID=Europe/London:20280204T020000
DTSTAMP:20260421T095943
CREATED:20241125T225609Z
LAST-MODIFIED:20250513T204235Z
UID:10001995-1833231600-1833242400@www.nicensleazy.com
SUMMARY:TRAD THURSDAYS
DESCRIPTION:11PM-2AM EVERY THURSDAY \nBrought to you by our resident Trad band! \nAn assortment of knee-slapping traditional Scottish music\, with a few covers here and there. \nCome along just to listen\, or feel free to play – all are welcome to the session!
URL:https://www.nicensleazy.com/event/trad-thursdays-62/2028-02-03
CATEGORIES:Bar,Gig
ATTACH;FMTTYPE=image/png:https://www.nicensleazy.com/wp-content/uploads/2024/11/Screenshot-2025-05-13-at-21.38.54.png
END:VEVENT
BEGIN:VEVENT
DTSTART;TZID=Europe/London:20280207T200000
DTEND;TZID=Europe/London:20280207T230000
DTSTAMP:20260421T095943
CREATED:20241125T200533Z
LAST-MODIFIED:20250514T023452Z
UID:10001542-1833566400-1833577200@www.nicensleazy.com
SUMMARY:OPEN MIC NIGHT WITH GERRY LYONS
DESCRIPTION:Come sing a tune at the longest running Open Mic Night\, going 27 years strong x \nFirst Monday of every month\, 8pm-11pm!\nEveryone welcome\, to perform or just to revel in the talent!
URL:https://www.nicensleazy.com/event/open-mic-night-with-gerry-lyons/2028-02-07
CATEGORIES:Basement,Gig
ATTACH;FMTTYPE=image/png:https://www.nicensleazy.com/wp-content/uploads/2024/11/Screenshot-2025-05-14-at-03.32.04.png
LOCATION:
END:VEVENT
BEGIN:VEVENT
DTSTART;TZID=Europe/London:20280210T230000
DTEND;TZID=Europe/London:20280211T020000
DTSTAMP:20260421T095943
CREATED:20241125T225609Z
LAST-MODIFIED:20250513T204235Z
UID:10001996-1833836400-1833847200@www.nicensleazy.com
SUMMARY:TRAD THURSDAYS
DESCRIPTION:11PM-2AM EVERY THURSDAY \nBrought to you by our resident Trad band! \nAn assortment of knee-slapping traditional Scottish music\, with a few covers here and there. \nCome along just to listen\, or feel free to play – all are welcome to the session!
URL:https://www.nicensleazy.com/event/trad-thursdays-62/2028-02-10
CATEGORIES:Bar,Gig
ATTACH;FMTTYPE=image/png:https://www.nicensleazy.com/wp-content/uploads/2024/11/Screenshot-2025-05-13-at-21.38.54.png
END:VEVENT
BEGIN:VEVENT
DTSTART;TZID=Europe/London:20280217T230000
DTEND;TZID=Europe/London:20280218T020000
DTSTAMP:20260421T095943
CREATED:20241125T225609Z
LAST-MODIFIED:20250513T204235Z
UID:10001997-1834441200-1834452000@www.nicensleazy.com
SUMMARY:TRAD THURSDAYS
DESCRIPTION:11PM-2AM EVERY THURSDAY \nBrought to you by our resident Trad band! \nAn assortment of knee-slapping traditional Scottish music\, with a few covers here and there. \nCome along just to listen\, or feel free to play – all are welcome to the session!
URL:https://www.nicensleazy.com/event/trad-thursdays-62/2028-02-17
CATEGORIES:Bar,Gig
ATTACH;FMTTYPE=image/png:https://www.nicensleazy.com/wp-content/uploads/2024/11/Screenshot-2025-05-13-at-21.38.54.png
END:VEVENT
BEGIN:VEVENT
DTSTART;TZID=Europe/London:20280224T230000
DTEND;TZID=Europe/London:20280225T020000
DTSTAMP:20260421T095943
CREATED:20241125T225609Z
LAST-MODIFIED:20250513T204235Z
UID:10001998-1835046000-1835056800@www.nicensleazy.com
SUMMARY:TRAD THURSDAYS
DESCRIPTION:11PM-2AM EVERY THURSDAY \nBrought to you by our resident Trad band! \nAn assortment of knee-slapping traditional Scottish music\, with a few covers here and there. \nCome along just to listen\, or feel free to play – all are welcome to the session!
URL:https://www.nicensleazy.com/event/trad-thursdays-62/2028-02-24
CATEGORIES:Bar,Gig
ATTACH;FMTTYPE=image/png:https://www.nicensleazy.com/wp-content/uploads/2024/11/Screenshot-2025-05-13-at-21.38.54.png
END:VEVENT
BEGIN:VEVENT
DTSTART;TZID=Europe/London:20280302T230000
DTEND;TZID=Europe/London:20280303T020000
DTSTAMP:20260421T095943
CREATED:20241125T225609Z
LAST-MODIFIED:20250513T204235Z
UID:10001999-1835650800-1835661600@www.nicensleazy.com
SUMMARY:TRAD THURSDAYS
DESCRIPTION:11PM-2AM EVERY THURSDAY \nBrought to you by our resident Trad band! \nAn assortment of knee-slapping traditional Scottish music\, with a few covers here and there. \nCome along just to listen\, or feel free to play – all are welcome to the session!
URL:https://www.nicensleazy.com/event/trad-thursdays-62/2028-03-02
CATEGORIES:Bar,Gig
ATTACH;FMTTYPE=image/png:https://www.nicensleazy.com/wp-content/uploads/2024/11/Screenshot-2025-05-13-at-21.38.54.png
END:VEVENT
BEGIN:VEVENT
DTSTART;TZID=Europe/London:20280306T200000
DTEND;TZID=Europe/London:20280306T230000
DTSTAMP:20260421T095943
CREATED:20241125T200533Z
LAST-MODIFIED:20250514T023452Z
UID:10001543-1835985600-1835996400@www.nicensleazy.com
SUMMARY:OPEN MIC NIGHT WITH GERRY LYONS
DESCRIPTION:Come sing a tune at the longest running Open Mic Night\, going 27 years strong x \nFirst Monday of every month\, 8pm-11pm!\nEveryone welcome\, to perform or just to revel in the talent!
URL:https://www.nicensleazy.com/event/open-mic-night-with-gerry-lyons/2028-03-06
CATEGORIES:Basement,Gig
ATTACH;FMTTYPE=image/png:https://www.nicensleazy.com/wp-content/uploads/2024/11/Screenshot-2025-05-14-at-03.32.04.png
LOCATION:
END:VEVENT
BEGIN:VEVENT
DTSTART;TZID=Europe/London:20280309T230000
DTEND;TZID=Europe/London:20280310T020000
DTSTAMP:20260421T095943
CREATED:20241125T225609Z
LAST-MODIFIED:20250513T204235Z
UID:10002000-1836255600-1836266400@www.nicensleazy.com
SUMMARY:TRAD THURSDAYS
DESCRIPTION:11PM-2AM EVERY THURSDAY \nBrought to you by our resident Trad band! \nAn assortment of knee-slapping traditional Scottish music\, with a few covers here and there. \nCome along just to listen\, or feel free to play – all are welcome to the session!
URL:https://www.nicensleazy.com/event/trad-thursdays-62/2028-03-09
CATEGORIES:Bar,Gig
ATTACH;FMTTYPE=image/png:https://www.nicensleazy.com/wp-content/uploads/2024/11/Screenshot-2025-05-13-at-21.38.54.png
END:VEVENT
BEGIN:VEVENT
DTSTART;TZID=Europe/London:20280316T230000
DTEND;TZID=Europe/London:20280317T020000
DTSTAMP:20260421T095943
CREATED:20241125T225609Z
LAST-MODIFIED:20250513T204235Z
UID:10002001-1836860400-1836871200@www.nicensleazy.com
SUMMARY:TRAD THURSDAYS
DESCRIPTION:11PM-2AM EVERY THURSDAY \nBrought to you by our resident Trad band! \nAn assortment of knee-slapping traditional Scottish music\, with a few covers here and there. \nCome along just to listen\, or feel free to play – all are welcome to the session!
URL:https://www.nicensleazy.com/event/trad-thursdays-62/2028-03-16
CATEGORIES:Bar,Gig
ATTACH;FMTTYPE=image/png:https://www.nicensleazy.com/wp-content/uploads/2024/11/Screenshot-2025-05-13-at-21.38.54.png
END:VEVENT
BEGIN:VEVENT
DTSTART;TZID=Europe/London:20280323T230000
DTEND;TZID=Europe/London:20280324T020000
DTSTAMP:20260421T095943
CREATED:20241125T225609Z
LAST-MODIFIED:20250513T204235Z
UID:10002002-1837465200-1837476000@www.nicensleazy.com
SUMMARY:TRAD THURSDAYS
DESCRIPTION:11PM-2AM EVERY THURSDAY \nBrought to you by our resident Trad band! \nAn assortment of knee-slapping traditional Scottish music\, with a few covers here and there. \nCome along just to listen\, or feel free to play – all are welcome to the session!
URL:https://www.nicensleazy.com/event/trad-thursdays-62/2028-03-23
CATEGORIES:Bar,Gig
ATTACH;FMTTYPE=image/png:https://www.nicensleazy.com/wp-content/uploads/2024/11/Screenshot-2025-05-13-at-21.38.54.png
END:VEVENT
BEGIN:VEVENT
DTSTART;TZID=Europe/London:20280330T230000
DTEND;TZID=Europe/London:20280331T020000
DTSTAMP:20260421T095943
CREATED:20241125T225609Z
LAST-MODIFIED:20250513T204235Z
UID:10002003-1838070000-1838080800@www.nicensleazy.com
SUMMARY:TRAD THURSDAYS
DESCRIPTION:11PM-2AM EVERY THURSDAY \nBrought to you by our resident Trad band! \nAn assortment of knee-slapping traditional Scottish music\, with a few covers here and there. \nCome along just to listen\, or feel free to play – all are welcome to the session!
URL:https://www.nicensleazy.com/event/trad-thursdays-62/2028-03-30
CATEGORIES:Bar,Gig
ATTACH;FMTTYPE=image/png:https://www.nicensleazy.com/wp-content/uploads/2024/11/Screenshot-2025-05-13-at-21.38.54.png
END:VEVENT
BEGIN:VEVENT
DTSTART;TZID=Europe/London:20280403T200000
DTEND;TZID=Europe/London:20280403T230000
DTSTAMP:20260421T095943
CREATED:20241125T200533Z
LAST-MODIFIED:20250514T023452Z
UID:10001544-1838404800-1838415600@www.nicensleazy.com
SUMMARY:OPEN MIC NIGHT WITH GERRY LYONS
DESCRIPTION:Come sing a tune at the longest running Open Mic Night\, going 27 years strong x \nFirst Monday of every month\, 8pm-11pm!\nEveryone welcome\, to perform or just to revel in the talent!
URL:https://www.nicensleazy.com/event/open-mic-night-with-gerry-lyons/2028-04-03
CATEGORIES:Basement,Gig
ATTACH;FMTTYPE=image/png:https://www.nicensleazy.com/wp-content/uploads/2024/11/Screenshot-2025-05-14-at-03.32.04.png
LOCATION:
END:VEVENT
BEGIN:VEVENT
DTSTART;TZID=Europe/London:20280406T230000
DTEND;TZID=Europe/London:20280407T020000
DTSTAMP:20260421T095943
CREATED:20241125T225609Z
LAST-MODIFIED:20250513T204235Z
UID:10002004-1838674800-1838685600@www.nicensleazy.com
SUMMARY:TRAD THURSDAYS
DESCRIPTION:11PM-2AM EVERY THURSDAY \nBrought to you by our resident Trad band! \nAn assortment of knee-slapping traditional Scottish music\, with a few covers here and there. \nCome along just to listen\, or feel free to play – all are welcome to the session!
URL:https://www.nicensleazy.com/event/trad-thursdays-62/2028-04-06
CATEGORIES:Bar,Gig
ATTACH;FMTTYPE=image/png:https://www.nicensleazy.com/wp-content/uploads/2024/11/Screenshot-2025-05-13-at-21.38.54.png
END:VEVENT
BEGIN:VEVENT
DTSTART;TZID=Europe/London:20280413T230000
DTEND;TZID=Europe/London:20280414T020000
DTSTAMP:20260421T095943
CREATED:20241125T225609Z
LAST-MODIFIED:20250513T204235Z
UID:10002005-1839279600-1839290400@www.nicensleazy.com
SUMMARY:TRAD THURSDAYS
DESCRIPTION:11PM-2AM EVERY THURSDAY \nBrought to you by our resident Trad band! \nAn assortment of knee-slapping traditional Scottish music\, with a few covers here and there. \nCome along just to listen\, or feel free to play – all are welcome to the session!
URL:https://www.nicensleazy.com/event/trad-thursdays-62/2028-04-13
CATEGORIES:Bar,Gig
ATTACH;FMTTYPE=image/png:https://www.nicensleazy.com/wp-content/uploads/2024/11/Screenshot-2025-05-13-at-21.38.54.png
END:VEVENT
BEGIN:VEVENT
DTSTART;TZID=Europe/London:20280420T230000
DTEND;TZID=Europe/London:20280421T020000
DTSTAMP:20260421T095943
CREATED:20241125T225609Z
LAST-MODIFIED:20250513T204235Z
UID:10002006-1839884400-1839895200@www.nicensleazy.com
SUMMARY:TRAD THURSDAYS
DESCRIPTION:11PM-2AM EVERY THURSDAY \nBrought to you by our resident Trad band! \nAn assortment of knee-slapping traditional Scottish music\, with a few covers here and there. \nCome along just to listen\, or feel free to play – all are welcome to the session!
URL:https://www.nicensleazy.com/event/trad-thursdays-62/2028-04-20
CATEGORIES:Bar,Gig
ATTACH;FMTTYPE=image/png:https://www.nicensleazy.com/wp-content/uploads/2024/11/Screenshot-2025-05-13-at-21.38.54.png
END:VEVENT
BEGIN:VEVENT
DTSTART;TZID=Europe/London:20280427T230000
DTEND;TZID=Europe/London:20280428T020000
DTSTAMP:20260421T095943
CREATED:20241125T225609Z
LAST-MODIFIED:20250513T204235Z
UID:10002007-1840489200-1840500000@www.nicensleazy.com
SUMMARY:TRAD THURSDAYS
DESCRIPTION:11PM-2AM EVERY THURSDAY \nBrought to you by our resident Trad band! \nAn assortment of knee-slapping traditional Scottish music\, with a few covers here and there. \nCome along just to listen\, or feel free to play – all are welcome to the session!
URL:https://www.nicensleazy.com/event/trad-thursdays-62/2028-04-27
CATEGORIES:Bar,Gig
ATTACH;FMTTYPE=image/png:https://www.nicensleazy.com/wp-content/uploads/2024/11/Screenshot-2025-05-13-at-21.38.54.png
END:VEVENT
BEGIN:VEVENT
DTSTART;TZID=Europe/London:20280501T200000
DTEND;TZID=Europe/London:20280501T230000
DTSTAMP:20260421T095943
CREATED:20241125T200533Z
LAST-MODIFIED:20250514T023452Z
UID:10001545-1840824000-1840834800@www.nicensleazy.com
SUMMARY:OPEN MIC NIGHT WITH GERRY LYONS
DESCRIPTION:Come sing a tune at the longest running Open Mic Night\, going 27 years strong x \nFirst Monday of every month\, 8pm-11pm!\nEveryone welcome\, to perform or just to revel in the talent!
URL:https://www.nicensleazy.com/event/open-mic-night-with-gerry-lyons/2028-05-01
CATEGORIES:Basement,Gig
ATTACH;FMTTYPE=image/png:https://www.nicensleazy.com/wp-content/uploads/2024/11/Screenshot-2025-05-14-at-03.32.04.png
LOCATION:
END:VEVENT
BEGIN:VEVENT
DTSTART;TZID=Europe/London:20280504T230000
DTEND;TZID=Europe/London:20280505T020000
DTSTAMP:20260421T095943
CREATED:20241125T225609Z
LAST-MODIFIED:20250513T204235Z
UID:10002008-1841094000-1841104800@www.nicensleazy.com
SUMMARY:TRAD THURSDAYS
DESCRIPTION:11PM-2AM EVERY THURSDAY \nBrought to you by our resident Trad band! \nAn assortment of knee-slapping traditional Scottish music\, with a few covers here and there. \nCome along just to listen\, or feel free to play – all are welcome to the session!
URL:https://www.nicensleazy.com/event/trad-thursdays-62/2028-05-04
CATEGORIES:Bar,Gig
ATTACH;FMTTYPE=image/png:https://www.nicensleazy.com/wp-content/uploads/2024/11/Screenshot-2025-05-13-at-21.38.54.png
END:VEVENT
BEGIN:VEVENT
DTSTART;TZID=Europe/London:20280511T230000
DTEND;TZID=Europe/London:20280512T020000
DTSTAMP:20260421T095943
CREATED:20241125T225609Z
LAST-MODIFIED:20250513T204235Z
UID:10002009-1841698800-1841709600@www.nicensleazy.com
SUMMARY:TRAD THURSDAYS
DESCRIPTION:11PM-2AM EVERY THURSDAY \nBrought to you by our resident Trad band! \nAn assortment of knee-slapping traditional Scottish music\, with a few covers here and there. \nCome along just to listen\, or feel free to play – all are welcome to the session!
URL:https://www.nicensleazy.com/event/trad-thursdays-62/2028-05-11
CATEGORIES:Bar,Gig
ATTACH;FMTTYPE=image/png:https://www.nicensleazy.com/wp-content/uploads/2024/11/Screenshot-2025-05-13-at-21.38.54.png
END:VEVENT
BEGIN:VEVENT
DTSTART;TZID=Europe/London:20280518T230000
DTEND;TZID=Europe/London:20280519T020000
DTSTAMP:20260421T095943
CREATED:20241125T225609Z
LAST-MODIFIED:20250513T204235Z
UID:10002010-1842303600-1842314400@www.nicensleazy.com
SUMMARY:TRAD THURSDAYS
DESCRIPTION:11PM-2AM EVERY THURSDAY \nBrought to you by our resident Trad band! \nAn assortment of knee-slapping traditional Scottish music\, with a few covers here and there. \nCome along just to listen\, or feel free to play – all are welcome to the session!
URL:https://www.nicensleazy.com/event/trad-thursdays-62/2028-05-18
CATEGORIES:Bar,Gig
ATTACH;FMTTYPE=image/png:https://www.nicensleazy.com/wp-content/uploads/2024/11/Screenshot-2025-05-13-at-21.38.54.png
END:VEVENT
END:VCALENDAR