BEGIN:VCALENDAR
VERSION:2.0
PRODID:-//NiceNSleazy - ECPv6.15.20//NONSGML v1.0//EN
CALSCALE:GREGORIAN
METHOD:PUBLISH
X-ORIGINAL-URL:https://www.nicensleazy.com
X-WR-CALDESC:Events for NiceNSleazy
REFRESH-INTERVAL;VALUE=DURATION:PT1H
X-Robots-Tag:noindex
X-PUBLISHED-TTL:PT1H
BEGIN:VTIMEZONE
TZID:Europe/London
BEGIN:DAYLIGHT
TZOFFSETFROM:+0000
TZOFFSETTO:+0100
TZNAME:BST
DTSTART:20260329T010000
END:DAYLIGHT
BEGIN:STANDARD
TZOFFSETFROM:+0100
TZOFFSETTO:+0000
TZNAME:GMT
DTSTART:20261025T010000
END:STANDARD
BEGIN:DAYLIGHT
TZOFFSETFROM:+0000
TZOFFSETTO:+0100
TZNAME:BST
DTSTART:20270328T010000
END:DAYLIGHT
BEGIN:STANDARD
TZOFFSETFROM:+0100
TZOFFSETTO:+0000
TZNAME:GMT
DTSTART:20271031T010000
END:STANDARD
BEGIN:DAYLIGHT
TZOFFSETFROM:+0000
TZOFFSETTO:+0100
TZNAME:BST
DTSTART:20280326T010000
END:DAYLIGHT
BEGIN:STANDARD
TZOFFSETFROM:+0100
TZOFFSETTO:+0000
TZNAME:GMT
DTSTART:20281029T010000
END:STANDARD
END:VTIMEZONE
BEGIN:VEVENT
DTSTART;TZID=Europe/London:20270715T230000
DTEND;TZID=Europe/London:20270716T020000
DTSTAMP:20260420T142436
CREATED:20241125T225609Z
LAST-MODIFIED:20250513T204235Z
UID:10001966-1815692400-1815703200@www.nicensleazy.com
SUMMARY:TRAD THURSDAYS
DESCRIPTION:11PM-2AM EVERY THURSDAY \nBrought to you by our resident Trad band! \nAn assortment of knee-slapping traditional Scottish music\, with a few covers here and there. \nCome along just to listen\, or feel free to play – all are welcome to the session!
URL:https://www.nicensleazy.com/event/trad-thursdays-62/2027-07-15
CATEGORIES:Bar,Gig
ATTACH;FMTTYPE=image/png:https://www.nicensleazy.com/wp-content/uploads/2024/11/Screenshot-2025-05-13-at-21.38.54.png
END:VEVENT
BEGIN:VEVENT
DTSTART;TZID=Europe/London:20270722T230000
DTEND;TZID=Europe/London:20270723T020000
DTSTAMP:20260420T142436
CREATED:20241125T225609Z
LAST-MODIFIED:20250513T204235Z
UID:10001967-1816297200-1816308000@www.nicensleazy.com
SUMMARY:TRAD THURSDAYS
DESCRIPTION:11PM-2AM EVERY THURSDAY \nBrought to you by our resident Trad band! \nAn assortment of knee-slapping traditional Scottish music\, with a few covers here and there. \nCome along just to listen\, or feel free to play – all are welcome to the session!
URL:https://www.nicensleazy.com/event/trad-thursdays-62/2027-07-22
CATEGORIES:Bar,Gig
ATTACH;FMTTYPE=image/png:https://www.nicensleazy.com/wp-content/uploads/2024/11/Screenshot-2025-05-13-at-21.38.54.png
END:VEVENT
BEGIN:VEVENT
DTSTART;TZID=Europe/London:20270729T230000
DTEND;TZID=Europe/London:20270730T020000
DTSTAMP:20260420T142436
CREATED:20241125T225609Z
LAST-MODIFIED:20250513T204235Z
UID:10001968-1816902000-1816912800@www.nicensleazy.com
SUMMARY:TRAD THURSDAYS
DESCRIPTION:11PM-2AM EVERY THURSDAY \nBrought to you by our resident Trad band! \nAn assortment of knee-slapping traditional Scottish music\, with a few covers here and there. \nCome along just to listen\, or feel free to play – all are welcome to the session!
URL:https://www.nicensleazy.com/event/trad-thursdays-62/2027-07-29
CATEGORIES:Bar,Gig
ATTACH;FMTTYPE=image/png:https://www.nicensleazy.com/wp-content/uploads/2024/11/Screenshot-2025-05-13-at-21.38.54.png
END:VEVENT
BEGIN:VEVENT
DTSTART;TZID=Europe/London:20270802T200000
DTEND;TZID=Europe/London:20270802T230000
DTSTAMP:20260420T142436
CREATED:20241125T200533Z
LAST-MODIFIED:20250514T023452Z
UID:10001536-1817236800-1817247600@www.nicensleazy.com
SUMMARY:OPEN MIC NIGHT WITH GERRY LYONS
DESCRIPTION:Come sing a tune at the longest running Open Mic Night\, going 27 years strong x \nFirst Monday of every month\, 8pm-11pm!\nEveryone welcome\, to perform or just to revel in the talent!
URL:https://www.nicensleazy.com/event/open-mic-night-with-gerry-lyons/2027-08-02
CATEGORIES:Basement,Gig
ATTACH;FMTTYPE=image/png:https://www.nicensleazy.com/wp-content/uploads/2024/11/Screenshot-2025-05-14-at-03.32.04.png
LOCATION:
END:VEVENT
BEGIN:VEVENT
DTSTART;TZID=Europe/London:20270805T230000
DTEND;TZID=Europe/London:20270806T020000
DTSTAMP:20260420T142436
CREATED:20241125T225609Z
LAST-MODIFIED:20250513T204235Z
UID:10001969-1817506800-1817517600@www.nicensleazy.com
SUMMARY:TRAD THURSDAYS
DESCRIPTION:11PM-2AM EVERY THURSDAY \nBrought to you by our resident Trad band! \nAn assortment of knee-slapping traditional Scottish music\, with a few covers here and there. \nCome along just to listen\, or feel free to play – all are welcome to the session!
URL:https://www.nicensleazy.com/event/trad-thursdays-62/2027-08-05
CATEGORIES:Bar,Gig
ATTACH;FMTTYPE=image/png:https://www.nicensleazy.com/wp-content/uploads/2024/11/Screenshot-2025-05-13-at-21.38.54.png
END:VEVENT
BEGIN:VEVENT
DTSTART;TZID=Europe/London:20270812T230000
DTEND;TZID=Europe/London:20270813T020000
DTSTAMP:20260420T142436
CREATED:20241125T225609Z
LAST-MODIFIED:20250513T204235Z
UID:10001970-1818111600-1818122400@www.nicensleazy.com
SUMMARY:TRAD THURSDAYS
DESCRIPTION:11PM-2AM EVERY THURSDAY \nBrought to you by our resident Trad band! \nAn assortment of knee-slapping traditional Scottish music\, with a few covers here and there. \nCome along just to listen\, or feel free to play – all are welcome to the session!
URL:https://www.nicensleazy.com/event/trad-thursdays-62/2027-08-12
CATEGORIES:Bar,Gig
ATTACH;FMTTYPE=image/png:https://www.nicensleazy.com/wp-content/uploads/2024/11/Screenshot-2025-05-13-at-21.38.54.png
END:VEVENT
BEGIN:VEVENT
DTSTART;TZID=Europe/London:20270819T230000
DTEND;TZID=Europe/London:20270820T020000
DTSTAMP:20260420T142436
CREATED:20241125T225609Z
LAST-MODIFIED:20250513T204235Z
UID:10001971-1818716400-1818727200@www.nicensleazy.com
SUMMARY:TRAD THURSDAYS
DESCRIPTION:11PM-2AM EVERY THURSDAY \nBrought to you by our resident Trad band! \nAn assortment of knee-slapping traditional Scottish music\, with a few covers here and there. \nCome along just to listen\, or feel free to play – all are welcome to the session!
URL:https://www.nicensleazy.com/event/trad-thursdays-62/2027-08-19
CATEGORIES:Bar,Gig
ATTACH;FMTTYPE=image/png:https://www.nicensleazy.com/wp-content/uploads/2024/11/Screenshot-2025-05-13-at-21.38.54.png
END:VEVENT
BEGIN:VEVENT
DTSTART;TZID=Europe/London:20270826T230000
DTEND;TZID=Europe/London:20270827T020000
DTSTAMP:20260420T142436
CREATED:20241125T225609Z
LAST-MODIFIED:20250513T204235Z
UID:10001972-1819321200-1819332000@www.nicensleazy.com
SUMMARY:TRAD THURSDAYS
DESCRIPTION:11PM-2AM EVERY THURSDAY \nBrought to you by our resident Trad band! \nAn assortment of knee-slapping traditional Scottish music\, with a few covers here and there. \nCome along just to listen\, or feel free to play – all are welcome to the session!
URL:https://www.nicensleazy.com/event/trad-thursdays-62/2027-08-26
CATEGORIES:Bar,Gig
ATTACH;FMTTYPE=image/png:https://www.nicensleazy.com/wp-content/uploads/2024/11/Screenshot-2025-05-13-at-21.38.54.png
END:VEVENT
BEGIN:VEVENT
DTSTART;TZID=Europe/London:20270902T230000
DTEND;TZID=Europe/London:20270903T020000
DTSTAMP:20260420T142436
CREATED:20241125T225609Z
LAST-MODIFIED:20250513T204235Z
UID:10001973-1819926000-1819936800@www.nicensleazy.com
SUMMARY:TRAD THURSDAYS
DESCRIPTION:11PM-2AM EVERY THURSDAY \nBrought to you by our resident Trad band! \nAn assortment of knee-slapping traditional Scottish music\, with a few covers here and there. \nCome along just to listen\, or feel free to play – all are welcome to the session!
URL:https://www.nicensleazy.com/event/trad-thursdays-62/2027-09-02
CATEGORIES:Bar,Gig
ATTACH;FMTTYPE=image/png:https://www.nicensleazy.com/wp-content/uploads/2024/11/Screenshot-2025-05-13-at-21.38.54.png
END:VEVENT
BEGIN:VEVENT
DTSTART;TZID=Europe/London:20270906T200000
DTEND;TZID=Europe/London:20270906T230000
DTSTAMP:20260420T142436
CREATED:20241125T200533Z
LAST-MODIFIED:20250514T023452Z
UID:10001537-1820260800-1820271600@www.nicensleazy.com
SUMMARY:OPEN MIC NIGHT WITH GERRY LYONS
DESCRIPTION:Come sing a tune at the longest running Open Mic Night\, going 27 years strong x \nFirst Monday of every month\, 8pm-11pm!\nEveryone welcome\, to perform or just to revel in the talent!
URL:https://www.nicensleazy.com/event/open-mic-night-with-gerry-lyons/2027-09-06
CATEGORIES:Basement,Gig
ATTACH;FMTTYPE=image/png:https://www.nicensleazy.com/wp-content/uploads/2024/11/Screenshot-2025-05-14-at-03.32.04.png
LOCATION:
END:VEVENT
BEGIN:VEVENT
DTSTART;TZID=Europe/London:20270909T230000
DTEND;TZID=Europe/London:20270910T020000
DTSTAMP:20260420T142436
CREATED:20241125T225609Z
LAST-MODIFIED:20250513T204235Z
UID:10001974-1820530800-1820541600@www.nicensleazy.com
SUMMARY:TRAD THURSDAYS
DESCRIPTION:11PM-2AM EVERY THURSDAY \nBrought to you by our resident Trad band! \nAn assortment of knee-slapping traditional Scottish music\, with a few covers here and there. \nCome along just to listen\, or feel free to play – all are welcome to the session!
URL:https://www.nicensleazy.com/event/trad-thursdays-62/2027-09-09
CATEGORIES:Bar,Gig
ATTACH;FMTTYPE=image/png:https://www.nicensleazy.com/wp-content/uploads/2024/11/Screenshot-2025-05-13-at-21.38.54.png
END:VEVENT
BEGIN:VEVENT
DTSTART;TZID=Europe/London:20270916T230000
DTEND;TZID=Europe/London:20270917T020000
DTSTAMP:20260420T142436
CREATED:20241125T225609Z
LAST-MODIFIED:20250513T204235Z
UID:10001975-1821135600-1821146400@www.nicensleazy.com
SUMMARY:TRAD THURSDAYS
DESCRIPTION:11PM-2AM EVERY THURSDAY \nBrought to you by our resident Trad band! \nAn assortment of knee-slapping traditional Scottish music\, with a few covers here and there. \nCome along just to listen\, or feel free to play – all are welcome to the session!
URL:https://www.nicensleazy.com/event/trad-thursdays-62/2027-09-16
CATEGORIES:Bar,Gig
ATTACH;FMTTYPE=image/png:https://www.nicensleazy.com/wp-content/uploads/2024/11/Screenshot-2025-05-13-at-21.38.54.png
END:VEVENT
BEGIN:VEVENT
DTSTART;TZID=Europe/London:20270923T230000
DTEND;TZID=Europe/London:20270924T020000
DTSTAMP:20260420T142436
CREATED:20241125T225609Z
LAST-MODIFIED:20250513T204235Z
UID:10001976-1821740400-1821751200@www.nicensleazy.com
SUMMARY:TRAD THURSDAYS
DESCRIPTION:11PM-2AM EVERY THURSDAY \nBrought to you by our resident Trad band! \nAn assortment of knee-slapping traditional Scottish music\, with a few covers here and there. \nCome along just to listen\, or feel free to play – all are welcome to the session!
URL:https://www.nicensleazy.com/event/trad-thursdays-62/2027-09-23
CATEGORIES:Bar,Gig
ATTACH;FMTTYPE=image/png:https://www.nicensleazy.com/wp-content/uploads/2024/11/Screenshot-2025-05-13-at-21.38.54.png
END:VEVENT
BEGIN:VEVENT
DTSTART;TZID=Europe/London:20270930T230000
DTEND;TZID=Europe/London:20271001T020000
DTSTAMP:20260420T142436
CREATED:20241125T225609Z
LAST-MODIFIED:20250513T204235Z
UID:10001977-1822345200-1822356000@www.nicensleazy.com
SUMMARY:TRAD THURSDAYS
DESCRIPTION:11PM-2AM EVERY THURSDAY \nBrought to you by our resident Trad band! \nAn assortment of knee-slapping traditional Scottish music\, with a few covers here and there. \nCome along just to listen\, or feel free to play – all are welcome to the session!
URL:https://www.nicensleazy.com/event/trad-thursdays-62/2027-09-30
CATEGORIES:Bar,Gig
ATTACH;FMTTYPE=image/png:https://www.nicensleazy.com/wp-content/uploads/2024/11/Screenshot-2025-05-13-at-21.38.54.png
END:VEVENT
BEGIN:VEVENT
DTSTART;TZID=Europe/London:20271004T200000
DTEND;TZID=Europe/London:20271004T230000
DTSTAMP:20260420T142436
CREATED:20241125T200533Z
LAST-MODIFIED:20250514T023452Z
UID:10001538-1822680000-1822690800@www.nicensleazy.com
SUMMARY:OPEN MIC NIGHT WITH GERRY LYONS
DESCRIPTION:Come sing a tune at the longest running Open Mic Night\, going 27 years strong x \nFirst Monday of every month\, 8pm-11pm!\nEveryone welcome\, to perform or just to revel in the talent!
URL:https://www.nicensleazy.com/event/open-mic-night-with-gerry-lyons/2027-10-04
CATEGORIES:Basement,Gig
ATTACH;FMTTYPE=image/png:https://www.nicensleazy.com/wp-content/uploads/2024/11/Screenshot-2025-05-14-at-03.32.04.png
LOCATION:
END:VEVENT
BEGIN:VEVENT
DTSTART;TZID=Europe/London:20271007T230000
DTEND;TZID=Europe/London:20271008T020000
DTSTAMP:20260420T142436
CREATED:20241125T225609Z
LAST-MODIFIED:20250513T204235Z
UID:10001978-1822950000-1822960800@www.nicensleazy.com
SUMMARY:TRAD THURSDAYS
DESCRIPTION:11PM-2AM EVERY THURSDAY \nBrought to you by our resident Trad band! \nAn assortment of knee-slapping traditional Scottish music\, with a few covers here and there. \nCome along just to listen\, or feel free to play – all are welcome to the session!
URL:https://www.nicensleazy.com/event/trad-thursdays-62/2027-10-07
CATEGORIES:Bar,Gig
ATTACH;FMTTYPE=image/png:https://www.nicensleazy.com/wp-content/uploads/2024/11/Screenshot-2025-05-13-at-21.38.54.png
END:VEVENT
BEGIN:VEVENT
DTSTART;TZID=Europe/London:20271014T230000
DTEND;TZID=Europe/London:20271015T020000
DTSTAMP:20260420T142436
CREATED:20241125T225609Z
LAST-MODIFIED:20250513T204235Z
UID:10001979-1823554800-1823565600@www.nicensleazy.com
SUMMARY:TRAD THURSDAYS
DESCRIPTION:11PM-2AM EVERY THURSDAY \nBrought to you by our resident Trad band! \nAn assortment of knee-slapping traditional Scottish music\, with a few covers here and there. \nCome along just to listen\, or feel free to play – all are welcome to the session!
URL:https://www.nicensleazy.com/event/trad-thursdays-62/2027-10-14
CATEGORIES:Bar,Gig
ATTACH;FMTTYPE=image/png:https://www.nicensleazy.com/wp-content/uploads/2024/11/Screenshot-2025-05-13-at-21.38.54.png
END:VEVENT
BEGIN:VEVENT
DTSTART;TZID=Europe/London:20271021T230000
DTEND;TZID=Europe/London:20271022T020000
DTSTAMP:20260420T142436
CREATED:20241125T225609Z
LAST-MODIFIED:20250513T204235Z
UID:10001980-1824159600-1824170400@www.nicensleazy.com
SUMMARY:TRAD THURSDAYS
DESCRIPTION:11PM-2AM EVERY THURSDAY \nBrought to you by our resident Trad band! \nAn assortment of knee-slapping traditional Scottish music\, with a few covers here and there. \nCome along just to listen\, or feel free to play – all are welcome to the session!
URL:https://www.nicensleazy.com/event/trad-thursdays-62/2027-10-21
CATEGORIES:Bar,Gig
ATTACH;FMTTYPE=image/png:https://www.nicensleazy.com/wp-content/uploads/2024/11/Screenshot-2025-05-13-at-21.38.54.png
END:VEVENT
BEGIN:VEVENT
DTSTART;TZID=Europe/London:20271028T230000
DTEND;TZID=Europe/London:20271029T020000
DTSTAMP:20260420T142436
CREATED:20241125T225609Z
LAST-MODIFIED:20250513T204235Z
UID:10001981-1824764400-1824775200@www.nicensleazy.com
SUMMARY:TRAD THURSDAYS
DESCRIPTION:11PM-2AM EVERY THURSDAY \nBrought to you by our resident Trad band! \nAn assortment of knee-slapping traditional Scottish music\, with a few covers here and there. \nCome along just to listen\, or feel free to play – all are welcome to the session!
URL:https://www.nicensleazy.com/event/trad-thursdays-62/2027-10-28
CATEGORIES:Bar,Gig
ATTACH;FMTTYPE=image/png:https://www.nicensleazy.com/wp-content/uploads/2024/11/Screenshot-2025-05-13-at-21.38.54.png
END:VEVENT
BEGIN:VEVENT
DTSTART;TZID=Europe/London:20271101T200000
DTEND;TZID=Europe/London:20271101T230000
DTSTAMP:20260420T142436
CREATED:20241125T200533Z
LAST-MODIFIED:20250514T023452Z
UID:10001539-1825099200-1825110000@www.nicensleazy.com
SUMMARY:OPEN MIC NIGHT WITH GERRY LYONS
DESCRIPTION:Come sing a tune at the longest running Open Mic Night\, going 27 years strong x \nFirst Monday of every month\, 8pm-11pm!\nEveryone welcome\, to perform or just to revel in the talent!
URL:https://www.nicensleazy.com/event/open-mic-night-with-gerry-lyons/2027-11-01
CATEGORIES:Basement,Gig
ATTACH;FMTTYPE=image/png:https://www.nicensleazy.com/wp-content/uploads/2024/11/Screenshot-2025-05-14-at-03.32.04.png
LOCATION:
END:VEVENT
BEGIN:VEVENT
DTSTART;TZID=Europe/London:20271104T230000
DTEND;TZID=Europe/London:20271105T020000
DTSTAMP:20260420T142436
CREATED:20241125T225609Z
LAST-MODIFIED:20250513T204235Z
UID:10001982-1825369200-1825380000@www.nicensleazy.com
SUMMARY:TRAD THURSDAYS
DESCRIPTION:11PM-2AM EVERY THURSDAY \nBrought to you by our resident Trad band! \nAn assortment of knee-slapping traditional Scottish music\, with a few covers here and there. \nCome along just to listen\, or feel free to play – all are welcome to the session!
URL:https://www.nicensleazy.com/event/trad-thursdays-62/2027-11-04
CATEGORIES:Bar,Gig
ATTACH;FMTTYPE=image/png:https://www.nicensleazy.com/wp-content/uploads/2024/11/Screenshot-2025-05-13-at-21.38.54.png
END:VEVENT
BEGIN:VEVENT
DTSTART;TZID=Europe/London:20271111T230000
DTEND;TZID=Europe/London:20271112T020000
DTSTAMP:20260420T142436
CREATED:20241125T225609Z
LAST-MODIFIED:20250513T204235Z
UID:10001983-1825974000-1825984800@www.nicensleazy.com
SUMMARY:TRAD THURSDAYS
DESCRIPTION:11PM-2AM EVERY THURSDAY \nBrought to you by our resident Trad band! \nAn assortment of knee-slapping traditional Scottish music\, with a few covers here and there. \nCome along just to listen\, or feel free to play – all are welcome to the session!
URL:https://www.nicensleazy.com/event/trad-thursdays-62/2027-11-11
CATEGORIES:Bar,Gig
ATTACH;FMTTYPE=image/png:https://www.nicensleazy.com/wp-content/uploads/2024/11/Screenshot-2025-05-13-at-21.38.54.png
END:VEVENT
BEGIN:VEVENT
DTSTART;TZID=Europe/London:20271118T230000
DTEND;TZID=Europe/London:20271119T020000
DTSTAMP:20260420T142436
CREATED:20241125T225609Z
LAST-MODIFIED:20250513T204235Z
UID:10001984-1826578800-1826589600@www.nicensleazy.com
SUMMARY:TRAD THURSDAYS
DESCRIPTION:11PM-2AM EVERY THURSDAY \nBrought to you by our resident Trad band! \nAn assortment of knee-slapping traditional Scottish music\, with a few covers here and there. \nCome along just to listen\, or feel free to play – all are welcome to the session!
URL:https://www.nicensleazy.com/event/trad-thursdays-62/2027-11-18
CATEGORIES:Bar,Gig
ATTACH;FMTTYPE=image/png:https://www.nicensleazy.com/wp-content/uploads/2024/11/Screenshot-2025-05-13-at-21.38.54.png
END:VEVENT
BEGIN:VEVENT
DTSTART;TZID=Europe/London:20271125T230000
DTEND;TZID=Europe/London:20271126T020000
DTSTAMP:20260420T142436
CREATED:20241125T225609Z
LAST-MODIFIED:20250513T204235Z
UID:10001985-1827183600-1827194400@www.nicensleazy.com
SUMMARY:TRAD THURSDAYS
DESCRIPTION:11PM-2AM EVERY THURSDAY \nBrought to you by our resident Trad band! \nAn assortment of knee-slapping traditional Scottish music\, with a few covers here and there. \nCome along just to listen\, or feel free to play – all are welcome to the session!
URL:https://www.nicensleazy.com/event/trad-thursdays-62/2027-11-25
CATEGORIES:Bar,Gig
ATTACH;FMTTYPE=image/png:https://www.nicensleazy.com/wp-content/uploads/2024/11/Screenshot-2025-05-13-at-21.38.54.png
END:VEVENT
BEGIN:VEVENT
DTSTART;TZID=Europe/London:20271202T230000
DTEND;TZID=Europe/London:20271203T020000
DTSTAMP:20260420T142436
CREATED:20241125T225609Z
LAST-MODIFIED:20250513T204235Z
UID:10001986-1827788400-1827799200@www.nicensleazy.com
SUMMARY:TRAD THURSDAYS
DESCRIPTION:11PM-2AM EVERY THURSDAY \nBrought to you by our resident Trad band! \nAn assortment of knee-slapping traditional Scottish music\, with a few covers here and there. \nCome along just to listen\, or feel free to play – all are welcome to the session!
URL:https://www.nicensleazy.com/event/trad-thursdays-62/2027-12-02
CATEGORIES:Bar,Gig
ATTACH;FMTTYPE=image/png:https://www.nicensleazy.com/wp-content/uploads/2024/11/Screenshot-2025-05-13-at-21.38.54.png
END:VEVENT
BEGIN:VEVENT
DTSTART;TZID=Europe/London:20271206T200000
DTEND;TZID=Europe/London:20271206T230000
DTSTAMP:20260420T142436
CREATED:20241125T200533Z
LAST-MODIFIED:20250514T023452Z
UID:10001540-1828123200-1828134000@www.nicensleazy.com
SUMMARY:OPEN MIC NIGHT WITH GERRY LYONS
DESCRIPTION:Come sing a tune at the longest running Open Mic Night\, going 27 years strong x \nFirst Monday of every month\, 8pm-11pm!\nEveryone welcome\, to perform or just to revel in the talent!
URL:https://www.nicensleazy.com/event/open-mic-night-with-gerry-lyons/2027-12-06
CATEGORIES:Basement,Gig
ATTACH;FMTTYPE=image/png:https://www.nicensleazy.com/wp-content/uploads/2024/11/Screenshot-2025-05-14-at-03.32.04.png
LOCATION:
END:VEVENT
BEGIN:VEVENT
DTSTART;TZID=Europe/London:20271209T230000
DTEND;TZID=Europe/London:20271210T020000
DTSTAMP:20260420T142437
CREATED:20241125T225609Z
LAST-MODIFIED:20250513T204235Z
UID:10001987-1828393200-1828404000@www.nicensleazy.com
SUMMARY:TRAD THURSDAYS
DESCRIPTION:11PM-2AM EVERY THURSDAY \nBrought to you by our resident Trad band! \nAn assortment of knee-slapping traditional Scottish music\, with a few covers here and there. \nCome along just to listen\, or feel free to play – all are welcome to the session!
URL:https://www.nicensleazy.com/event/trad-thursdays-62/2027-12-09
CATEGORIES:Bar,Gig
ATTACH;FMTTYPE=image/png:https://www.nicensleazy.com/wp-content/uploads/2024/11/Screenshot-2025-05-13-at-21.38.54.png
END:VEVENT
BEGIN:VEVENT
DTSTART;TZID=Europe/London:20271216T230000
DTEND;TZID=Europe/London:20271217T020000
DTSTAMP:20260420T142437
CREATED:20241125T225609Z
LAST-MODIFIED:20250513T204235Z
UID:10001988-1828998000-1829008800@www.nicensleazy.com
SUMMARY:TRAD THURSDAYS
DESCRIPTION:11PM-2AM EVERY THURSDAY \nBrought to you by our resident Trad band! \nAn assortment of knee-slapping traditional Scottish music\, with a few covers here and there. \nCome along just to listen\, or feel free to play – all are welcome to the session!
URL:https://www.nicensleazy.com/event/trad-thursdays-62/2027-12-16
CATEGORIES:Bar,Gig
ATTACH;FMTTYPE=image/png:https://www.nicensleazy.com/wp-content/uploads/2024/11/Screenshot-2025-05-13-at-21.38.54.png
END:VEVENT
BEGIN:VEVENT
DTSTART;TZID=Europe/London:20271223T230000
DTEND;TZID=Europe/London:20271224T020000
DTSTAMP:20260420T142437
CREATED:20241125T225609Z
LAST-MODIFIED:20250513T204235Z
UID:10001989-1829602800-1829613600@www.nicensleazy.com
SUMMARY:TRAD THURSDAYS
DESCRIPTION:11PM-2AM EVERY THURSDAY \nBrought to you by our resident Trad band! \nAn assortment of knee-slapping traditional Scottish music\, with a few covers here and there. \nCome along just to listen\, or feel free to play – all are welcome to the session!
URL:https://www.nicensleazy.com/event/trad-thursdays-62/2027-12-23
CATEGORIES:Bar,Gig
ATTACH;FMTTYPE=image/png:https://www.nicensleazy.com/wp-content/uploads/2024/11/Screenshot-2025-05-13-at-21.38.54.png
END:VEVENT
BEGIN:VEVENT
DTSTART;TZID=Europe/London:20271230T230000
DTEND;TZID=Europe/London:20271231T020000
DTSTAMP:20260420T142437
CREATED:20241125T225609Z
LAST-MODIFIED:20250513T204235Z
UID:10001990-1830207600-1830218400@www.nicensleazy.com
SUMMARY:TRAD THURSDAYS
DESCRIPTION:11PM-2AM EVERY THURSDAY \nBrought to you by our resident Trad band! \nAn assortment of knee-slapping traditional Scottish music\, with a few covers here and there. \nCome along just to listen\, or feel free to play – all are welcome to the session!
URL:https://www.nicensleazy.com/event/trad-thursdays-62/2027-12-30
CATEGORIES:Bar,Gig
ATTACH;FMTTYPE=image/png:https://www.nicensleazy.com/wp-content/uploads/2024/11/Screenshot-2025-05-13-at-21.38.54.png
END:VEVENT
END:VCALENDAR