BEGIN:VCALENDAR
VERSION:2.0
PRODID:-//NiceNSleazy - ECPv6.15.20//NONSGML v1.0//EN
CALSCALE:GREGORIAN
METHOD:PUBLISH
X-WR-CALNAME:NiceNSleazy
X-ORIGINAL-URL:https://www.nicensleazy.com
X-WR-CALDESC:Events for NiceNSleazy
REFRESH-INTERVAL;VALUE=DURATION:PT1H
X-Robots-Tag:noindex
X-PUBLISHED-TTL:PT1H
BEGIN:VTIMEZONE
TZID:Europe/London
BEGIN:DAYLIGHT
TZOFFSETFROM:+0000
TZOFFSETTO:+0100
TZNAME:BST
DTSTART:20230326T010000
END:DAYLIGHT
BEGIN:STANDARD
TZOFFSETFROM:+0100
TZOFFSETTO:+0000
TZNAME:GMT
DTSTART:20231029T010000
END:STANDARD
BEGIN:DAYLIGHT
TZOFFSETFROM:+0000
TZOFFSETTO:+0100
TZNAME:BST
DTSTART:20240331T010000
END:DAYLIGHT
BEGIN:STANDARD
TZOFFSETFROM:+0100
TZOFFSETTO:+0000
TZNAME:GMT
DTSTART:20241027T010000
END:STANDARD
BEGIN:DAYLIGHT
TZOFFSETFROM:+0000
TZOFFSETTO:+0100
TZNAME:BST
DTSTART:20250330T010000
END:DAYLIGHT
BEGIN:STANDARD
TZOFFSETFROM:+0100
TZOFFSETTO:+0000
TZNAME:GMT
DTSTART:20251026T010000
END:STANDARD
END:VTIMEZONE
BEGIN:VEVENT
DTSTART;TZID=Europe/London:20240908T193000
DTEND;TZID=Europe/London:20240908T230000
DTSTAMP:20260421T024034
CREATED:20240829T124053Z
LAST-MODIFIED:20240829T124053Z
UID:10000991-1725823800-1725836400@www.nicensleazy.com
SUMMARY:GIG: WHACKING SCOTLAND ANNIVERSARY
DESCRIPTION:It’s been a year🥺❣️🎉An idea became much bigger ✨\nSo much has happened and want to say a huge thank you to everyone who has been part of the journey! \nCelebrating #punking #posing #whacking. Celebrating community. Celebrating trying something new. Celebrating partnerships. Celebrating people. Celebrating life.\nLet’s dance! \nA beautiful way for me to celebrate with everyone before I head back to the motherland for a few months. Hope to see you there
URL:https://www.nicensleazy.com/event/gig-whacking-scotland-anniversary
CATEGORIES:Gig
ATTACH;FMTTYPE=image/png:https://www.nicensleazy.com/wp-content/uploads/2024/08/Whacking-Scotland-Anniversary.png
END:VEVENT
END:VCALENDAR