BEGIN:VCALENDAR
VERSION:2.0
PRODID:-//NiceNSleazy - ECPv6.15.20//NONSGML v1.0//EN
CALSCALE:GREGORIAN
METHOD:PUBLISH
X-WR-CALNAME:NiceNSleazy
X-ORIGINAL-URL:https://www.nicensleazy.com
X-WR-CALDESC:Events for NiceNSleazy
REFRESH-INTERVAL;VALUE=DURATION:PT1H
X-Robots-Tag:noindex
X-PUBLISHED-TTL:PT1H
BEGIN:VTIMEZONE
TZID:Europe/London
BEGIN:DAYLIGHT
TZOFFSETFROM:+0000
TZOFFSETTO:+0100
TZNAME:BST
DTSTART:20230326T010000
END:DAYLIGHT
BEGIN:STANDARD
TZOFFSETFROM:+0100
TZOFFSETTO:+0000
TZNAME:GMT
DTSTART:20231029T010000
END:STANDARD
BEGIN:DAYLIGHT
TZOFFSETFROM:+0000
TZOFFSETTO:+0100
TZNAME:BST
DTSTART:20240331T010000
END:DAYLIGHT
BEGIN:STANDARD
TZOFFSETFROM:+0100
TZOFFSETTO:+0000
TZNAME:GMT
DTSTART:20241027T010000
END:STANDARD
BEGIN:DAYLIGHT
TZOFFSETFROM:+0000
TZOFFSETTO:+0100
TZNAME:BST
DTSTART:20250330T010000
END:DAYLIGHT
BEGIN:STANDARD
TZOFFSETFROM:+0100
TZOFFSETTO:+0000
TZNAME:GMT
DTSTART:20251026T010000
END:STANDARD
END:VTIMEZONE
BEGIN:VEVENT
DTSTART;TZID=Europe/London:20240906T073000
DTEND;TZID=Europe/London:20240906T230000
DTSTAMP:20260420T235245
CREATED:20240829T121051Z
LAST-MODIFIED:20240829T121218Z
UID:10000989-1725607800-1725663600@www.nicensleazy.com
SUMMARY:GIG: BRAW & UNCUT - GERMAN SPARKLE PARTY
DESCRIPTION:A sparkly party thrown by the modern native inhabitants of Germania.\nA swaggalicious occurance synonmous with hardcore awesome. Typically correlated with rübber bööts and pärty pänts. However it transcends common knowledge\, which dismisses it as basely effeminate. The true magnitude of extreme über gucci swag eminating from these gatherings is beyond the base understanding of the uninitiated. \nWenn es gibt kein Glitzer\, es gibt kein Party\, ja.\nWhen there are no sparkles\, there is no party\, ja.
URL:https://www.nicensleazy.com/event/gig-braw-uncut-german-sparkle-party
CATEGORIES:Gig
ATTACH;FMTTYPE=image/png:https://www.nicensleazy.com/wp-content/uploads/2024/08/Screenshot-2024-08-29-at-13.11.09.png
END:VEVENT
BEGIN:VEVENT
DTSTART;TZID=Europe/London:20240906T200000
DTEND;TZID=Europe/London:20240906T230000
DTSTAMP:20260420T235245
CREATED:20240820T193459Z
LAST-MODIFIED:20240820T193459Z
UID:10000962-1725652800-1725663600@www.nicensleazy.com
SUMMARY:PEACE & JAM
DESCRIPTION:Come along for our weekly Friday Night Jam! \nEach week a lovely community of musicians come here to play an incredible mix of blues\, Americana and soul \n  \nFree entry and everyone is welcome!
URL:https://www.nicensleazy.com/event/peace-jam-18
CATEGORIES:Bar,Gig
ATTACH;FMTTYPE=image/png:https://www.nicensleazy.com/wp-content/uploads/2024/06/Screenshot-2024-06-18-at-14.27.36.png
END:VEVENT
END:VCALENDAR