BEGIN:VCALENDAR
VERSION:2.0
PRODID:-//NiceNSleazy - ECPv6.15.20//NONSGML v1.0//EN
CALSCALE:GREGORIAN
METHOD:PUBLISH
X-WR-CALNAME:NiceNSleazy
X-ORIGINAL-URL:https://www.nicensleazy.com
X-WR-CALDESC:Events for NiceNSleazy
REFRESH-INTERVAL;VALUE=DURATION:PT1H
X-Robots-Tag:noindex
X-PUBLISHED-TTL:PT1H
BEGIN:VTIMEZONE
TZID:Europe/London
BEGIN:DAYLIGHT
TZOFFSETFROM:+0000
TZOFFSETTO:+0100
TZNAME:BST
DTSTART:20230326T010000
END:DAYLIGHT
BEGIN:STANDARD
TZOFFSETFROM:+0100
TZOFFSETTO:+0000
TZNAME:GMT
DTSTART:20231029T010000
END:STANDARD
BEGIN:DAYLIGHT
TZOFFSETFROM:+0000
TZOFFSETTO:+0100
TZNAME:BST
DTSTART:20240331T010000
END:DAYLIGHT
BEGIN:STANDARD
TZOFFSETFROM:+0100
TZOFFSETTO:+0000
TZNAME:GMT
DTSTART:20241027T010000
END:STANDARD
BEGIN:DAYLIGHT
TZOFFSETFROM:+0000
TZOFFSETTO:+0100
TZNAME:BST
DTSTART:20250330T010000
END:DAYLIGHT
BEGIN:STANDARD
TZOFFSETFROM:+0100
TZOFFSETTO:+0000
TZNAME:GMT
DTSTART:20251026T010000
END:STANDARD
END:VTIMEZONE
BEGIN:VEVENT
DTSTART;TZID=Europe/London:20240905T193000
DTEND;TZID=Europe/London:20240905T230000
DTSTAMP:20260420T223137
CREATED:20240829T160023Z
LAST-MODIFIED:20240903T103357Z
UID:10000988-1725564600-1725577200@www.nicensleazy.com
SUMMARY:GIG: YESNOMAYBE?
DESCRIPTION:Born amidst the cultural vibrancy of Glasgow\, YESNOMAYBE? is an electrifying two-piece band that pushes the boundaries of contemporary music. With influences ranging from the psychedelic pop of MGMT to the bold rawness of The Strokes\, the classic harmonies of The Beatles\, and the innovative beats of Jungle\, their sound is an exciting\, genre-bending fusion.
URL:https://www.nicensleazy.com/event/gig-yesnomaybe
CATEGORIES:Gig
ATTACH;FMTTYPE=image/png:https://www.nicensleazy.com/wp-content/uploads/2024/08/Screenshot-2024-09-02-at-12.16.28.png
END:VEVENT
BEGIN:VEVENT
DTSTART;TZID=Europe/London:20240905T230000
DTEND;TZID=Europe/London:20240906T020000
DTSTAMP:20260420T223137
CREATED:20240820T193001Z
LAST-MODIFIED:20240820T193001Z
UID:10000958-1725577200-1725588000@www.nicensleazy.com
SUMMARY:TRAD THURSDAY
DESCRIPTION:TRAD THURSDAYS brought to you by Falasgair our resident Trad band\, come along every Thursday for knee slapping traditional Scottish music. \nCome along just to listen\, For feel free to play as all are welcome to the session!
URL:https://www.nicensleazy.com/event/trad-thursday-5
CATEGORIES:Bar,Gig
ATTACH;FMTTYPE=image/jpeg:https://www.nicensleazy.com/wp-content/uploads/2023/06/Web-capture_28-6-2023_182248_www.instagram.com_.jpeg
END:VEVENT
END:VCALENDAR