BEGIN:VCALENDAR
VERSION:2.0
PRODID:-//NiceNSleazy - ECPv6.15.20//NONSGML v1.0//EN
CALSCALE:GREGORIAN
METHOD:PUBLISH
X-ORIGINAL-URL:https://www.nicensleazy.com
X-WR-CALDESC:Events for NiceNSleazy
REFRESH-INTERVAL;VALUE=DURATION:PT1H
X-Robots-Tag:noindex
X-PUBLISHED-TTL:PT1H
BEGIN:VTIMEZONE
TZID:Europe/London
BEGIN:DAYLIGHT
TZOFFSETFROM:+0000
TZOFFSETTO:+0100
TZNAME:BST
DTSTART:20230326T010000
END:DAYLIGHT
BEGIN:STANDARD
TZOFFSETFROM:+0100
TZOFFSETTO:+0000
TZNAME:GMT
DTSTART:20231029T010000
END:STANDARD
BEGIN:DAYLIGHT
TZOFFSETFROM:+0000
TZOFFSETTO:+0100
TZNAME:BST
DTSTART:20240331T010000
END:DAYLIGHT
BEGIN:STANDARD
TZOFFSETFROM:+0100
TZOFFSETTO:+0000
TZNAME:GMT
DTSTART:20241027T010000
END:STANDARD
BEGIN:DAYLIGHT
TZOFFSETFROM:+0000
TZOFFSETTO:+0100
TZNAME:BST
DTSTART:20250330T010000
END:DAYLIGHT
BEGIN:STANDARD
TZOFFSETFROM:+0100
TZOFFSETTO:+0000
TZNAME:GMT
DTSTART:20251026T010000
END:STANDARD
END:VTIMEZONE
BEGIN:VEVENT
DTSTART;TZID=Europe/London:20240821T193000
DTEND;TZID=Europe/London:20240821T230000
DTSTAMP:20260420T164559
CREATED:20240731T133136Z
LAST-MODIFIED:20240731T133136Z
UID:10000928-1724268600-1724281200@www.nicensleazy.com
SUMMARY:GIG: SLOW FLAME + PELOWSKA
DESCRIPTION:16+ this show is for persons 16 years and over standing only\, under 18’s MUST be accompanied by a responsible adult. IF you have access needs or the price of a ticket is a barrier contact us \n\nSlow Flame have enjoyed airplay thanks to BBC Introducing\, Amazing Radio and secured the coveted Artist of the Week spot in Scotland On Sunday. The duo is Joseph Hegazyand Glen Farris\, who combine elements of electro\, pop\, rock\, R’n’B and hip-hop. They recorded\, produced and self-released their debut album Never Closer To The Sun last month\, with launch gigs at Nice N Sleazy in GLASGOW on Wednesday 21 August 2024followed by a slot at Sneaky Pete’s in EDINBURGH part of their Central Belters festival during Edinburgh Festival on Thursday 22 August 2024 both shows with PELOWSKA and guests
URL:https://www.nicensleazy.com/event/gig-slow-flame-pelowska
CATEGORIES:Gig
ATTACH;FMTTYPE=image/png:https://www.nicensleazy.com/wp-content/uploads/2024/07/Screenshot-2024-07-31-at-14.29.27.png
END:VEVENT
END:VCALENDAR