BEGIN:VCALENDAR
VERSION:2.0
PRODID:-//NiceNSleazy - ECPv6.15.20//NONSGML v1.0//EN
CALSCALE:GREGORIAN
METHOD:PUBLISH
X-ORIGINAL-URL:https://www.nicensleazy.com
X-WR-CALDESC:Events for NiceNSleazy
REFRESH-INTERVAL;VALUE=DURATION:PT1H
X-Robots-Tag:noindex
X-PUBLISHED-TTL:PT1H
BEGIN:VTIMEZONE
TZID:Europe/London
BEGIN:DAYLIGHT
TZOFFSETFROM:+0000
TZOFFSETTO:+0100
TZNAME:BST
DTSTART:20230326T010000
END:DAYLIGHT
BEGIN:STANDARD
TZOFFSETFROM:+0100
TZOFFSETTO:+0000
TZNAME:GMT
DTSTART:20231029T010000
END:STANDARD
BEGIN:DAYLIGHT
TZOFFSETFROM:+0000
TZOFFSETTO:+0100
TZNAME:BST
DTSTART:20240331T010000
END:DAYLIGHT
BEGIN:STANDARD
TZOFFSETFROM:+0100
TZOFFSETTO:+0000
TZNAME:GMT
DTSTART:20241027T010000
END:STANDARD
BEGIN:DAYLIGHT
TZOFFSETFROM:+0000
TZOFFSETTO:+0100
TZNAME:BST
DTSTART:20250330T010000
END:DAYLIGHT
BEGIN:STANDARD
TZOFFSETFROM:+0100
TZOFFSETTO:+0000
TZNAME:GMT
DTSTART:20251026T010000
END:STANDARD
END:VTIMEZONE
BEGIN:VEVENT
DTSTART;TZID=Europe/London:20240811T190000
DTEND;TZID=Europe/London:20240811T230000
DTSTAMP:20260420T164631
CREATED:20240731T130824Z
LAST-MODIFIED:20240731T131047Z
UID:10000926-1723402800-1723417200@www.nicensleazy.com
SUMMARY:GIG: JOHN OTTOWAY
DESCRIPTION:Armed with only a modicum of musical ability\, a self-deprecating sense of humour and no apparent fear of public humiliation\, this Cockney bloke carved out a modest recording career. Anything to avoid returning to his former calling as a garbageman.He first attracted notice with his frenzied live shows\, in which he showed no respect for his personal safety. He parlayed the buzz generated by fans of his stage act into a single called “Cor Baby That’s Really Free.” Eager to cash in on a punk phenomenon it didn’t really understand\, Polydor signed Otway to a deal which would result in five albums for the label. His wilfully amateur approach was actually an asset with the ascendancy of punk.He’s caught the attention of some of Britain’s biggest rock stars. Pete Townsend produced and played on John Otway and Wild Willy Barrett\, the 1977 debut. Steeleye Span drummer Nigel Pegrum also played. Paul McCartney once asked Otway to open on a tour by Wings\, but he had to decline due to other commitments.Otway didn’t rely on only his whacked-out stage shows or loony-tune recordings to earn a reputation as one of rock’s true eccentrics. On one of his albums\, three tunes had only the backing vocal track. If your copy lacked the headliner’s voice\, he would volunteer to come round to your place and belt out his part while you played it on your stereo.
URL:https://www.nicensleazy.com/event/gig-john-ottoway
CATEGORIES:Gig
END:VEVENT
END:VCALENDAR