BEGIN:VCALENDAR
VERSION:2.0
PRODID:-//NiceNSleazy - ECPv6.15.20//NONSGML v1.0//EN
CALSCALE:GREGORIAN
METHOD:PUBLISH
X-WR-CALNAME:NiceNSleazy
X-ORIGINAL-URL:https://www.nicensleazy.com
X-WR-CALDESC:Events for NiceNSleazy
REFRESH-INTERVAL;VALUE=DURATION:PT1H
X-Robots-Tag:noindex
X-PUBLISHED-TTL:PT1H
BEGIN:VTIMEZONE
TZID:Europe/London
BEGIN:DAYLIGHT
TZOFFSETFROM:+0000
TZOFFSETTO:+0100
TZNAME:BST
DTSTART:20230326T010000
END:DAYLIGHT
BEGIN:STANDARD
TZOFFSETFROM:+0100
TZOFFSETTO:+0000
TZNAME:GMT
DTSTART:20231029T010000
END:STANDARD
BEGIN:DAYLIGHT
TZOFFSETFROM:+0000
TZOFFSETTO:+0100
TZNAME:BST
DTSTART:20240331T010000
END:DAYLIGHT
BEGIN:STANDARD
TZOFFSETFROM:+0100
TZOFFSETTO:+0000
TZNAME:GMT
DTSTART:20241027T010000
END:STANDARD
BEGIN:DAYLIGHT
TZOFFSETFROM:+0000
TZOFFSETTO:+0100
TZNAME:BST
DTSTART:20250330T010000
END:DAYLIGHT
BEGIN:STANDARD
TZOFFSETFROM:+0100
TZOFFSETTO:+0000
TZNAME:GMT
DTSTART:20251026T010000
END:STANDARD
END:VTIMEZONE
BEGIN:VEVENT
DTSTART;TZID=Europe/London:20240718T193000
DTEND;TZID=Europe/London:20240718T230000
DTSTAMP:20260420T152439
CREATED:20240716T105908Z
LAST-MODIFIED:20240716T110158Z
UID:10000872-1721331000-1721343600@www.nicensleazy.com
SUMMARY:SONGWRITER ROUNDS
DESCRIPTION:We am excited to announce the first instalment of my new event SONGWRITER ROUNDS! \nThis intimate event will showcase some of the countries finest up and coming songwriting talent. Expect RAW and REAL. (lol is this how you sell yourself?) \nJoining me on the bill will be the striking talent that is @williedug and the moving @dancollinsmusic \nThe venue of choice for event #1 is @nicensleazy Glasgow! (Yes we really booked our first show in a city where none of us live) you say foolish\, I say bold! \n3 musicians on the Edinburgh scene hopping across to take on the big smoke\, DING DING DING🥊 \nTix available in bio 🎟️ \n(If you are a songwriter and are keen to get involved with any future events show your face at the event or drop us a dm!)
URL:https://www.nicensleazy.com/event/songwriter-rounds
CATEGORIES:Gig
ATTACH;FMTTYPE=image/jpeg:https://www.nicensleazy.com/wp-content/uploads/2024/07/40472CE3-BB3E-4C6B-A2A6-B37E918C82C7-James-Low.jpeg
END:VEVENT
BEGIN:VEVENT
DTSTART;TZID=Europe/London:20240718T230000
DTEND;TZID=Europe/London:20240719T030000
DTSTAMP:20260420T152439
CREATED:20240602T181328Z
LAST-MODIFIED:20240602T181328Z
UID:10000841-1721343600-1721358000@www.nicensleazy.com
SUMMARY:TRAD THURSDAYS
DESCRIPTION:TRAD THURSDAYS brought to you by Falasgair our resident Trad band\, come along every Thursday for knee slapping traditional Scottish music. \nCome along just to listen\, For feel free to play as all are welcome to the session!
URL:https://www.nicensleazy.com/event/trad-thursdays-52
CATEGORIES:Bar,Club,Gig
ATTACH;FMTTYPE=image/jpeg:https://www.nicensleazy.com/wp-content/uploads/2023/06/Web-capture_28-6-2023_182248_www.instagram.com_.jpeg
END:VEVENT
END:VCALENDAR