BEGIN:VCALENDAR
VERSION:2.0
PRODID:-//NiceNSleazy - ECPv6.15.20//NONSGML v1.0//EN
CALSCALE:GREGORIAN
METHOD:PUBLISH
X-ORIGINAL-URL:https://www.nicensleazy.com
X-WR-CALDESC:Events for NiceNSleazy
REFRESH-INTERVAL;VALUE=DURATION:PT1H
X-Robots-Tag:noindex
X-PUBLISHED-TTL:PT1H
BEGIN:VTIMEZONE
TZID:Europe/London
BEGIN:DAYLIGHT
TZOFFSETFROM:+0000
TZOFFSETTO:+0100
TZNAME:BST
DTSTART:20230326T010000
END:DAYLIGHT
BEGIN:STANDARD
TZOFFSETFROM:+0100
TZOFFSETTO:+0000
TZNAME:GMT
DTSTART:20231029T010000
END:STANDARD
BEGIN:DAYLIGHT
TZOFFSETFROM:+0000
TZOFFSETTO:+0100
TZNAME:BST
DTSTART:20240331T010000
END:DAYLIGHT
BEGIN:STANDARD
TZOFFSETFROM:+0100
TZOFFSETTO:+0000
TZNAME:GMT
DTSTART:20241027T010000
END:STANDARD
BEGIN:DAYLIGHT
TZOFFSETFROM:+0000
TZOFFSETTO:+0100
TZNAME:BST
DTSTART:20250330T010000
END:DAYLIGHT
BEGIN:STANDARD
TZOFFSETFROM:+0100
TZOFFSETTO:+0000
TZNAME:GMT
DTSTART:20251026T010000
END:STANDARD
END:VTIMEZONE
BEGIN:VEVENT
DTSTART;TZID=Europe/London:20240705T193000
DTEND;TZID=Europe/London:20240705T230000
DTSTAMP:20260420T164608
CREATED:20240618T134531Z
LAST-MODIFIED:20240618T134641Z
UID:10000850-1720207800-1720220400@www.nicensleazy.com
SUMMARY:SUSAN BEAR + GOODNIGHT LOUISA [solo] + Fantastic Man
DESCRIPTION:h o t f a t presents FANTASTIC SUSAN \nSusan Bear | ‘Algorithmic Mood Music’ album party \nCelebrating the launch of the new album by Susan Bear\, with live performances and DJs\, all night. Algorithmic Mood Music is released on Lost Map. \nLive music 8pm-11pm featuring Susan Bear [live] Goodnight Louisa [solo] \nDJs from 11pm-3am featuring Fantastic Man + guests \n£10 adv / £12 on the door
URL:https://www.nicensleazy.com/event/susan-bear-goodnight-louisa-solo-fantastic-man
CATEGORIES:Gig
ATTACH;FMTTYPE=image/jpeg:https://www.nicensleazy.com/wp-content/uploads/2024/06/fantastic-susan-a3-1-scaled.jpg
END:VEVENT
END:VCALENDAR