BEGIN:VCALENDAR
VERSION:2.0
PRODID:-//NiceNSleazy - ECPv6.15.20//NONSGML v1.0//EN
CALSCALE:GREGORIAN
METHOD:PUBLISH
X-WR-CALNAME:NiceNSleazy
X-ORIGINAL-URL:https://www.nicensleazy.com
X-WR-CALDESC:Events for NiceNSleazy
REFRESH-INTERVAL;VALUE=DURATION:PT1H
X-Robots-Tag:noindex
X-PUBLISHED-TTL:PT1H
BEGIN:VTIMEZONE
TZID:Europe/London
BEGIN:DAYLIGHT
TZOFFSETFROM:+0000
TZOFFSETTO:+0100
TZNAME:BST
DTSTART:20230326T010000
END:DAYLIGHT
BEGIN:STANDARD
TZOFFSETFROM:+0100
TZOFFSETTO:+0000
TZNAME:GMT
DTSTART:20231029T010000
END:STANDARD
BEGIN:DAYLIGHT
TZOFFSETFROM:+0000
TZOFFSETTO:+0100
TZNAME:BST
DTSTART:20240331T010000
END:DAYLIGHT
BEGIN:STANDARD
TZOFFSETFROM:+0100
TZOFFSETTO:+0000
TZNAME:GMT
DTSTART:20241027T010000
END:STANDARD
BEGIN:DAYLIGHT
TZOFFSETFROM:+0000
TZOFFSETTO:+0100
TZNAME:BST
DTSTART:20250330T010000
END:DAYLIGHT
BEGIN:STANDARD
TZOFFSETFROM:+0100
TZOFFSETTO:+0000
TZNAME:GMT
DTSTART:20251026T010000
END:STANDARD
END:VTIMEZONE
BEGIN:VEVENT
DTSTART;TZID=Europe/London:20240704T190000
DTEND;TZID=Europe/London:20240704T230000
DTSTAMP:20260420T152443
CREATED:20240618T134127Z
LAST-MODIFIED:20240618T134127Z
UID:10000849-1720119600-1720134000@www.nicensleazy.com
SUMMARY:CURSEDAY: Sacramoot 1 Year Anniversary
DESCRIPTION:gig dedicated to the anniversary of Sacramoot and the release of their new EP!!
URL:https://www.nicensleazy.com/event/curseday-sacramoot-1-year-anniversary
CATEGORIES:Gig
ATTACH;FMTTYPE=image/jpeg:https://www.nicensleazy.com/wp-content/uploads/2024/06/IMG_9269.jpeg
END:VEVENT
BEGIN:VEVENT
DTSTART;TZID=Europe/London:20240704T230000
DTEND;TZID=Europe/London:20240705T030000
DTSTAMP:20260420T152443
CREATED:20240602T181005Z
LAST-MODIFIED:20240602T181005Z
UID:10000839-1720134000-1720148400@www.nicensleazy.com
SUMMARY:TRAD THURSDAYS
DESCRIPTION:TRAD THURSDAYS brought to you by Falasgair our resident Trad band\, come along every Thursday for knee slapping traditional Scottish music. \nCome along just to listen\, For feel free to play as all are welcome to the session!
URL:https://www.nicensleazy.com/event/trad-thursdays-50
CATEGORIES:Bar,Club,Gig
ATTACH;FMTTYPE=image/jpeg:https://www.nicensleazy.com/wp-content/uploads/2023/06/Web-capture_28-6-2023_182248_www.instagram.com_.jpeg
END:VEVENT
END:VCALENDAR