BEGIN:VCALENDAR
VERSION:2.0
PRODID:-//NiceNSleazy - ECPv6.15.20//NONSGML v1.0//EN
CALSCALE:GREGORIAN
METHOD:PUBLISH
X-WR-CALNAME:NiceNSleazy
X-ORIGINAL-URL:https://www.nicensleazy.com
X-WR-CALDESC:Events for NiceNSleazy
REFRESH-INTERVAL;VALUE=DURATION:PT1H
X-Robots-Tag:noindex
X-PUBLISHED-TTL:PT1H
BEGIN:VTIMEZONE
TZID:Europe/London
BEGIN:DAYLIGHT
TZOFFSETFROM:+0000
TZOFFSETTO:+0100
TZNAME:BST
DTSTART:20230326T010000
END:DAYLIGHT
BEGIN:STANDARD
TZOFFSETFROM:+0100
TZOFFSETTO:+0000
TZNAME:GMT
DTSTART:20231029T010000
END:STANDARD
BEGIN:DAYLIGHT
TZOFFSETFROM:+0000
TZOFFSETTO:+0100
TZNAME:BST
DTSTART:20240331T010000
END:DAYLIGHT
BEGIN:STANDARD
TZOFFSETFROM:+0100
TZOFFSETTO:+0000
TZNAME:GMT
DTSTART:20241027T010000
END:STANDARD
BEGIN:DAYLIGHT
TZOFFSETFROM:+0000
TZOFFSETTO:+0100
TZNAME:BST
DTSTART:20250330T010000
END:DAYLIGHT
BEGIN:STANDARD
TZOFFSETFROM:+0100
TZOFFSETTO:+0000
TZNAME:GMT
DTSTART:20251026T010000
END:STANDARD
BEGIN:DAYLIGHT
TZOFFSETFROM:+0000
TZOFFSETTO:+0100
TZNAME:BST
DTSTART:20260329T010000
END:DAYLIGHT
BEGIN:STANDARD
TZOFFSETFROM:+0100
TZOFFSETTO:+0000
TZNAME:GMT
DTSTART:20261025T010000
END:STANDARD
END:VTIMEZONE
BEGIN:VEVENT
DTSTART;TZID=Europe/London:20241212T230000
DTEND;TZID=Europe/London:20241213T020000
DTSTAMP:20260422T143112
CREATED:20241125T225609Z
LAST-MODIFIED:20250513T204235Z
UID:10001831-1734044400-1734055200@www.nicensleazy.com
SUMMARY:TRAD THURSDAYS
DESCRIPTION:11PM-2AM EVERY THURSDAY \nBrought to you by our resident Trad band! \nAn assortment of knee-slapping traditional Scottish music\, with a few covers here and there. \nCome along just to listen\, or feel free to play – all are welcome to the session!
URL:https://www.nicensleazy.com/event/trad-thursdays-62/2024-12-12
CATEGORIES:Bar,Gig
ATTACH;FMTTYPE=image/png:https://www.nicensleazy.com/wp-content/uploads/2024/11/Screenshot-2025-05-13-at-21.38.54.png
END:VEVENT
BEGIN:VEVENT
DTSTART;TZID=Europe/London:20241212T230000
DTEND;TZID=Europe/London:20241213T030000
DTSTAMP:20260422T143112
CREATED:20241125T233036Z
LAST-MODIFIED:20241125T233036Z
UID:10002093-1734044400-1734058800@www.nicensleazy.com
SUMMARY:BLUNT FORCE SAUNA
DESCRIPTION:The forever sensually stimulating party is BACK once again! \nAs always they are bringing their analog front end down to the club to keep the sound clean and your ears from being murdered on the dance floor! \n11-3AM \nFree before 12am / £5 after \nHouse/Funk/Disco
URL:https://www.nicensleazy.com/event/blunt-force-sauna-2
CATEGORIES:Basement,Club
END:VEVENT
BEGIN:VEVENT
DTSTART;TZID=Europe/London:20241213T230000
DTEND;TZID=Europe/London:20241214T040000
DTSTAMP:20260422T143112
CREATED:20241125T233746Z
LAST-MODIFIED:20241125T233746Z
UID:10002095-1734130800-1734148800@www.nicensleazy.com
SUMMARY:DOMINO DANCING
DESCRIPTION:For the very last Domino Dancing of the year\, we’re very excited to host Tamboi – our favourite diy-dyke-on-a- bike-on-a-hike George Michael-look-alike! \nTamboi has played alongside DJs such as Mykki Blanco\, Julianna Huxtable\, Jayda G and Lakuti & Tama Sumo. They’re a resident DJ of Homos and Hoummus\, a queer Jewish cabaret night\, and organise DJ workshops to support those with marginalised gender identities. For Domino Dancing\, they’ll be getting their 80s garments out and spinning naughti club edits of their icons\, Eartha Kitt\, Madonna & George Michael. \nJoining Tamboi will be Domino Dancing organiser and resident DJ Dean Cargill\,  with another selection of synth bangers from the 80s till the present day. \n£5 OTD \nFriday the 13th of December \n11-4am \nCya on the dancefloor! 💕
URL:https://www.nicensleazy.com/event/domino-dancing
CATEGORIES:Basement,Club
ATTACH;FMTTYPE=image/png:https://www.nicensleazy.com/wp-content/uploads/2024/11/Screenshot-2024-11-25-at-23.33.56.png
END:VEVENT
BEGIN:VEVENT
DTSTART;TZID=Europe/London:20241214T230000
DTEND;TZID=Europe/London:20241215T040000
DTSTAMP:20260422T143112
CREATED:20241125T234101Z
LAST-MODIFIED:20241125T234101Z
UID:10002096-1734217200-1734235200@www.nicensleazy.com
SUMMARY:UGLY WAIN
DESCRIPTION:Saturday the 14th of December \n11-4am at the bar. \n 
URL:https://www.nicensleazy.com/event/ugly-wain
CATEGORIES:Bar,Club
END:VEVENT
BEGIN:VEVENT
DTSTART;TZID=Europe/London:20241214T230000
DTEND;TZID=Europe/London:20241215T040000
DTSTAMP:20260422T143112
CREATED:20241125T234401Z
LAST-MODIFIED:20241125T234401Z
UID:10002097-1734217200-1734235200@www.nicensleazy.com
SUMMARY:ACT NATURAL
DESCRIPTION:Saturday the 14th of December \n11-4AM in the club \n£3 cash/£5 card OTD
URL:https://www.nicensleazy.com/event/act-natural
CATEGORIES:Basement,Club
ATTACH;FMTTYPE=image/png:https://www.nicensleazy.com/wp-content/uploads/2024/11/Screenshot-2024-11-25-at-23.41.55.png
END:VEVENT
BEGIN:VEVENT
DTSTART;TZID=Europe/London:20241218T193000
DTEND;TZID=Europe/London:20241218T230000
DTSTAMP:20260422T143112
CREATED:20241129T141944Z
LAST-MODIFIED:20241129T141944Z
UID:10002381-1734550200-1734562800@www.nicensleazy.com
SUMMARY:DADS BEST FRIEND
DESCRIPTION:We’re super excited (as always!!😂) to announce our @dadsbestfriendband HEADLINE show!! Support comes from solo Manchester act @sam_leyden making his Scotland debut!!🙌🏻 Also supporting is @silvertone.band\n+ @void_the_band_ ! \nCOME SUPPORT LIVE MUSIC!!!\nREMEMBER\, if you’re currently in financial hardship we can put you aside a free ticket! Nobody should have to miss out on live music!! Note: Please only ask if you’re indeed in financial difficulty! \nDOORS: 7:30PM\nCard only OTD!\n18+ show!
URL:https://www.nicensleazy.com/event/dads-best-friend
CATEGORIES:Basement,Gig
ATTACH;FMTTYPE=image/png:https://www.nicensleazy.com/wp-content/uploads/2024/11/Screenshot-2024-11-29-at-14.16.37.png
END:VEVENT
BEGIN:VEVENT
DTSTART;TZID=Europe/London:20241219T080000
DTEND;TZID=Europe/London:20241219T170000
DTSTAMP:20260422T143112
CREATED:20241219T195649Z
LAST-MODIFIED:20241219T195649Z
UID:10002391-1734595200-1734627600@www.nicensleazy.com
SUMMARY:CARMEN BAIA
DESCRIPTION:
URL:https://www.nicensleazy.com/event/carmen-baia-2/2024-12-19
CATEGORIES:Bar,Club
ATTACH;FMTTYPE=image/jpeg:https://www.nicensleazy.com/wp-content/uploads/2023/06/Web-capture_28-6-2023_172535_www.instagram.com_.jpeg
END:VEVENT
BEGIN:VEVENT
DTSTART;TZID=Europe/London:20241219T190000
DTEND;TZID=Europe/London:20241219T230000
DTSTAMP:20260422T143112
CREATED:20241129T142558Z
LAST-MODIFIED:20241129T142606Z
UID:10002382-1734634800-1734649200@www.nicensleazy.com
SUMMARY:KULEEANGEE + FINNFM
DESCRIPTION:KuleeAngee\, formed by Scottish friends Duncan Grant and Keshav Kanabar\,\nblends guitar-driven melodies with acid house influences\, aiming to get people\nmoving in clubs and on festival stages.\nHailing from different parts of Scotland—Duncan from suburban Edinburgh and\nKeshav from South Glasgow—the duo&#39;s rich musical backgrounds and experience\nin various projects help shape their sound. They formed the band whilst waiting in\nthe line at Dalston Superstore London\, having met in the city on the circuit as\nsession musicians.\nDespite this being their first official release\, they generated significant interest\nearlier this year with a demo titled &quot;Television\,&quot; which unexpectedly racked up over\n60\,000 streams on Soundcloud due to a mix-up. Kesh mistakenly sent a link to\nDuncan without setting private and the music instantly attracted attention. \nTheir first official single\, &quot;Animated Love&quot;\, launches today 6 th November 2024\nand is designed to inspire listeners to embrace life’s highs and lows while striving\nfor their best selves. The track combines feel-good indie with dancefloor ready\nenergy.\nThe name KuleeAngee derives from ‘Kalyan Ji’ a distant relative in Kesh’s family\nfrom India. &quot;Kalyan\,&quot; meaning &quot;new dawn&quot; in Sanskrit\, reflects the duo&#39;s ethos of\nbreaking down barriers of language\, race\, and sexuality\, and living fully in the\npresent.\nAlready making a mark in the Glasgow music scene\, KuleeAngee recently\nperformed at the Tenement Trail in Barrowlands 2\, for BBC Introducing and\nsupported Porij at King Tut&#39;s. They are gearing up for a UK tour with headline\nshows in Edinburgh and Glasgow this December\, with more music and\nperformances on the horizon for early 2025.
URL:https://www.nicensleazy.com/event/kuleeangee-finnfm
CATEGORIES:Basement,Gig
ATTACH;FMTTYPE=image/jpeg:https://www.nicensleazy.com/wp-content/uploads/2024/11/02cb7718-7c34-402c-8d5b-0d7d84a169b1-1.jpg
END:VEVENT
BEGIN:VEVENT
DTSTART;TZID=Europe/London:20241219T230000
DTEND;TZID=Europe/London:20241220T020000
DTSTAMP:20260422T143112
CREATED:20241125T225609Z
LAST-MODIFIED:20250513T204235Z
UID:10001832-1734649200-1734660000@www.nicensleazy.com
SUMMARY:TRAD THURSDAYS
DESCRIPTION:11PM-2AM EVERY THURSDAY \nBrought to you by our resident Trad band! \nAn assortment of knee-slapping traditional Scottish music\, with a few covers here and there. \nCome along just to listen\, or feel free to play – all are welcome to the session!
URL:https://www.nicensleazy.com/event/trad-thursdays-62/2024-12-19
CATEGORIES:Bar,Gig
ATTACH;FMTTYPE=image/png:https://www.nicensleazy.com/wp-content/uploads/2024/11/Screenshot-2025-05-13-at-21.38.54.png
END:VEVENT
BEGIN:VEVENT
DTSTART;TZID=Europe/London:20241220T230000
DTEND;TZID=Europe/London:20241221T040000
DTSTAMP:20260422T143112
CREATED:20241125T234803Z
LAST-MODIFIED:20241125T234803Z
UID:10002098-1734735600-1734753600@www.nicensleazy.com
SUMMARY:DISCOUNT DISCO
DESCRIPTION:Friday the 20th of December \nDisco\, house\, and cheesy bangers <3 \n11-4AM
URL:https://www.nicensleazy.com/event/discount-disco-5
CATEGORIES:Bar,Club
END:VEVENT
BEGIN:VEVENT
DTSTART;TZID=Europe/London:20241221T230000
DTEND;TZID=Europe/London:20241222T040000
DTSTAMP:20260422T143112
CREATED:20241125T235120Z
LAST-MODIFIED:20241125T235120Z
UID:10002099-1734822000-1734840000@www.nicensleazy.com
SUMMARY:ADAMANTINE CHAINS x AMPHORA
DESCRIPTION:Saturday the 21st of December \n11-4am
URL:https://www.nicensleazy.com/event/adamantine-chains-x-amphora
CATEGORIES:Bar,Gig
END:VEVENT
BEGIN:VEVENT
DTSTART;TZID=Europe/London:20241221T230000
DTEND;TZID=Europe/London:20241222T040000
DTSTAMP:20260422T143112
CREATED:20241125T235311Z
LAST-MODIFIED:20241125T235311Z
UID:10002100-1734822000-1734840000@www.nicensleazy.com
SUMMARY:MANDALO
DESCRIPTION:the monthly residency returns to the Sleazy’s basement! \nSaturday the 1st of December \n11-4am \n 
URL:https://www.nicensleazy.com/event/mandalo-2
CATEGORIES:Basement,Club
END:VEVENT
BEGIN:VEVENT
DTSTART;TZID=Europe/London:20241226T230000
DTEND;TZID=Europe/London:20241227T020000
DTSTAMP:20260422T143112
CREATED:20241125T225609Z
LAST-MODIFIED:20250513T204235Z
UID:10001833-1735254000-1735264800@www.nicensleazy.com
SUMMARY:TRAD THURSDAYS
DESCRIPTION:11PM-2AM EVERY THURSDAY \nBrought to you by our resident Trad band! \nAn assortment of knee-slapping traditional Scottish music\, with a few covers here and there. \nCome along just to listen\, or feel free to play – all are welcome to the session!
URL:https://www.nicensleazy.com/event/trad-thursdays-62/2024-12-26
CATEGORIES:Bar,Gig
ATTACH;FMTTYPE=image/png:https://www.nicensleazy.com/wp-content/uploads/2024/11/Screenshot-2025-05-13-at-21.38.54.png
END:VEVENT
BEGIN:VEVENT
DTSTART;TZID=Europe/London:20241228T230000
DTEND;TZID=Europe/London:20241229T040000
DTSTAMP:20260422T143112
CREATED:20241126T000354Z
LAST-MODIFIED:20241126T000354Z
UID:10002101-1735426800-1735444800@www.nicensleazy.com
SUMMARY:G.L.O.S.S.
DESCRIPTION:G.L.O.S.S. returns\, bringing you a range of tunes… \nLargely disco and house – as well as all the deep cuts you’ve been missing! \nSaturday the 28th of December \n11-4am
URL:https://www.nicensleazy.com/event/g-l-o-s-s
CATEGORIES:Bar,Club
END:VEVENT
BEGIN:VEVENT
DTSTART;TZID=Europe/London:20241228T230000
DTEND;TZID=Europe/London:20241229T040000
DTSTAMP:20260422T143112
CREATED:20241126T000611Z
LAST-MODIFIED:20241126T000611Z
UID:10002102-1735426800-1735444800@www.nicensleazy.com
SUMMARY:BLUETOOTH BANGERS
DESCRIPTION:Ugly Wain returns to the basement\, bringing you all the 2000s nostalgia you so desperately need \nSaturday the 28th of December \n11-4am \n 
URL:https://www.nicensleazy.com/event/bluetooth-bangers-2
CATEGORIES:Basement,Club
END:VEVENT
BEGIN:VEVENT
DTSTART;TZID=Europe/London:20241231T200000
DTEND;TZID=Europe/London:20241231T200000
DTSTAMP:20260422T143112
CREATED:20241129T110235Z
LAST-MODIFIED:20241223T005922Z
UID:10002373-1735675200-1735675200@www.nicensleazy.com
SUMMARY:NICE N SLEAZY NYE PARTY
DESCRIPTION:Listen here folks\, last year we absolutely brought the house down and partied all the way into 2024 🔔🔔 \nSo we’ve decided to do it all over again but bigger and better for ２０２５ \n@falasgair are back and this time they brought friends\, they’ll have you jumping across both floors for our yearly chaotic Sleazy Trad Ceilidh. \n@luumacollective are one of our favorite resident clubs and always bring the house down with crazy immersive clubs experiences getting you sorted for the new year x \nWe’ve got a few early bird tickets so grab them while you can\, this event sells out every year \n𝐓𝐡𝐚𝐧𝐤 𝐲𝐨𝐮 𝐭𝐨 𝐚𝐥𝐥 𝐭𝐡𝐞 𝐛𝐚𝐧𝐝𝐬\, 𝐝𝐣’𝐬\, 𝐩𝐫𝐨𝐦𝐨𝐭𝐞𝐫𝐬 𝐚𝐧𝐝 𝐚𝐫𝐭𝐢𝐬𝐭𝐬 𝐰𝐡𝐨 𝐡𝐚𝐯𝐞 𝐛𝐞𝐞𝐧 𝐚 𝐩𝐚𝐫𝐭 𝐨𝐟 𝐭𝐡𝐞 𝐒𝐥𝐞𝐚𝐳𝐲 𝐟𝐚𝐦 𝐭𝐡𝐢𝐬 𝐲𝐞𝐚𝐫\, 𝐰𝐞 𝐰𝐨𝐮𝐥𝐝𝐧’𝐭 𝐛𝐞 𝐡𝐞𝐫𝐞 𝐰𝐢𝐭𝐡𝐨𝐮𝐭 𝐲𝐨𝐮 𝐱 \nCan’t wait to celebrate 2025 with all of you ⭐️⭐️ \nGET YOUR TICKETS HERE!!!!
URL:https://www.nicensleazy.com/event/nice-n-sleay-nye-party
CATEGORIES:Bar,Basement,Club,Gig
ATTACH;FMTTYPE=application/pdf:https://www.nicensleazy.com/wp-content/uploads/2024/11/NYE-POSTER-.pdf
END:VEVENT
BEGIN:VEVENT
DTSTART;TZID=Europe/London:20250102T230000
DTEND;TZID=Europe/London:20250103T020000
DTSTAMP:20260422T143112
CREATED:20241125T225609Z
LAST-MODIFIED:20250513T204235Z
UID:10001834-1735858800-1735869600@www.nicensleazy.com
SUMMARY:TRAD THURSDAYS
DESCRIPTION:11PM-2AM EVERY THURSDAY \nBrought to you by our resident Trad band! \nAn assortment of knee-slapping traditional Scottish music\, with a few covers here and there. \nCome along just to listen\, or feel free to play – all are welcome to the session!
URL:https://www.nicensleazy.com/event/trad-thursdays-62/2025-01-02
CATEGORIES:Bar,Gig
ATTACH;FMTTYPE=image/png:https://www.nicensleazy.com/wp-content/uploads/2024/11/Screenshot-2025-05-13-at-21.38.54.png
END:VEVENT
BEGIN:VEVENT
DTSTART;TZID=Europe/London:20250102T230000
DTEND;TZID=Europe/London:20250103T030000
DTSTAMP:20260422T143112
CREATED:20241219T194425Z
LAST-MODIFIED:20241219T194454Z
UID:10002390-1735858800-1735873200@www.nicensleazy.com
SUMMARY:HUNGRY FOR HOUSE
DESCRIPTION:Hungri Ungi presents; Hungry for House Vol.2. The Vol.1 launch night was certainly one to remember\, so much so we are returning with the second instalment at Nice n Sleazy! Bringing together even more of my favourite house music enthusiasts\, both behind the decks and on the dance floor. Expect to hear various genres of house music\, with a cheeky mix of break and garage along the journey. I cant wait to see those returning faces as well as some new ones too. The line up is even more stacked than our launch event\, so make sure not to miss out! \nFeaturing: \n\nBeat Farm\nDoog West CRØØK.T.D\nMØNTY A-TØN\nJohannes Dec\nHungri Ungi
URL:https://www.nicensleazy.com/event/hungry-for-house
CATEGORIES:Basement,Club
ATTACH;FMTTYPE=image/webp:https://www.nicensleazy.com/wp-content/uploads/2024/12/45d437eb121c847106fe46a3bf9ac4bc7c55dd63.webp
END:VEVENT
BEGIN:VEVENT
DTSTART;TZID=Europe/London:20250103T230000
DTEND;TZID=Europe/London:20250104T030000
DTSTAMP:20260422T143112
CREATED:20241219T195649Z
LAST-MODIFIED:20241219T195649Z
UID:10002392-1735945200-1735959600@www.nicensleazy.com
SUMMARY:CARMEN BAIA
DESCRIPTION:
URL:https://www.nicensleazy.com/event/carmen-baia-2/2025-01-03
CATEGORIES:Bar,Club
ATTACH;FMTTYPE=image/jpeg:https://www.nicensleazy.com/wp-content/uploads/2023/06/Web-capture_28-6-2023_172535_www.instagram.com_.jpeg
END:VEVENT
BEGIN:VEVENT
DTSTART;TZID=Europe/London:20250103T230000
DTEND;TZID=Europe/London:20250104T030000
DTSTAMP:20260422T143112
CREATED:20241219T200241Z
LAST-MODIFIED:20241219T200306Z
UID:10002395-1735945200-1735959600@www.nicensleazy.com
SUMMARY:DISCOUNT DISCO
DESCRIPTION:
URL:https://www.nicensleazy.com/event/discount-disco-6/2025-01-03
CATEGORIES:Basement,Club
ATTACH;FMTTYPE=image/png:https://www.nicensleazy.com/wp-content/uploads/2024/12/Screenshot-2024-12-19-at-19.59.41.png
END:VEVENT
BEGIN:VEVENT
DTSTART;TZID=Europe/London:20250104T200000
DTEND;TZID=Europe/London:20250105T030000
DTSTAMP:20260422T143112
CREATED:20241219T203220Z
LAST-MODIFIED:20241219T203305Z
UID:10002499-1736020800-1736046000@www.nicensleazy.com
SUMMARY:BREAK-AWAY
DESCRIPTION:Jo-Hann and Calzo FM present a night of bass music\, ukg\, breakbeat\, grime\, dubstep and more – brought to you by some of Glasgow’s finest. Get down early and stay till late (21:00-2:30). \nSet times TBA. \n  \nFEATURING: \n\nCorran\nJo-Hann\nCalzo FM\nJenn Gunn\nHAPOL\n\n  \n 
URL:https://www.nicensleazy.com/event/break-away
CATEGORIES:Basement,Club,Gig
ATTACH;FMTTYPE=image/webp:https://www.nicensleazy.com/wp-content/uploads/2024/12/10008d1eacd4a7093cc95dc5f85b619fb3b722cf.webp
END:VEVENT
BEGIN:VEVENT
DTSTART;TZID=Europe/London:20250104T230000
DTEND;TZID=Europe/London:20250105T030000
DTSTAMP:20260422T143112
CREATED:20241219T202545Z
LAST-MODIFIED:20241219T204201Z
UID:10002496-1736031600-1736046000@www.nicensleazy.com
SUMMARY:UGLY.WAIN
DESCRIPTION:disco/ funk/ hip-hop
URL:https://www.nicensleazy.com/event/ugly-wain-2/2025-01-04
CATEGORIES:Bar,Club
ATTACH;FMTTYPE=image/jpeg:https://www.nicensleazy.com/wp-content/uploads/2023/08/Web-capture_23-8-2023_18630_www.instagram.com_.jpeg
END:VEVENT
BEGIN:VEVENT
DTSTART;TZID=Europe/London:20250106T200000
DTEND;TZID=Europe/London:20250106T230000
DTSTAMP:20260422T143112
CREATED:20241125T200533Z
LAST-MODIFIED:20250514T023452Z
UID:10001505-1736193600-1736204400@www.nicensleazy.com
SUMMARY:OPEN MIC NIGHT WITH GERRY LYONS
DESCRIPTION:Come sing a tune at the longest running Open Mic Night\, going 27 years strong x \nFirst Monday of every month\, 8pm-11pm!\nEveryone welcome\, to perform or just to revel in the talent!
URL:https://www.nicensleazy.com/event/open-mic-night-with-gerry-lyons/2025-01-06
CATEGORIES:Basement,Gig
ATTACH;FMTTYPE=image/png:https://www.nicensleazy.com/wp-content/uploads/2024/11/Screenshot-2025-05-14-at-03.32.04.png
LOCATION:
END:VEVENT
BEGIN:VEVENT
DTSTART;TZID=Europe/London:20250109T230000
DTEND;TZID=Europe/London:20250110T020000
DTSTAMP:20260422T143112
CREATED:20241125T225609Z
LAST-MODIFIED:20250513T204235Z
UID:10001835-1736463600-1736474400@www.nicensleazy.com
SUMMARY:TRAD THURSDAYS
DESCRIPTION:11PM-2AM EVERY THURSDAY \nBrought to you by our resident Trad band! \nAn assortment of knee-slapping traditional Scottish music\, with a few covers here and there. \nCome along just to listen\, or feel free to play – all are welcome to the session!
URL:https://www.nicensleazy.com/event/trad-thursdays-62/2025-01-09
CATEGORIES:Bar,Gig
ATTACH;FMTTYPE=image/png:https://www.nicensleazy.com/wp-content/uploads/2024/11/Screenshot-2025-05-13-at-21.38.54.png
END:VEVENT
BEGIN:VEVENT
DTSTART;TZID=Europe/London:20250110T230000
DTEND;TZID=Europe/London:20250110T230000
DTSTAMP:20260422T143112
CREATED:20241219T204103Z
LAST-MODIFIED:20241219T204103Z
UID:10002501-1736550000-1736550000@www.nicensleazy.com
SUMMARY:ADEMANTINE CHAINS
DESCRIPTION:Pop / RnB / Post Punk
URL:https://www.nicensleazy.com/event/ademantine-chains/2025-01-10
CATEGORIES:Bar,Club
ATTACH;FMTTYPE=image/jpeg:https://www.nicensleazy.com/wp-content/uploads/2023/11/548C0151-EDE1-4905-9A9E-016EB3367472.jpg
END:VEVENT
BEGIN:VEVENT
DTSTART;TZID=Europe/London:20250110T230000
DTEND;TZID=Europe/London:20250111T030000
DTSTAMP:20260422T143112
CREATED:20241219T205008Z
LAST-MODIFIED:20250106T145803Z
UID:10002504-1736550000-1736564400@www.nicensleazy.com
SUMMARY:BLUETOOTH BANGERS
DESCRIPTION:Rewind back to 2010 with ugly wain’s bluetooth bangers! Wether you were back in school sending the latest avicii tune to your pals or in the club hearing iyaz for the first time – now is to relive a simpler time with songs that defined a decade!
URL:https://www.nicensleazy.com/event/bluetooth-bangers-3/2025-01-10
CATEGORIES:Basement,Club
ATTACH;FMTTYPE=image/png:https://www.nicensleazy.com/wp-content/uploads/2024/12/Screenshot-2024-12-19-at-20.45.43.png
END:VEVENT
BEGIN:VEVENT
DTSTART;TZID=Europe/London:20250111T230000
DTEND;TZID=Europe/London:20250112T030000
DTSTAMP:20260422T143112
CREATED:20241219T201938Z
LAST-MODIFIED:20241219T201938Z
UID:10002436-1736636400-1736650800@www.nicensleazy.com
SUMMARY:ACT NATURAL
DESCRIPTION:Act Natural is a club where the eyes & ears drive your rears. \nHustled into life by DJ\, producer & performer Baillie Jnr & DJ HuussH\, their prime manifesto is to fill the dance floor wall 2 wall with B-I-G FUN\, deliriously AND seriously. \nAct Natural’s aim is to deliver some exclusive production cuts and a dynamic visual aesthetic with bespoke lights and design.   Hot dance dubs and vocal cuts with a twist – vibrating between Bonnie Tyler & Sylvester.  There is something preposterous about it sure\, but it’s irresistibly FUN no matter what. \nPitching their rhythm nation across a timeline that runs 70’s – 20’s\, Act Natural is a jumping blend of Hi-NRG 80’s disco/ italo woven into 90’s house & electro – think scorchingly fresh Parisian club sounds bumping against gym-buffed 80’s stadium disco funk – but spun with a low-end bounce that SLAMS like sweating poppers! \nThere is no ‘natural’\, it’s ALL an act. Find your place\, to the BEAT. \n  \ncheck out their blog
URL:https://www.nicensleazy.com/event/act-natural-2
CATEGORIES:Basement,Club
ATTACH;FMTTYPE=image/png:https://www.nicensleazy.com/wp-content/uploads/2024/12/Screenshot-2024-12-19-at-20.06.29.png
END:VEVENT
BEGIN:VEVENT
DTSTART;TZID=Europe/London:20250111T230000
DTEND;TZID=Europe/London:20250112T030000
DTSTAMP:20260422T143112
CREATED:20241219T205204Z
LAST-MODIFIED:20241219T205204Z
UID:10002507-1736636400-1736650800@www.nicensleazy.com
SUMMARY:JOEY NAME
DESCRIPTION:Joey Name is a DJ from Manchester based in Glasgow\, and brings an eclectic selection of funk\, disco\, rock\, house\, electronica and much more! \nFunk\, House\, Electro
URL:https://www.nicensleazy.com/event/joey-name-3
CATEGORIES:Bar,Club
ATTACH;FMTTYPE=image/jpeg:https://www.nicensleazy.com/wp-content/uploads/2023/06/Web-capture_28-6-2023_172411_www.instagram.com_.jpeg
END:VEVENT
BEGIN:VEVENT
DTSTART;TZID=Europe/London:20250116T230000
DTEND;TZID=Europe/London:20250117T020000
DTSTAMP:20260422T143112
CREATED:20241125T225609Z
LAST-MODIFIED:20250513T204235Z
UID:10001836-1737068400-1737079200@www.nicensleazy.com
SUMMARY:TRAD THURSDAYS
DESCRIPTION:11PM-2AM EVERY THURSDAY \nBrought to you by our resident Trad band! \nAn assortment of knee-slapping traditional Scottish music\, with a few covers here and there. \nCome along just to listen\, or feel free to play – all are welcome to the session!
URL:https://www.nicensleazy.com/event/trad-thursdays-62/2025-01-16
CATEGORIES:Bar,Gig
ATTACH;FMTTYPE=image/png:https://www.nicensleazy.com/wp-content/uploads/2024/11/Screenshot-2025-05-13-at-21.38.54.png
END:VEVENT
BEGIN:VEVENT
DTSTART;TZID=Europe/London:20250117T230000
DTEND;TZID=Europe/London:20250118T030000
DTSTAMP:20260422T143112
CREATED:20241219T205934Z
LAST-MODIFIED:20250110T134056Z
UID:10002508-1737154800-1737169200@www.nicensleazy.com
SUMMARY:HOLLY CALDER + RAFLA
DESCRIPTION:‘Considering the shared interest in all kinds of rock’n roll\, it is a wonder that Holly and Rafla have never actually played records together before now. Rafla was based in Glasgow up until 4 years ago and was a resident in Nice’n Sleazy from 2006-2021 and also co- hosted the infamous Hot Club in the basement from 2007-2014. She now lives in Copenhagen where she has a monthly night at the dive bar Fantom Bar and is a regular in various other venues. Last year’s highlights were the garage rock festival Gutter Island and  Komet bar in Hamburg. She plays garage rock\, surf\, tassel twirlers\, weird instrumentals and whatever else is in her vinyl box that night! Holly is no stranger to Nice’n Sleazy or the rock’n roll scene in Glasgow. She is the queen of garage and psych parties\, both as the co-host of Anna and Holly’s Dance Party\, one of the organisers of Freakender\, and as a sought after DJ at parties all over the world. She brings her amazing collection of garage\, psych\, rock’n roll and freakbeat… all on tasty vinyl! We can’t wait to see you upstairs in the bar in Nice’n Sleazy Friday 17th January 2015\, 11pm-3am.’
URL:https://www.nicensleazy.com/event/holly-calder-rafla
CATEGORIES:Bar,Club
ATTACH;FMTTYPE=image/jpeg:https://www.nicensleazy.com/wp-content/uploads/2024/12/RAFLA_HOLLY_17_01_25.jpg
END:VEVENT
END:VCALENDAR