BEGIN:VCALENDAR
VERSION:2.0
PRODID:-//NiceNSleazy - ECPv6.15.20//NONSGML v1.0//EN
CALSCALE:GREGORIAN
METHOD:PUBLISH
X-WR-CALNAME:NiceNSleazy
X-ORIGINAL-URL:https://www.nicensleazy.com
X-WR-CALDESC:Events for NiceNSleazy
REFRESH-INTERVAL;VALUE=DURATION:PT1H
X-Robots-Tag:noindex
X-PUBLISHED-TTL:PT1H
BEGIN:VTIMEZONE
TZID:Europe/London
BEGIN:DAYLIGHT
TZOFFSETFROM:+0000
TZOFFSETTO:+0100
TZNAME:BST
DTSTART:20230326T010000
END:DAYLIGHT
BEGIN:STANDARD
TZOFFSETFROM:+0100
TZOFFSETTO:+0000
TZNAME:GMT
DTSTART:20231029T010000
END:STANDARD
BEGIN:DAYLIGHT
TZOFFSETFROM:+0000
TZOFFSETTO:+0100
TZNAME:BST
DTSTART:20240331T010000
END:DAYLIGHT
BEGIN:STANDARD
TZOFFSETFROM:+0100
TZOFFSETTO:+0000
TZNAME:GMT
DTSTART:20241027T010000
END:STANDARD
BEGIN:DAYLIGHT
TZOFFSETFROM:+0000
TZOFFSETTO:+0100
TZNAME:BST
DTSTART:20250330T010000
END:DAYLIGHT
BEGIN:STANDARD
TZOFFSETFROM:+0100
TZOFFSETTO:+0000
TZNAME:GMT
DTSTART:20251026T010000
END:STANDARD
END:VTIMEZONE
BEGIN:VEVENT
DTSTART;TZID=Europe/London:20240308T230000
DTEND;TZID=Europe/London:20240309T030000
DTSTAMP:20260420T212653
CREATED:20240301T131206Z
LAST-MODIFIED:20240301T131206Z
UID:10000636-1709938800-1709953200@www.nicensleazy.com
SUMMARY:CLUB- DOMINO DANCING
DESCRIPTION:Domino Dancing continues its residency in Sleazys on the 2nd Friday of the month. \nFor March\, resident DJ Dean Munch is joined by Casual Look spinning lots of upbeat disco\, 90s house and euphoric italo edits
URL:https://www.nicensleazy.com/event/club-domino-dancing-3
CATEGORIES:Basement,Club
ATTACH;FMTTYPE=image/webp:https://www.nicensleazy.com/wp-content/uploads/2024/03/a326ffc45f7a87a8a45da669c62980dc032be35c.webp
END:VEVENT
BEGIN:VEVENT
DTSTART;TZID=Europe/London:20240309T230000
DTEND;TZID=Europe/London:20240310T030000
DTSTAMP:20260420T212653
CREATED:20240301T131331Z
LAST-MODIFIED:20240301T131331Z
UID:10000637-1710025200-1710039600@www.nicensleazy.com
SUMMARY:CLUB- LANCE VANCE DANCE
DESCRIPTION:Disco Delectations with The Lance Vance Dance…. XOXOXOXOXOX
URL:https://www.nicensleazy.com/event/club-lance-vance-dance-5
CATEGORIES:Basement,Club
ATTACH;FMTTYPE=image/webp:https://www.nicensleazy.com/wp-content/uploads/2024/03/6d374d30f718296ae4a0643fe8fe052ea9ee0443.webp
END:VEVENT
BEGIN:VEVENT
DTSTART;TZID=Europe/London:20240309T230000
DTEND;TZID=Europe/London:20240310T030000
DTSTAMP:20260420T212653
CREATED:20240303T224437Z
LAST-MODIFIED:20240303T224437Z
UID:10000639-1710025200-1710039600@www.nicensleazy.com
SUMMARY:BAR- NIGHTBUS SOUNDSYSTEM
DESCRIPTION:Nightbus Soundsystem come to play the Sleazies bar following their sold out show at The Hug And Pint supporting BDRMM! \n  \n 
URL:https://www.nicensleazy.com/event/bar-nightbus-soundsystem
CATEGORIES:Bar,Club
ATTACH;FMTTYPE=image/jpeg:https://www.nicensleazy.com/wp-content/uploads/2024/03/IMG_1191.jpg
END:VEVENT
BEGIN:VEVENT
DTSTART;TZID=Europe/London:20240310T230000
DTEND;TZID=Europe/London:20240311T030000
DTSTAMP:20260420T212653
CREATED:20240219T001326Z
LAST-MODIFIED:20240219T001326Z
UID:10000624-1710111600-1710126000@www.nicensleazy.com
SUMMARY:BAR- MARCVANIMPE
DESCRIPTION:Marc Van Impe started Deejaying in the late 80s with Glasgow club Texas Fever\, sharing a love of indie\, post punk\, psychedelia and soul. \nA recent return to the music scene in Glasgow sees his new venture Shake Some Action in a monthly club night in The August House\, in addition to regular bar slots in Nice and Sleazy
URL:https://www.nicensleazy.com/event/bar-marcvanimpe
CATEGORIES:Bar,Club
ATTACH;FMTTYPE=image/png:https://www.nicensleazy.com/wp-content/uploads/2023/11/logo.png
END:VEVENT
BEGIN:VEVENT
DTSTART;TZID=Europe/London:20240314T230000
DTEND;TZID=Europe/London:20240315T020000
DTSTAMP:20260420T212653
CREATED:20240207T124452Z
LAST-MODIFIED:20240207T124452Z
UID:10000580-1710457200-1710468000@www.nicensleazy.com
SUMMARY:TRAD THURSDAYS
DESCRIPTION:TRAD THURSDAYS brought to you by Falasgair our resident Trad band\, come along every Thursday for knee slapping traditional Scottish music. \nCome along just to listen\, For feel free to play as all are welcome to the session!
URL:https://www.nicensleazy.com/event/trad-thursdays-35
CATEGORIES:Bar,Club,Gig
ATTACH;FMTTYPE=image/jpeg:https://www.nicensleazy.com/wp-content/uploads/2023/06/Web-capture_28-6-2023_182248_www.instagram.com_.jpeg
END:VEVENT
BEGIN:VEVENT
DTSTART;TZID=Europe/London:20240314T230000
DTEND;TZID=Europe/London:20240315T030000
DTSTAMP:20260420T212653
CREATED:20240301T132622Z
LAST-MODIFIED:20240301T132622Z
UID:10000638-1710457200-1710471600@www.nicensleazy.com
SUMMARY:CLUB- VENØM PRESENTS: Arm & Hammer\, Reny\, Kief and Nerve Damage
DESCRIPTION:Arm & Hammer \nReny Kief B2B NERVE DAMAGE \nVENØM  ( \nESFI \, MyaJ\, neeva nine)
URL:https://www.nicensleazy.com/event/club-venom-presents-arm-hammer-reny-kief-and-nerve-damage
CATEGORIES:Basement,Club
ATTACH;FMTTYPE=image/webp:https://www.nicensleazy.com/wp-content/uploads/2024/03/7670908840fb8623d5c688848e1d7224e0b1b85c-2.webp
END:VEVENT
BEGIN:VEVENT
DTSTART;TZID=Europe/London:20240315T230000
DTEND;TZID=Europe/London:20240316T030000
DTSTAMP:20260420T212653
CREATED:20240219T001732Z
LAST-MODIFIED:20240219T001732Z
UID:10000625-1710543600-1710558000@www.nicensleazy.com
SUMMARY:BAR- PEARL NECKLACE
DESCRIPTION:Pearl Necklace is back at the bar with a whole new selection of pop\, house & UKG. This is one not to miss!
URL:https://www.nicensleazy.com/event/bar-pearl-necklace-2
CATEGORIES:Bar,Club
ATTACH;FMTTYPE=image/jpeg:https://www.nicensleazy.com/wp-content/uploads/2023/06/Web-capture_28-6-2023_19957_www.instagram.com_.jpeg
END:VEVENT
BEGIN:VEVENT
DTSTART;TZID=Europe/London:20240317T230000
DTEND;TZID=Europe/London:20240318T030000
DTSTAMP:20260420T212653
CREATED:20240219T001915Z
LAST-MODIFIED:20240219T001915Z
UID:10000626-1710716400-1710730800@www.nicensleazy.com
SUMMARY:BAR- CASUAL LOOK
DESCRIPTION:Casual Look is a Glasgow-based\, New Orleans-raised producer and DJ. \nHe has appeared on Rinse FM\, Reprezent FM\, Radio Buena Vida\, Clyde Built Radio\, and hosts monthly shows highlighting Glasgow’s club scene on Subcity Radio.
URL:https://www.nicensleazy.com/event/bar-casual-look-3
CATEGORIES:Bar,Club
ATTACH;FMTTYPE=image/jpeg:https://www.nicensleazy.com/wp-content/uploads/2024/01/casual-look.jpg
END:VEVENT
BEGIN:VEVENT
DTSTART;TZID=Europe/London:20240320T230000
DTEND;TZID=Europe/London:20240321T030000
DTSTAMP:20260420T212653
CREATED:20240219T002211Z
LAST-MODIFIED:20240219T002211Z
UID:10000627-1710975600-1710990000@www.nicensleazy.com
SUMMARY:BAR- JAMIE SHAKA
DESCRIPTION:Jamie of Shaka Loves You is back in the bar for his bi-monthly residency\, he’ll be spinning funk\, hip-hop\, soul and lots more!
URL:https://www.nicensleazy.com/event/bar-jamie-shaka-3
CATEGORIES:Bar,Club
ATTACH;FMTTYPE=image/jpeg:https://www.nicensleazy.com/wp-content/uploads/2023/06/Web-capture_28-6-2023_171633_www.instagram.com_.jpeg
END:VEVENT
BEGIN:VEVENT
DTSTART;TZID=Europe/London:20240321T230000
DTEND;TZID=Europe/London:20240322T020000
DTSTAMP:20260420T212653
CREATED:20240207T125253Z
LAST-MODIFIED:20240207T125253Z
UID:10000587-1711062000-1711072800@www.nicensleazy.com
SUMMARY:TRAD THURSDAYS
DESCRIPTION:TRAD THURSDAYS brought to you by Falasgair our resident Trad band\, come along every Thursday for knee slapping traditional Scottish music. \nCome along just to listen\, For feel free to play as all are welcome to the session!
URL:https://www.nicensleazy.com/event/trad-thursdays-42
CATEGORIES:Bar,Club
ATTACH;FMTTYPE=image/jpeg:https://www.nicensleazy.com/wp-content/uploads/2023/06/Web-capture_28-6-2023_182248_www.instagram.com_.jpeg
END:VEVENT
BEGIN:VEVENT
DTSTART;TZID=Europe/London:20240322T230000
DTEND;TZID=Europe/London:20240323T030000
DTSTAMP:20260420T212653
CREATED:20240219T002424Z
LAST-MODIFIED:20240219T002424Z
UID:10000628-1711148400-1711162800@www.nicensleazy.com
SUMMARY:BAR- HOLLY CALDER
DESCRIPTION:Holly plays records this Friday from 11pm to 4am. \n  \nExpect Psych\, Old & New\, Garage\, Rock ‘N’ Roll and much more!
URL:https://www.nicensleazy.com/event/bar-holly-calder-5
CATEGORIES:Bar,Club
ATTACH;FMTTYPE=image/jpeg:https://www.nicensleazy.com/wp-content/uploads/2023/11/image5.jpg
END:VEVENT
BEGIN:VEVENT
DTSTART;TZID=Europe/London:20240322T230000
DTEND;TZID=Europe/London:20240323T030000
DTSTAMP:20260420T212653
CREATED:20240303T225114Z
LAST-MODIFIED:20240303T225114Z
UID:10000640-1711148400-1711162800@www.nicensleazy.com
SUMMARY:BAR- HOLLY CALDER
DESCRIPTION:Holly plays records this Friday from 11pm to 4am. \n  \nExpect Psych\, Old & New\, Garage\, Rock ‘N’ Roll and much more!
URL:https://www.nicensleazy.com/event/bar-holly-calder-6
CATEGORIES:Bar,Club
ATTACH;FMTTYPE=image/jpeg:https://www.nicensleazy.com/wp-content/uploads/2023/11/image5.jpg
END:VEVENT
BEGIN:VEVENT
DTSTART;TZID=Europe/London:20240322T230000
DTEND;TZID=Europe/London:20240323T030000
DTSTAMP:20260420T212653
CREATED:20240303T225309Z
LAST-MODIFIED:20240303T225309Z
UID:10000641-1711148400-1711162800@www.nicensleazy.com
SUMMARY:CLUB- PRECIOUS NOTHING
DESCRIPTION:Precious Nothing is taking on the club tonight\, he’ll be hitting you with some absolute bangers.
URL:https://www.nicensleazy.com/event/club-precious-nothing-2
CATEGORIES:Basement,Club
ATTACH;FMTTYPE=image/jpeg:https://www.nicensleazy.com/wp-content/uploads/2023/06/Web-capture_28-6-2023_175859_www.instagram.com_.jpeg
END:VEVENT
BEGIN:VEVENT
DTSTART;TZID=Europe/London:20240323T230000
DTEND;TZID=Europe/London:20240324T030000
DTSTAMP:20260420T212653
CREATED:20240219T002640Z
LAST-MODIFIED:20240219T002640Z
UID:10000629-1711234800-1711249200@www.nicensleazy.com
SUMMARY:BAR- JOEY NAME AND RUFUS
DESCRIPTION:get down with 2 of our favourite selectors!!
URL:https://www.nicensleazy.com/event/bar-joey-name-and-rufus
CATEGORIES:Bar,Club
ATTACH;FMTTYPE=image/jpeg:https://www.nicensleazy.com/wp-content/uploads/2024/01/joey-rufus-scaled.jpeg
END:VEVENT
BEGIN:VEVENT
DTSTART;TZID=Europe/London:20240323T230000
DTEND;TZID=Europe/London:20240324T030000
DTSTAMP:20260420T212653
CREATED:20240303T225542Z
LAST-MODIFIED:20240303T225542Z
UID:10000642-1711234800-1711249200@www.nicensleazy.com
SUMMARY:CLUB- SHAKA LOVES YOU
DESCRIPTION:Welcome to Joints n’ Jams! Expertly curating an eclectic selection of Disco\, House and funk and mixed with tight live percussion\, Shaka Loves You creates the perfect house party vibe!
URL:https://www.nicensleazy.com/event/club-shaka-loves-you-4
CATEGORIES:Basement,Club
ATTACH;FMTTYPE=image/jpeg:https://www.nicensleazy.com/wp-content/uploads/2023/05/AAA7FA40-82A8-4A31-8AE6-3BD5718EFD32.jpg
END:VEVENT
BEGIN:VEVENT
DTSTART;TZID=Europe/London:20240328T230000
DTEND;TZID=Europe/London:20240328T230000
DTSTAMP:20260420T212653
CREATED:20240207T125030Z
LAST-MODIFIED:20240207T125030Z
UID:10000584-1711666800-1711666800@www.nicensleazy.com
SUMMARY:TRAD THURSDAYS
DESCRIPTION:TRAD THURSDAYS brought to you by Falasgair our resident Trad band\, come along every Thursday for knee slapping traditional Scottish music. \nCome along just to listen\, For feel free to play as all are welcome to the session!
URL:https://www.nicensleazy.com/event/trad-thursdays-39
CATEGORIES:Bar,Club
ATTACH;FMTTYPE=image/jpeg:https://www.nicensleazy.com/wp-content/uploads/2023/06/Web-capture_28-6-2023_182248_www.instagram.com_.jpeg
END:VEVENT
BEGIN:VEVENT
DTSTART;TZID=Europe/London:20240329T230000
DTEND;TZID=Europe/London:20240330T030000
DTSTAMP:20260420T212653
CREATED:20240219T002840Z
LAST-MODIFIED:20240219T002840Z
UID:10000630-1711753200-1711767600@www.nicensleazy.com
SUMMARY:BAR- SIRO
DESCRIPTION:Si-Ro DJ is at it again in the bar! New wave\, synth\, oddities\, 80’s\, Boogie and who knows what else!
URL:https://www.nicensleazy.com/event/bar-siro
CATEGORIES:Bar,Club
ATTACH;FMTTYPE=image/jpeg:https://www.nicensleazy.com/wp-content/uploads/2023/05/00E98DE3-543B-4F1D-9FD7-EE8D6163E125.jpg
END:VEVENT
BEGIN:VEVENT
DTSTART;TZID=Europe/London:20240330T230000
DTEND;TZID=Europe/London:20240331T030000
DTSTAMP:20260420T212653
CREATED:20240303T225830Z
LAST-MODIFIED:20240303T231244Z
UID:10000643-1711839600-1711854000@www.nicensleazy.com
SUMMARY:CLUB- CLUB UPRISING
DESCRIPTION:Club Uprising for 2024 returns on the 30th of March at our favourite Nice n Sleazy \nIt’s a club night to raise money for Urban Uprising \, an incredible charity that gives young people another option in life. All proceeds go to UU. \nThis is the official after party for the The Climbing Academy (TCA) Winter Series\, so come get loose after the big day. \nUpstairs: Dj’s from 8pm then Hamish Frost & friends will be making your chill time real nice and vibey from 11pm onwards \nDownstairs 11pm-3am Fraser Moodie- No longer a rookie Michael Bleazard – the long awaited return Sam Scriven – resident £7 cash on the door. \nHouse\, funk\, techno\, trance.
URL:https://www.nicensleazy.com/event/club-club-uprising
CATEGORIES:Bar,Basement,Club
ATTACH;FMTTYPE=image/webp:https://www.nicensleazy.com/wp-content/uploads/2024/03/59d38f7c6ca075e059f2b1e48e7d4e8d67bec5d1.webp
END:VEVENT
BEGIN:VEVENT
DTSTART;TZID=Europe/London:20240403T230000
DTEND;TZID=Europe/London:20240404T030000
DTSTAMP:20260420T212653
CREATED:20240322T125450Z
LAST-MODIFIED:20240322T125450Z
UID:10000674-1712185200-1712199600@www.nicensleazy.com
SUMMARY:BAR - JAMIE SHAKA
DESCRIPTION:Growing up on the Isle of Skye and now living in Glasgow\, Jamie Shaka has been fascinated by music and DJing from a young age. Early memories of raiding his family’s record collection as a kid and developing his love of dance music as a teenager have stood him in good stead for developing his taste as a DJ. Whether it’s a festival stage\, chilled bar or packed club his sets span genres and fuse styles with ease while embracing the original art form of DJing
URL:https://www.nicensleazy.com/event/bar-jamie-shaka-4
CATEGORIES:Bar
ATTACH;FMTTYPE=image/jpeg:https://www.nicensleazy.com/wp-content/uploads/2023/06/Web-capture_28-6-2023_171633_www.instagram.com_.jpeg
END:VEVENT
BEGIN:VEVENT
DTSTART;TZID=Europe/London:20240404T230000
DTEND;TZID=Europe/London:20240405T020000
DTSTAMP:20260420T212653
CREATED:20240207T124743Z
LAST-MODIFIED:20240207T125506Z
UID:10000581-1712271600-1712282400@www.nicensleazy.com
SUMMARY:TRAD THURSDAYS
DESCRIPTION:TRAD THURSDAYS brought to you by Falasgair our resident Trad band\, come along every Thursday for knee slapping traditional Scottish music. \nCome along just to listen\, For feel free to play as all are welcome to the session!
URL:https://www.nicensleazy.com/event/trad-thursdays-36
CATEGORIES:Bar,Club
ATTACH;FMTTYPE=image/jpeg:https://www.nicensleazy.com/wp-content/uploads/2023/06/Web-capture_28-6-2023_182248_www.instagram.com_.jpeg
END:VEVENT
BEGIN:VEVENT
DTSTART;TZID=Europe/London:20240405T230000
DTEND;TZID=Europe/London:20240406T030000
DTSTAMP:20260420T212653
CREATED:20240314T194320Z
LAST-MODIFIED:20240314T194748Z
UID:10000662-1712358000-1712372400@www.nicensleazy.com
SUMMARY:BAR - Ugly Wain
DESCRIPTION:Come for the bops\, stay for the ugly wain
URL:https://www.nicensleazy.com/event/bar-ugly-wain-5
CATEGORIES:Bar,Club
ATTACH;FMTTYPE=image/jpeg:https://www.nicensleazy.com/wp-content/uploads/2023/08/Web-capture_23-8-2023_18630_www.instagram.com_.jpeg
END:VEVENT
BEGIN:VEVENT
DTSTART;TZID=Europe/London:20240405T230000
DTEND;TZID=Europe/London:20240406T030000
DTSTAMP:20260420T212653
CREATED:20240322T130340Z
LAST-MODIFIED:20240322T130340Z
UID:10000676-1712358000-1712372400@www.nicensleazy.com
SUMMARY:CLUB - AMPHORA
DESCRIPTION:AMPHORA is a DJ based in Glasgow. Starting his tenure with a big chunk of bar sets under his belt\, he has now found his footing as a monthly resident at Nice N Sleazy. \nLeaning towards weirdo house\, wobbly electro and wonky rhythmic tracks the emphasis stays on the fun and danceable. \nIt’s all a bit of fun\, right?
URL:https://www.nicensleazy.com/event/club-amphora
CATEGORIES:Basement
ATTACH;FMTTYPE=image/jpeg:https://www.nicensleazy.com/wp-content/uploads/2023/06/Web-capture_28-6-2023_174433_www.instagram.com_.jpeg
END:VEVENT
BEGIN:VEVENT
DTSTART;TZID=Europe/London:20240406T150000
DTEND;TZID=Europe/London:20240406T230000
DTSTAMP:20260420T212653
CREATED:20240126T181015Z
LAST-MODIFIED:20240126T181015Z
UID:10000577-1712415600-1712444400@www.nicensleazy.com
SUMMARY:HOUSE GUEST
DESCRIPTION:TAKE A SEAT\nBE OUR HOUSEGUEST\n\nHOUSEGUEST is the brand new ALL-DAY festival presented by local DIY promoters Crowded Flat and SMC\, featuring a wealth of Scottish talent across three venues this April. Make yourself at home across Nice ’n’ Sleazy’s\, Garage Attic and The Variety Bar and catch acts such as: PARLIAMO\, TINA SANDWICH\, MAJESTY PALM and more TBA. \nCrowded Flat and SMC have been at the forefront of bringing Glasgow’s underground music scene to life\, and have collaborated on creating this inaugural event that aims to let the talented artists of Glasgow flourish. \nThis event is 18+
URL:https://www.nicensleazy.com/event/house-guest
CATEGORIES:Bar,Basement,Club,Gig
ATTACH;FMTTYPE=image/jpeg:https://www.nicensleazy.com/wp-content/uploads/2024/01/Web-capture_26-1-2024_18954_www.instagram.com_.jpeg
END:VEVENT
BEGIN:VEVENT
DTSTART;TZID=Europe/London:20240406T230000
DTEND;TZID=Europe/London:20240407T040000
DTSTAMP:20260420T212653
CREATED:20240322T131145Z
LAST-MODIFIED:20240322T131620Z
UID:10000678-1712444400-1712462400@www.nicensleazy.com
SUMMARY:CLUB - FEMME DM (HOUSEGUEST AFTER PARTY)
DESCRIPTION:FemmeDM are a glasgow based female collective who’ll be bringing the best DJs around with the likes of Ocean\, mily B\, Knees up and Jenn Gunn. \n 
URL:https://www.nicensleazy.com/event/club-femme-dm-houseguest-after-party
CATEGORIES:Bar,Basement
ATTACH;FMTTYPE=image/jpeg:https://www.nicensleazy.com/wp-content/uploads/2024/03/fbb5e73e-d620-4985-9baa-0608deed1759.jpg
END:VEVENT
BEGIN:VEVENT
DTSTART;TZID=Europe/London:20240411T230000
DTEND;TZID=Europe/London:20240412T020000
DTSTAMP:20260420T212653
CREATED:20240207T125207Z
LAST-MODIFIED:20240207T125449Z
UID:10000586-1712876400-1712887200@www.nicensleazy.com
SUMMARY:TRAD THURSDAYS
DESCRIPTION:TRAD THURSDAYS brought to you by Falasgair our resident Trad band\, come along every Thursday for knee slapping traditional Scottish music. \nCome along just to listen\, For feel free to play as all are welcome to the session!
URL:https://www.nicensleazy.com/event/trad-thursdays-41
CATEGORIES:Bar,Club
ATTACH;FMTTYPE=image/jpeg:https://www.nicensleazy.com/wp-content/uploads/2023/06/Web-capture_28-6-2023_182248_www.instagram.com_.jpeg
END:VEVENT
BEGIN:VEVENT
DTSTART;TZID=Europe/London:20240412T230000
DTEND;TZID=Europe/London:20240413T030000
DTSTAMP:20260420T212653
CREATED:20240314T194638Z
LAST-MODIFIED:20240314T194758Z
UID:10000663-1712962800-1712977200@www.nicensleazy.com
SUMMARY:BAR - Pearl Necklace
DESCRIPTION:
URL:https://www.nicensleazy.com/event/bar-pearl-necklace-3
CATEGORIES:Bar,Club
ATTACH;FMTTYPE=image/jpeg:https://www.nicensleazy.com/wp-content/uploads/2023/06/Web-capture_28-6-2023_19957_www.instagram.com_.jpeg
END:VEVENT
BEGIN:VEVENT
DTSTART;TZID=Europe/London:20240412T230000
DTEND;TZID=Europe/London:20240413T030000
DTSTAMP:20260420T212653
CREATED:20240322T133329Z
LAST-MODIFIED:20240322T133329Z
UID:10000680-1712962800-1712977200@www.nicensleazy.com
SUMMARY:BAR - PEARL NECKLACE
DESCRIPTION:Pearl Necklace is back at the bar with a whole new selection of pop\, house & UKG. This is one not to miss!
URL:https://www.nicensleazy.com/event/bar-pearl-necklace-4
CATEGORIES:Bar
ATTACH;FMTTYPE=image/jpeg:https://www.nicensleazy.com/wp-content/uploads/2023/06/Web-capture_28-6-2023_19957_www.instagram.com_.jpeg
END:VEVENT
BEGIN:VEVENT
DTSTART;TZID=Europe/London:20240413T230000
DTEND;TZID=Europe/London:20240414T030000
DTSTAMP:20260420T212653
CREATED:20240314T194737Z
LAST-MODIFIED:20240314T194737Z
UID:10000664-1713049200-1713063600@www.nicensleazy.com
SUMMARY:BAR - Carphone Memories
DESCRIPTION:david john weaver (fantastic man) brings you a night of summer breezes\, fruity bangers\, wonky and tropical vibes\, the smell of coconut oil
URL:https://www.nicensleazy.com/event/bar-carphone-memories-2
CATEGORIES:Bar,Club
ATTACH;FMTTYPE=image/png:https://www.nicensleazy.com/wp-content/uploads/2024/01/sleazy-1.png
END:VEVENT
BEGIN:VEVENT
DTSTART;TZID=Europe/London:20240413T230000
DTEND;TZID=Europe/London:20240414T030000
DTSTAMP:20260420T212653
CREATED:20240322T133758Z
LAST-MODIFIED:20240322T133758Z
UID:10000681-1713049200-1713063600@www.nicensleazy.com
SUMMARY:CLUB - DOMINO DANCING
DESCRIPTION:Domino Dancing continues its residency in Sleazys on the 2nd Friday of the month. \nFor March\, resident DJ Dean Munch is joined by Casual Look spinning lots of upbeat disco\, 90s house and euphoric italo edits
URL:https://www.nicensleazy.com/event/club-domino-dancing-4
CATEGORIES:Basement
ATTACH;FMTTYPE=image/jpeg:https://www.nicensleazy.com/wp-content/uploads/2024/01/domino-dancing-scaled.jpg
END:VEVENT
BEGIN:VEVENT
DTSTART;TZID=Europe/London:20240413T230000
DTEND;TZID=Europe/London:20240414T030000
DTSTAMP:20260420T212653
CREATED:20240322T134613Z
LAST-MODIFIED:20240322T134613Z
UID:10000683-1713049200-1713063600@www.nicensleazy.com
SUMMARY:CLUB - ACT NATURAL
DESCRIPTION:Act Natural is a club where the eyes & ears drive your rears. BOOM! \nHustled into life by DJ\, producer & performer Baillie Jnr & DJ HuussH\, their prime manifesto is to fill the dance floor wall 2 wall with B-I-G FUN\, deliriously AND seriously. \nAct Natural’s aim is to deliver some exclusive production cuts and a dynamic visual aesthetic with bespoke lights and design. Hot dance dubs and vocal cuts with a twist – vibrating between Bonnie Tyler & Sylvester. There is something preposterous about it sure\, but it’s irresistibly FUN no matter what. \nPitching their rhythm nation across a timeline that runs 70’s – 20’s\, Act Natural is a jumping blend of Hi-NRG 80’s disco/ italo woven into 90’s house & electro – think scorchingly fresh Parisian club sounds bumping against gym-buffed 80’s stadium disco funk – but spun with a low-end bounce that SLAMS like sweating poppers! \nThere is no ‘natural’\, it’s ALL an act. Find your place\, to the BEAT.
URL:https://www.nicensleazy.com/event/club-act-natural-3
CATEGORIES:Basement
ATTACH;FMTTYPE=image/webp:https://www.nicensleazy.com/wp-content/uploads/2024/03/87fd5f9ead52b10347bfd9764ea542b87d9e5d31.webp
END:VEVENT
END:VCALENDAR