BEGIN:VCALENDAR
VERSION:2.0
PRODID:-//NiceNSleazy - ECPv6.15.20//NONSGML v1.0//EN
CALSCALE:GREGORIAN
METHOD:PUBLISH
X-ORIGINAL-URL:https://www.nicensleazy.com
X-WR-CALDESC:Events for NiceNSleazy
REFRESH-INTERVAL;VALUE=DURATION:PT1H
X-Robots-Tag:noindex
X-PUBLISHED-TTL:PT1H
BEGIN:VTIMEZONE
TZID:Europe/London
BEGIN:DAYLIGHT
TZOFFSETFROM:+0000
TZOFFSETTO:+0100
TZNAME:BST
DTSTART:20240331T010000
END:DAYLIGHT
BEGIN:STANDARD
TZOFFSETFROM:+0100
TZOFFSETTO:+0000
TZNAME:GMT
DTSTART:20241027T010000
END:STANDARD
BEGIN:DAYLIGHT
TZOFFSETFROM:+0000
TZOFFSETTO:+0100
TZNAME:BST
DTSTART:20250330T010000
END:DAYLIGHT
BEGIN:STANDARD
TZOFFSETFROM:+0100
TZOFFSETTO:+0000
TZNAME:GMT
DTSTART:20251026T010000
END:STANDARD
BEGIN:DAYLIGHT
TZOFFSETFROM:+0000
TZOFFSETTO:+0100
TZNAME:BST
DTSTART:20260329T010000
END:DAYLIGHT
BEGIN:STANDARD
TZOFFSETFROM:+0100
TZOFFSETTO:+0000
TZNAME:GMT
DTSTART:20261025T010000
END:STANDARD
END:VTIMEZONE
BEGIN:VEVENT
DTSTART;TZID=Europe/London:20251108T230000
DTEND;TZID=Europe/London:20251109T030000
DTSTAMP:20260422T233026
CREATED:20251030T175845Z
LAST-MODIFIED:20251030T175845Z
UID:10004648-1762642800-1762657200@www.nicensleazy.com
SUMMARY:BAR DJ - CAFFEINE
DESCRIPTION:Caffeine is a southside local who’s been making moves around the Glasgow scene\, bringing a sound that blends rolling techno rhythms\, hypnotic loops and darker\, atmospheric touches. \nWe are buzzing to have him at the bar on the 8th of November!
URL:https://www.nicensleazy.com/event/bar-dj-caffeine
CATEGORIES:Bar,Club
ATTACH;FMTTYPE=image/png:https://www.nicensleazy.com/wp-content/uploads/2025/10/Screenshot-2025-10-30-at-17.56.35.png
END:VEVENT
BEGIN:VEVENT
DTSTART;TZID=Europe/London:20251108T230000
DTEND;TZID=Europe/London:20251109T030000
DTSTAMP:20260422T233026
CREATED:20251105T202229Z
LAST-MODIFIED:20251105T202229Z
UID:10004657-1762642800-1762657200@www.nicensleazy.com
SUMMARY:CLUB - ACT NATURAL
DESCRIPTION:This Saturday… \nAct Natural are back\, bringing the lightbeams of love back to the Sleazys basement!! \nitalo/hi-nrg all night long \nget your advance tickets on RA to skip the queue <3
URL:https://www.nicensleazy.com/event/club-act-natural-11
CATEGORIES:Basement,Club
ATTACH;FMTTYPE=application/pdf:https://www.nicensleazy.com/wp-content/uploads/2025/11/Screenshot-2025-11-05-at-20.17.14.pdf
END:VEVENT
BEGIN:VEVENT
DTSTART;TZID=Europe/London:20251109T190000
DTEND;TZID=Europe/London:20251110T030000
DTSTAMP:20260422T233026
CREATED:20251012T223323Z
LAST-MODIFIED:20251012T223324Z
UID:10004322-1762714800-1762743600@www.nicensleazy.com
SUMMARY:SPIN CLASS W/ ASSAI RECORDS
DESCRIPTION:sunday spin class… \never wondered what your favourite records would sound like through a professional PA system?\nor did you buy a new vinyl at a gig recently and want to relive it?\nwell… here’s your opportunity! \nbring in some records and give mixing a go // choose some tunes from our in-house collection\nFREE ENTRY every week
URL:https://www.nicensleazy.com/event/spinclass-with-assai-records-2/2025-11-09
CATEGORIES:Bar
ATTACH;FMTTYPE=image/jpeg:https://www.nicensleazy.com/wp-content/uploads/2025/05/1.jpg
END:VEVENT
BEGIN:VEVENT
DTSTART;TZID=Europe/London:20251112T230000
DTEND;TZID=Europe/London:20251113T030000
DTSTAMP:20260422T233026
CREATED:20250513T202513Z
LAST-MODIFIED:20250830T112433Z
UID:10001613-1762988400-1763002800@www.nicensleazy.com
SUMMARY:DRAG KARAOKE W/ MISS TESS
DESCRIPTION:Weekly Karaoke night until 3am with the icon herself\, Miss Tess!! \nGet down early as the singers list fills very fast! 😍😍
URL:https://www.nicensleazy.com/event/drag-bingo-w-miss-tess-9-2/2025-11-12
CATEGORIES:Bar
ATTACH;FMTTYPE=image/png:https://www.nicensleazy.com/wp-content/uploads/2025/05/DRAG-KARAOKE-1.png
END:VEVENT
BEGIN:VEVENT
DTSTART;TZID=Europe/London:20251113T230000
DTEND;TZID=Europe/London:20251114T020000
DTSTAMP:20260422T233026
CREATED:20241125T225609Z
LAST-MODIFIED:20250513T204235Z
UID:10001879-1763074800-1763085600@www.nicensleazy.com
SUMMARY:TRAD THURSDAYS
DESCRIPTION:11PM-2AM EVERY THURSDAY \nBrought to you by our resident Trad band! \nAn assortment of knee-slapping traditional Scottish music\, with a few covers here and there. \nCome along just to listen\, or feel free to play – all are welcome to the session!
URL:https://www.nicensleazy.com/event/trad-thursdays-62/2025-11-13
CATEGORIES:Bar,Gig
ATTACH;FMTTYPE=image/png:https://www.nicensleazy.com/wp-content/uploads/2024/11/Screenshot-2025-05-13-at-21.38.54.png
END:VEVENT
BEGIN:VEVENT
DTSTART;TZID=Europe/London:20251113T230000
DTEND;TZID=Europe/London:20251114T030000
DTSTAMP:20260422T233026
CREATED:20251103T205148Z
LAST-MODIFIED:20251103T205148Z
UID:10004654-1763074800-1763089200@www.nicensleazy.com
SUMMARY:SEMS: NICE N  GROOVY
DESCRIPTION:Strath EMS returns to Nice ‘n’ Sleazy for another night showcasing student selectors and local talent. Expect a full spectrum of electronic sounds\, from house and techno to trance and beyond. \nOpen Decks: 8PM–11PM We’re opening the decks early for anyone who wants to play. Bring your USBs\, plug in\, and show us what you’ve got. \nMain Lineup: 11PM–Late Our resident and guest DJs take over for a night of high energy\, quality selections\, and dance floor focus. \nTickets 50 free early tickets available while they last\, followed by standard entry. Don’t wait—once they’re gone\, they’re gone. \nJoin the Strath EMS community via Instagram (semsstrath) for another night of good music and better energy at Nice ‘n’ Sleazy.
URL:https://www.nicensleazy.com/event/sems-nice-n-groovy
CATEGORIES:Basement,Club
ATTACH;FMTTYPE=image/webp:https://www.nicensleazy.com/wp-content/uploads/2025/11/b71ddbd15c0b52c96b6ea237fc79cef55e9e5988.webp
END:VEVENT
BEGIN:VEVENT
DTSTART;TZID=Europe/London:20251114T223000
DTEND;TZID=Europe/London:20251115T030000
DTSTAMP:20260422T233026
CREATED:20251114T105852Z
LAST-MODIFIED:20251114T105853Z
UID:10004671-1763159400-1763175600@www.nicensleazy.com
SUMMARY:BAR- VLURE AFTER PARTY
DESCRIPTION:Join us for the oficial Vlure after party following their sold out show at the Art School! \nThis is going to be one for the books\, don’t miss it. \nFt Neoma\nMaveen\nSurplus\nVlure DJs
URL:https://www.nicensleazy.com/event/bar-vlure-after-party
CATEGORIES:Bar,Club
ATTACH;FMTTYPE=image/jpeg:https://www.nicensleazy.com/wp-content/uploads/2025/11/4f39640c-9067-40bf-8f44-4236bf4e555c.jpg
END:VEVENT
BEGIN:VEVENT
DTSTART;TZID=Europe/London:20251114T230000
DTEND;TZID=Europe/London:20251115T030000
DTSTAMP:20260422T233026
CREATED:20251030T180441Z
LAST-MODIFIED:20251030T183250Z
UID:10004649-1763161200-1763175600@www.nicensleazy.com
SUMMARY:BAR DJ - VLURE AFTERPARTY
DESCRIPTION:SLEAZY’S PRESENTS THE OFFICIAL VLURE AFTERPARTY! \nwith Neoma\, Maveen + Surplus Gla <3
URL:https://www.nicensleazy.com/event/bar-vlure-afterparty
CATEGORIES:Bar,Club
END:VEVENT
BEGIN:VEVENT
DTSTART;TZID=Europe/London:20251114T230000
DTEND;TZID=Europe/London:20251115T030000
DTSTAMP:20260422T233026
CREATED:20251112T191436Z
LAST-MODIFIED:20251112T191436Z
UID:10004659-1763161200-1763175600@www.nicensleazy.com
SUMMARY:CLUB- BLUNT FORCE SAUNA
DESCRIPTION:The carnival is back in town 💃🕺 we hope everyone had a spoooooky 👻🎃time these last few weeks! \nWith loaded decks \, our pair of jokers 🃏 @_fenro & @grants_no_requests l👀k 2 spin up a storm for our Full House ♠️♥️♣️♦️ \n@nicensleazy club \nAlways pulling secret aces 🙊from up our sleeves for the dance floor all night long. \nFlavours of funk\, disco and house from all corners of the world 🌍 and outer space 👽 \n✨Come down for the magic show powered by isonoe\, iykyk✨🪄🃏
URL:https://www.nicensleazy.com/event/club-blunt-force-sauna-5
CATEGORIES:Basement,Club
END:VEVENT
BEGIN:VEVENT
DTSTART;TZID=Europe/London:20251115T230000
DTEND;TZID=Europe/London:20251116T030000
DTSTAMP:20260422T233026
CREATED:20251030T172622Z
LAST-MODIFIED:20251030T183337Z
UID:10004645-1763247600-1763262000@www.nicensleazy.com
SUMMARY:CLUB - VIV AND SUZ
DESCRIPTION:Viv and Suz are a Scottish DJ duo and residents at They Club\, based between London and Glasgow. Known for high-energy sets spanning house\, hard groove\, speed garage\, and trance\, they bring sharp selections and instinctive chemistry to the booth. With Suz also a resident at Nice N Sleazy\, Viv and Suz are carving out their place in the UK’s queer club circuit — fast\, focused\, and unapologetically their own. \n  \n 
URL:https://www.nicensleazy.com/event/viv-and-suz
CATEGORIES:Basement,Club
ATTACH;FMTTYPE=image/webp:https://www.nicensleazy.com/wp-content/uploads/2025/10/da3230e7e12815127f24ffab9835ac862db1380a.webp
END:VEVENT
BEGIN:VEVENT
DTSTART;TZID=Europe/London:20251115T230000
DTEND;TZID=Europe/London:20251116T030000
DTSTAMP:20260422T233026
CREATED:20251030T180807Z
LAST-MODIFIED:20251030T180807Z
UID:10004650-1763247600-1763262000@www.nicensleazy.com
SUMMARY:BAR DJ - CHARLOTTE TUESDAY
DESCRIPTION:Welcoming the disco queen that is Charlotte Tuesday!\nCharlotte has been lighting up the Glasgow Music scene for nearly 7 years\, known for her high energy sets where disco is at the core\, from house to classic and italo. \nShe is a familiar face across the scene holding residencies across a number of well known Glasgow bars. She has also smashed it on the club scene having played at the likes of Berkeley suite \, sub club and swg3 to name a few…
URL:https://www.nicensleazy.com/event/bar-dj-charlotte-tuesday
CATEGORIES:Bar,Club
ATTACH;FMTTYPE=image/jpeg:https://www.nicensleazy.com/wp-content/uploads/2025/07/18079C27-08E2-4DE4-AE7D-202C12827D20.jpg
END:VEVENT
BEGIN:VEVENT
DTSTART;TZID=Europe/London:20251116T190000
DTEND;TZID=Europe/London:20251117T030000
DTSTAMP:20260422T233026
CREATED:20251012T223323Z
LAST-MODIFIED:20251012T223324Z
UID:10004323-1763319600-1763348400@www.nicensleazy.com
SUMMARY:SPIN CLASS W/ ASSAI RECORDS
DESCRIPTION:sunday spin class… \never wondered what your favourite records would sound like through a professional PA system?\nor did you buy a new vinyl at a gig recently and want to relive it?\nwell… here’s your opportunity! \nbring in some records and give mixing a go // choose some tunes from our in-house collection\nFREE ENTRY every week
URL:https://www.nicensleazy.com/event/spinclass-with-assai-records-2/2025-11-16
CATEGORIES:Bar
ATTACH;FMTTYPE=image/jpeg:https://www.nicensleazy.com/wp-content/uploads/2025/05/1.jpg
END:VEVENT
BEGIN:VEVENT
DTSTART;TZID=Europe/London:20251118T223000
DTEND;TZID=Europe/London:20251119T030000
DTSTAMP:20260422T233026
CREATED:20251105T113700Z
LAST-MODIFIED:20251105T113848Z
UID:10004655-1763505000-1763521200@www.nicensleazy.com
SUMMARY:Come Out + Play: Offspring Afterparty
DESCRIPTION:After Offspring at the Hydro: COME OUT and PLAY!\nA *free* after-show party with DJ Pretty White Fly Guy – playing pop-punk\, skater-punk\, punk-rock and other absolute anthems with the word ‘punk’ in it!
URL:https://www.nicensleazy.com/event/come-out-play-offspring-afterparty
CATEGORIES:Bar,Club
ATTACH;FMTTYPE=image/png:https://www.nicensleazy.com/wp-content/uploads/2025/11/THE-OFFSPRING-after-party-insta.png
END:VEVENT
BEGIN:VEVENT
DTSTART;TZID=Europe/London:20251119T230000
DTEND;TZID=Europe/London:20251120T030000
DTSTAMP:20260422T233026
CREATED:20250513T202513Z
LAST-MODIFIED:20250830T112433Z
UID:10001614-1763593200-1763607600@www.nicensleazy.com
SUMMARY:DRAG KARAOKE W/ MISS TESS
DESCRIPTION:Weekly Karaoke night until 3am with the icon herself\, Miss Tess!! \nGet down early as the singers list fills very fast! 😍😍
URL:https://www.nicensleazy.com/event/drag-bingo-w-miss-tess-9-2/2025-11-19
CATEGORIES:Bar
ATTACH;FMTTYPE=image/png:https://www.nicensleazy.com/wp-content/uploads/2025/05/DRAG-KARAOKE-1.png
END:VEVENT
BEGIN:VEVENT
DTSTART;TZID=Europe/London:20251120T230000
DTEND;TZID=Europe/London:20251121T020000
DTSTAMP:20260422T233026
CREATED:20241125T225609Z
LAST-MODIFIED:20250513T204235Z
UID:10001880-1763679600-1763690400@www.nicensleazy.com
SUMMARY:TRAD THURSDAYS
DESCRIPTION:11PM-2AM EVERY THURSDAY \nBrought to you by our resident Trad band! \nAn assortment of knee-slapping traditional Scottish music\, with a few covers here and there. \nCome along just to listen\, or feel free to play – all are welcome to the session!
URL:https://www.nicensleazy.com/event/trad-thursdays-62/2025-11-20
CATEGORIES:Bar,Gig
ATTACH;FMTTYPE=image/png:https://www.nicensleazy.com/wp-content/uploads/2024/11/Screenshot-2025-05-13-at-21.38.54.png
END:VEVENT
BEGIN:VEVENT
DTSTART;TZID=Europe/London:20251121T230000
DTEND;TZID=Europe/London:20251122T030000
DTSTAMP:20260422T233026
CREATED:20251030T174010Z
LAST-MODIFIED:20251030T174010Z
UID:10004646-1763766000-1763780400@www.nicensleazy.com
SUMMARY:DJ UNCOMFORTABLE
DESCRIPTION:Come and join DJ Uncomfortable for a final showdown! There’ll be house\, there’ll be funk and maybe even a little junglist action in the mix. \nSlink downstairs to forget your cares and dance into the wee hours with your pals
URL:https://www.nicensleazy.com/event/dj-uncomfortable
CATEGORIES:Basement,Club
ATTACH;FMTTYPE=image/jpeg:https://www.nicensleazy.com/wp-content/uploads/2025/10/DJ-Uncomfortable.jpg
END:VEVENT
BEGIN:VEVENT
DTSTART;TZID=Europe/London:20251121T230000
DTEND;TZID=Europe/London:20251122T030000
DTSTAMP:20260422T233026
CREATED:20251030T181116Z
LAST-MODIFIED:20251030T181116Z
UID:10004651-1763766000-1763780400@www.nicensleazy.com
SUMMARY:BAR DJ - JOYSTEALER
DESCRIPTION:DJ JOYSTEALER from @mercygirlband will be spinning the tunes on Friday 21st of November!!
URL:https://www.nicensleazy.com/event/bar-dj-joystealer
CATEGORIES:Bar,Club
END:VEVENT
BEGIN:VEVENT
DTSTART;TZID=Europe/London:20251123T190000
DTEND;TZID=Europe/London:20251124T030000
DTSTAMP:20260422T233026
CREATED:20251012T223323Z
LAST-MODIFIED:20251012T223324Z
UID:10004324-1763924400-1763953200@www.nicensleazy.com
SUMMARY:SPIN CLASS W/ ASSAI RECORDS
DESCRIPTION:sunday spin class… \never wondered what your favourite records would sound like through a professional PA system?\nor did you buy a new vinyl at a gig recently and want to relive it?\nwell… here’s your opportunity! \nbring in some records and give mixing a go // choose some tunes from our in-house collection\nFREE ENTRY every week
URL:https://www.nicensleazy.com/event/spinclass-with-assai-records-2/2025-11-23
CATEGORIES:Bar
ATTACH;FMTTYPE=image/jpeg:https://www.nicensleazy.com/wp-content/uploads/2025/05/1.jpg
END:VEVENT
BEGIN:VEVENT
DTSTART;TZID=Europe/London:20251126T230000
DTEND;TZID=Europe/London:20251127T030000
DTSTAMP:20260422T233026
CREATED:20250513T202513Z
LAST-MODIFIED:20250830T112433Z
UID:10001615-1764198000-1764212400@www.nicensleazy.com
SUMMARY:DRAG KARAOKE W/ MISS TESS
DESCRIPTION:Weekly Karaoke night until 3am with the icon herself\, Miss Tess!! \nGet down early as the singers list fills very fast! 😍😍
URL:https://www.nicensleazy.com/event/drag-bingo-w-miss-tess-9-2/2025-11-26
CATEGORIES:Bar
ATTACH;FMTTYPE=image/png:https://www.nicensleazy.com/wp-content/uploads/2025/05/DRAG-KARAOKE-1.png
END:VEVENT
BEGIN:VEVENT
DTSTART;TZID=Europe/London:20251127T230000
DTEND;TZID=Europe/London:20251128T020000
DTSTAMP:20260422T233026
CREATED:20241125T225609Z
LAST-MODIFIED:20250513T204235Z
UID:10001881-1764284400-1764295200@www.nicensleazy.com
SUMMARY:TRAD THURSDAYS
DESCRIPTION:11PM-2AM EVERY THURSDAY \nBrought to you by our resident Trad band! \nAn assortment of knee-slapping traditional Scottish music\, with a few covers here and there. \nCome along just to listen\, or feel free to play – all are welcome to the session!
URL:https://www.nicensleazy.com/event/trad-thursdays-62/2025-11-27
CATEGORIES:Bar,Gig
ATTACH;FMTTYPE=image/png:https://www.nicensleazy.com/wp-content/uploads/2024/11/Screenshot-2025-05-13-at-21.38.54.png
END:VEVENT
BEGIN:VEVENT
DTSTART;TZID=Europe/London:20251128T230000
DTEND;TZID=Europe/London:20251129T040000
DTSTAMP:20260422T233026
CREATED:20251030T182228Z
LAST-MODIFIED:20251030T182228Z
UID:10004652-1764370800-1764388800@www.nicensleazy.com
SUMMARY:BAR DJ - THE WOOK
DESCRIPTION:THE WOOK is an incredible DJ from the Highlands of Scotland 🏴󠁧󠁢󠁳󠁣󠁴󠁿 \nHe flows through Hip Hop\, Funk\, Soul\, Disco\, House\, Dubstep & DnB using scratching and various mixing techniques to make it his own! \nWe can’t wait to have him back on the turntables this November
URL:https://www.nicensleazy.com/event/bar-dj-the-wook
CATEGORIES:Bar,Club
ATTACH;FMTTYPE=image/jpeg:https://www.nicensleazy.com/wp-content/uploads/2025/10/download.jpeg
END:VEVENT
BEGIN:VEVENT
DTSTART;TZID=Europe/London:20251128T230000
DTEND;TZID=Europe/London:20251129T040000
DTSTAMP:20260422T233026
CREATED:20251122T205426Z
LAST-MODIFIED:20251122T205426Z
UID:10004953-1764370800-1764388800@www.nicensleazy.com
SUMMARY:U-PHORIA with VXYX
DESCRIPTION:XYX is owner and founder of Eutony Glasgow\, held in Glasgows infamous La Cheetah Club basement for 6 years. Eutony Glasgow has hosted EU artists such as Anetha + Under Black Helmet and Berghain resident Fiedel. \nVXYX gained a short residency with XXL TECHNO\, playing up and down the country\, leading to slots at Parklife fest\, etc. \nHer sound is a mix of ground breaking techno\, ghetto tech\, footwork and electro. It’s gna be huuuuge. \nGet your tickets in advance on RA to skip the queue!
URL:https://www.nicensleazy.com/event/u-phoria-with-vxyx
CATEGORIES:Basement,Club
END:VEVENT
BEGIN:VEVENT
DTSTART;TZID=Europe/London:20251129T230000
DTEND;TZID=Europe/London:20251130T040000
DTSTAMP:20260422T233026
CREATED:20251030T182842Z
LAST-MODIFIED:20251030T182842Z
UID:10004653-1764457200-1764475200@www.nicensleazy.com
SUMMARY:BAR DJ  - JO-HANN
DESCRIPTION:Jo-Hann is a Glasgow-based musician and producer\, influenced by the sounds of UK dubstep\, breakbeat\, garage\, electro and jazz. \nA long-time instrumentalist\, he often incorporates live elements into his tracks and performances. His sets offer a selection of alternative dance music featuring scattered original tunes. \nWe are buzzing to have him soundtracking the car this November!
URL:https://www.nicensleazy.com/event/bar-dj-jo-hann
CATEGORIES:Bar,Club
ATTACH;FMTTYPE=image/jpeg:https://www.nicensleazy.com/wp-content/uploads/2025/10/0037442332_21.jpg
END:VEVENT
BEGIN:VEVENT
DTSTART;TZID=Europe/London:20251129T230000
DTEND;TZID=Europe/London:20251130T040000
DTSTAMP:20260422T233026
CREATED:20251112T191034Z
LAST-MODIFIED:20251112T191034Z
UID:10004658-1764457200-1764475200@www.nicensleazy.com
SUMMARY:CLUB- SHAKA LOVES YOU
DESCRIPTION:Join us for the “Joints n’ Jams” compilation launch party with Shaka Loves You. \nShaka Loves You are back with the third volume of the much-loved Joint n’ Jams series. Staying true to the spirit of their syndicated radio shows\, the Glasgow duo dig deep into the intersection of Funk\, Disco\, and House\, curating a selection that perfectly captures their sound. \nWith recent no.1s under their belt and support on stations such as BBC Radio 1 and Glitterbox Radio\, SLY are riding a wave of momentum while keeping their focus firmly on the dancefloor. This latest instalment captures that energy\, placing together exclusive new tracks from the duo alongside music from Illyus & Barrientos\, Young Pulse\, Moodeena\, Art of Tones\, Lindstrøm\, Hotmood\, Dombrance\, Ray Mang\, and many more. \nThis event is not to be missed!
URL:https://www.nicensleazy.com/event/club-shaka-loves-you-8
CATEGORIES:Basement,Club
ATTACH;FMTTYPE=image/jpeg:https://www.nicensleazy.com/wp-content/uploads/2025/11/WhatsApp-Image-2025-11-10-at-17.35.29-1.jpeg
END:VEVENT
BEGIN:VEVENT
DTSTART;TZID=Europe/London:20251130T190000
DTEND;TZID=Europe/London:20251130T230000
DTSTAMP:20260422T233026
CREATED:20251122T160557Z
LAST-MODIFIED:20251122T160557Z
UID:10004952-1764529200-1764543600@www.nicensleazy.com
SUMMARY:CHARLOTTE DEVLIN - GIG
DESCRIPTION:EP LAUNCH PARTY
URL:https://www.nicensleazy.com/event/charlotte-devlin-gig
CATEGORIES:Basement,Gig
ATTACH;FMTTYPE=image/png:https://www.nicensleazy.com/wp-content/uploads/2025/11/Screenshot-2025-11-22-at-16.04.21.png
END:VEVENT
BEGIN:VEVENT
DTSTART;TZID=Europe/London:20251130T190000
DTEND;TZID=Europe/London:20251201T030000
DTSTAMP:20260422T233026
CREATED:20251012T223323Z
LAST-MODIFIED:20251012T223324Z
UID:10004325-1764529200-1764558000@www.nicensleazy.com
SUMMARY:SPIN CLASS W/ ASSAI RECORDS
DESCRIPTION:sunday spin class… \never wondered what your favourite records would sound like through a professional PA system?\nor did you buy a new vinyl at a gig recently and want to relive it?\nwell… here’s your opportunity! \nbring in some records and give mixing a go // choose some tunes from our in-house collection\nFREE ENTRY every week
URL:https://www.nicensleazy.com/event/spinclass-with-assai-records-2/2025-11-30
CATEGORIES:Bar
ATTACH;FMTTYPE=image/jpeg:https://www.nicensleazy.com/wp-content/uploads/2025/05/1.jpg
END:VEVENT
BEGIN:VEVENT
DTSTART;TZID=Europe/London:20251201T230000
DTEND;TZID=Europe/London:20251202T030000
DTSTAMP:20260422T233026
CREATED:20251122T210939Z
LAST-MODIFIED:20251122T210940Z
UID:10004686-1764630000-1764644400@www.nicensleazy.com
SUMMARY:AUTOTUNE KARAOKE
DESCRIPTION:UNOFFICIAL OKLOU AFTERS\nCOME SING US A TUNE\, IN YOUR BEST ELECTRO VOICE!\n11-3AM\, HOSTED BY THE ONE AND ONLY MAZZA
URL:https://www.nicensleazy.com/event/mazza-mondays-2
CATEGORIES:Bar
ATTACH;FMTTYPE=image/jpeg:https://www.nicensleazy.com/wp-content/uploads/2025/11/MAZZA-Instagram-Post-45.jpg
END:VEVENT
BEGIN:VEVENT
DTSTART;TZID=Europe/London:20251202T193000
DTEND;TZID=Europe/London:20251202T230000
DTSTAMP:20260422T233026
CREATED:20251115T151312Z
LAST-MODIFIED:20251115T151312Z
UID:10004677-1764703800-1764716400@www.nicensleazy.com
SUMMARY:THE AGORA III - TIRED HORSES THEATRE
DESCRIPTION:A political theatre scratch night! \nWelcome to The Agora—a new stage for a new era of theatre.  \nIn ancient Athens\, the Agora meant the marketplace\, but is was so much more; it was the vibrant heart of the city\, where the community gathered to ignite ideas and debate the very future of democracy. It was the birthplace of bold conversation and courageous thought.  \nWe’re bringing that same fiery spirit to our stage. The Agora is a political scratch night—a powerful new platform for fearless new ideas. We’re channeling the ancient Greeks\, using theatre as a vehicle for essential discussion\, social justice\, and artistic revolution.  \nThis is an evening of short plays\, extracts\, and concept pieces\, each a spotlight on an urgent social issue. These are the voices of emerging creatives who have something vital to say. They are here to challenge\, to provoke\, and to inspire.
URL:https://www.nicensleazy.com/event/the-agora-iii-tired-horses-theatre
CATEGORIES:Basement,Gig
ATTACH;FMTTYPE=image/jpeg:https://www.nicensleazy.com/wp-content/uploads/2025/11/unnamed-2.jpg
END:VEVENT
BEGIN:VEVENT
DTSTART;TZID=Europe/London:20251203T193000
DTEND;TZID=Europe/London:20251203T230000
DTSTAMP:20260422T233026
CREATED:20251124T205633Z
LAST-MODIFIED:20251124T205714Z
UID:10004960-1764790200-1764802800@www.nicensleazy.com
SUMMARY:EUROGIG SLEAZYS - GIG
DESCRIPTION:Get ready for a night of Euro music vibes and laid-back atmosphere at Eurogig – Nice ‘N’ Sleazy!\nFeaturing Reckage\, Meep\, Zoned out and Collateral Damage… \nJoin us for a night of incredible music\, good vibes\, and unforgettable memories. Get ready to dance the night away. Whether you’re a seasoned music lover or just looking for a fun night out\, this event is perfect for you. Don’t miss out on this epic night – grab your friends and come party with us at Nice N Sleazy!
URL:https://www.nicensleazy.com/event/eurogig-sleazys-gig
CATEGORIES:Basement,Gig
ATTACH;FMTTYPE=application/pdf:https://www.nicensleazy.com/wp-content/uploads/2025/11/sleazys-poster2.pdf
END:VEVENT
BEGIN:VEVENT
DTSTART;TZID=Europe/London:20251203T230000
DTEND;TZID=Europe/London:20251204T030000
DTSTAMP:20260422T233026
CREATED:20250513T202513Z
LAST-MODIFIED:20250830T112433Z
UID:10001616-1764802800-1764817200@www.nicensleazy.com
SUMMARY:DRAG KARAOKE W/ MISS TESS
DESCRIPTION:Weekly Karaoke night until 3am with the icon herself\, Miss Tess!! \nGet down early as the singers list fills very fast! 😍😍
URL:https://www.nicensleazy.com/event/drag-bingo-w-miss-tess-9-2/2025-12-03
CATEGORIES:Bar
ATTACH;FMTTYPE=image/png:https://www.nicensleazy.com/wp-content/uploads/2025/05/DRAG-KARAOKE-1.png
END:VEVENT
END:VCALENDAR