BEGIN:VCALENDAR
VERSION:2.0
PRODID:-//NiceNSleazy - ECPv6.15.20//NONSGML v1.0//EN
CALSCALE:GREGORIAN
METHOD:PUBLISH
X-ORIGINAL-URL:https://www.nicensleazy.com
X-WR-CALDESC:Events for NiceNSleazy
REFRESH-INTERVAL;VALUE=DURATION:PT1H
X-Robots-Tag:noindex
X-PUBLISHED-TTL:PT1H
BEGIN:VTIMEZONE
TZID:Europe/London
BEGIN:DAYLIGHT
TZOFFSETFROM:+0000
TZOFFSETTO:+0100
TZNAME:BST
DTSTART:20230326T010000
END:DAYLIGHT
BEGIN:STANDARD
TZOFFSETFROM:+0100
TZOFFSETTO:+0000
TZNAME:GMT
DTSTART:20231029T010000
END:STANDARD
BEGIN:DAYLIGHT
TZOFFSETFROM:+0000
TZOFFSETTO:+0100
TZNAME:BST
DTSTART:20240331T010000
END:DAYLIGHT
BEGIN:STANDARD
TZOFFSETFROM:+0100
TZOFFSETTO:+0000
TZNAME:GMT
DTSTART:20241027T010000
END:STANDARD
BEGIN:DAYLIGHT
TZOFFSETFROM:+0000
TZOFFSETTO:+0100
TZNAME:BST
DTSTART:20250330T010000
END:DAYLIGHT
BEGIN:STANDARD
TZOFFSETFROM:+0100
TZOFFSETTO:+0000
TZNAME:GMT
DTSTART:20251026T010000
END:STANDARD
END:VTIMEZONE
BEGIN:VEVENT
DTSTART;TZID=Europe/London:20240217T230000
DTEND;TZID=Europe/London:20240218T030000
DTSTAMP:20260420T201309
CREATED:20240105T165640Z
LAST-MODIFIED:20240109T154030Z
UID:10000567-1708210800-1708225200@www.nicensleazy.com
SUMMARY:CLUB - JOINTS N JAMS W/ SHAKA LOVES YOU
DESCRIPTION:Welcome to Joints n’ Jams! Expertly curating an eclectic selection of Disco\, House and funk and mixed with tight live percussion\, Shaka Loves You creates the perfect house party vibe!
URL:https://www.nicensleazy.com/event/club-joints-n-jams-w-shaka-loves-you
CATEGORIES:Basement,Club
ATTACH;FMTTYPE=image/jpeg:https://www.nicensleazy.com/wp-content/uploads/2023/05/AAA7FA40-82A8-4A31-8AE6-3BD5718EFD32.jpg
END:VEVENT
BEGIN:VEVENT
DTSTART;TZID=Europe/London:20240219T230000
DTEND;TZID=Europe/London:20240220T030000
DTSTAMP:20260420T201309
CREATED:20240102T121832Z
LAST-MODIFIED:20240102T122257Z
UID:10000507-1708383600-1708398000@www.nicensleazy.com
SUMMARY:SLEAZY KARAOKE
DESCRIPTION:Join our amazing host Gloria every Monday to sing your absolute hearts away x
URL:https://www.nicensleazy.com/event/sleazy-karaoke-33
CATEGORIES:Basement,Club
ATTACH;FMTTYPE=image/png:https://www.nicensleazy.com/wp-content/uploads/2023/11/11.00-PM-3.00-AM.png
END:VEVENT
BEGIN:VEVENT
DTSTART;TZID=Europe/London:20240220T230000
DTEND;TZID=Europe/London:20240220T230000
DTSTAMP:20260420T201309
CREATED:20240102T121358Z
LAST-MODIFIED:20240102T121358Z
UID:10000503-1708470000-1708470000@www.nicensleazy.com
SUMMARY:BAD MAMA JAM
DESCRIPTION:BAD MAMA JAM [23.00 – 02.00] \nHosted by our house band\, Charlie (bass/vocals)\, Luca (guitar) & Micah (drums)\, the Bad Mama Jam represents the joy and soulfulness music should bring! This a space for musicians no matter their experience to be embraced and experiment with their craft.
URL:https://www.nicensleazy.com/event/bad-mama-jam-26
CATEGORIES:Bar
ATTACH;FMTTYPE=image/jpeg:https://www.nicensleazy.com/wp-content/uploads/2023/06/Web-capture_28-6-2023_16553_www.instagram.com_.jpeg
END:VEVENT
BEGIN:VEVENT
DTSTART;TZID=Europe/London:20240223T230000
DTEND;TZID=Europe/London:20240224T030000
DTSTAMP:20260420T201309
CREATED:20240105T164818Z
LAST-MODIFIED:20240105T164818Z
UID:10000566-1708729200-1708743600@www.nicensleazy.com
SUMMARY:BAR - PRECIOUS NOTHING
DESCRIPTION:Anything goes with DJ SiRo. Expect a winding journey through 80s\, 90s and 00s compilation CD’s he found in local charity shops in the hope of finding the perfect bar set.
URL:https://www.nicensleazy.com/event/bar-precious-nothing-2
CATEGORIES:Bar,Club
ATTACH;FMTTYPE=image/webp:https://www.nicensleazy.com/wp-content/uploads/2023/12/9c6834cca0bc403a4237a0c81d159be226f20988.webp
END:VEVENT
BEGIN:VEVENT
DTSTART;TZID=Europe/London:20240223T230000
DTEND;TZID=Europe/London:20240224T030000
DTSTAMP:20260420T201309
CREATED:20240105T165847Z
LAST-MODIFIED:20240105T165847Z
UID:10000568-1708729200-1708743600@www.nicensleazy.com
SUMMARY:CLUB - LANCE VANCE DANCE
DESCRIPTION:
URL:https://www.nicensleazy.com/event/club-lance-vance-dance-4
CATEGORIES:Basement,Club
ATTACH;FMTTYPE=image/webp:https://www.nicensleazy.com/wp-content/uploads/2023/12/7e453bafeb9519f3d7f320c542028f37b2e1ee85.webp
END:VEVENT
BEGIN:VEVENT
DTSTART;TZID=Europe/London:20240224T230000
DTEND;TZID=Europe/London:20240225T030000
DTSTAMP:20260420T201309
CREATED:20240105T170009Z
LAST-MODIFIED:20240105T170009Z
UID:10000569-1708815600-1708830000@www.nicensleazy.com
SUMMARY:BAR - CARPHONE MEMORIES
DESCRIPTION:david john weaver (fantastic man) brings you a night of summer breezes\, fruity bangers\, wonky and tropical vibes\, the smell of coconut oil
URL:https://www.nicensleazy.com/event/bar-carphone-memories
CATEGORIES:Bar,Club
ATTACH;FMTTYPE=image/png:https://www.nicensleazy.com/wp-content/uploads/2024/01/sleazy-1.png
END:VEVENT
BEGIN:VEVENT
DTSTART;TZID=Europe/London:20240224T230000
DTEND;TZID=Europe/London:20240225T030000
DTSTAMP:20260420T201309
CREATED:20240109T133951Z
LAST-MODIFIED:20240109T133956Z
UID:10000570-1708815600-1708830000@www.nicensleazy.com
SUMMARY:CLUB - BOOTYCALL
DESCRIPTION:
URL:https://www.nicensleazy.com/event/club-bootycall-4
CATEGORIES:Basement,Club
END:VEVENT
BEGIN:VEVENT
DTSTART;TZID=Europe/London:20240225T230000
DTEND;TZID=Europe/London:20240226T030000
DTSTAMP:20260420T201309
CREATED:20240105T162552Z
LAST-MODIFIED:20240105T163441Z
UID:10000559-1708902000-1708916400@www.nicensleazy.com
SUMMARY:BAR - CLYDE BUILT RADIO SESSIONS
DESCRIPTION:Working along side Clyde Built Radio every 2 weeks we welcome a new resident from the Station to do a very special bar set just for us! \nCome a long and support your local radio x \n 
URL:https://www.nicensleazy.com/event/bar-clyde-built-radio-sessions
CATEGORIES:Bar,Club
ATTACH;FMTTYPE=image/jpeg:https://www.nicensleazy.com/wp-content/uploads/2023/12/CBR-x-NNS-BAR-GIGS-scaled.jpeg
END:VEVENT
BEGIN:VEVENT
DTSTART;TZID=Europe/London:20240226T230000
DTEND;TZID=Europe/London:20240226T230000
DTSTAMP:20260420T201309
CREATED:20240102T122418Z
LAST-MODIFIED:20240102T122418Z
UID:10000508-1708988400-1708988400@www.nicensleazy.com
SUMMARY:SLEAZY KARAOKE
DESCRIPTION:Join our amazing host Gloria every Monday to sing your absolute hearts away x
URL:https://www.nicensleazy.com/event/sleazy-karaoke-34
CATEGORIES:Basement,Club
ATTACH;FMTTYPE=image/png:https://www.nicensleazy.com/wp-content/uploads/2023/11/11.00-PM-3.00-AM.png
END:VEVENT
BEGIN:VEVENT
DTSTART;TZID=Europe/London:20240227T230000
DTEND;TZID=Europe/London:20240228T020000
DTSTAMP:20260420T201309
CREATED:20240102T121444Z
LAST-MODIFIED:20240102T121444Z
UID:10000504-1709074800-1709085600@www.nicensleazy.com
SUMMARY:BAD MAMA JAM
DESCRIPTION:adBAD MAMA JAM [23.00 – 02.00] \nHosted by our house band\, Charlie (bass/vocals)\, Luca (guitar) & Micah (drums)\, the Bad Mama Jam represents the joy and soulfulness music should bring! This a space for musicians no matter their experience to be embraced and experiment with their craft.
URL:https://www.nicensleazy.com/event/bad-mama-jam-27
CATEGORIES:Bar
ATTACH;FMTTYPE=image/jpeg:https://www.nicensleazy.com/wp-content/uploads/2023/06/Web-capture_28-6-2023_16553_www.instagram.com_.jpeg
END:VEVENT
BEGIN:VEVENT
DTSTART;TZID=Europe/London:20240229T230000
DTEND;TZID=Europe/London:20240301T020000
DTSTAMP:20260420T201309
CREATED:20240102T122935Z
LAST-MODIFIED:20240102T122935Z
UID:10000513-1709247600-1709258400@www.nicensleazy.com
SUMMARY:TRAD THURSDAYS
DESCRIPTION:TRAD THURSDAYS brought to you by Falasgair our resident Trad band\, come along every Thursday for knee slapping traditional Scottish music. \nCome along just to listen\, For feel free to play as all are welcome to the session!
URL:https://www.nicensleazy.com/event/trad-thursdays-34
CATEGORIES:Bar,Club
ATTACH;FMTTYPE=image/jpeg:https://www.nicensleazy.com/wp-content/uploads/2023/06/Web-capture_28-6-2023_182248_www.instagram.com_.jpeg
END:VEVENT
BEGIN:VEVENT
DTSTART;TZID=Europe/London:20240301T230000
DTEND;TZID=Europe/London:20240302T030000
DTSTAMP:20260420T201309
CREATED:20240219T000520Z
LAST-MODIFIED:20240219T000520Z
UID:10000621-1709334000-1709348400@www.nicensleazy.com
SUMMARY:BAR- ADAMANTINE CHAINS
DESCRIPTION:Playing Post Punk\, House and RnB\,  Adamantine Chains joins the dot between experimental pop\, oddball bangers and wave classics.
URL:https://www.nicensleazy.com/event/bar-adamantine-chains-3
CATEGORIES:Bar,Club
ATTACH;FMTTYPE=image/jpeg:https://www.nicensleazy.com/wp-content/uploads/2024/01/adamantine-chains-scaled.jpg
END:VEVENT
BEGIN:VEVENT
DTSTART;TZID=Europe/London:20240301T230000
DTEND;TZID=Europe/London:20240302T030000
DTSTAMP:20260420T201309
CREATED:20240301T130444Z
LAST-MODIFIED:20240301T130444Z
UID:10000633-1709334000-1709348400@www.nicensleazy.com
SUMMARY:CLUB- HOT FAT
DESCRIPTION:fantastic man presents \nHOT FAT \nyour regular night of sweaty bangers\, everything from hip-hop to techno\, house to jungle\, electro to trap
URL:https://www.nicensleazy.com/event/club-hot-fat-5
CATEGORIES:Bar,Club
ATTACH;FMTTYPE=image/webp:https://www.nicensleazy.com/wp-content/uploads/2024/03/021867af8d392aeb518b517c5768e3e48c87d625.webp
END:VEVENT
BEGIN:VEVENT
DTSTART;TZID=Europe/London:20240302T230000
DTEND;TZID=Europe/London:20240303T030000
DTSTAMP:20260420T201309
CREATED:20240219T000338Z
LAST-MODIFIED:20240219T000338Z
UID:10000620-1709420400-1709434800@www.nicensleazy.com
SUMMARY:BAR- GLOSS
DESCRIPTION:GLOSS is back in the bar with a selection of music from across the globe to get you moving and give you that Saturday feelin!
URL:https://www.nicensleazy.com/event/bar-gloss
CATEGORIES:Bar,Club
ATTACH;FMTTYPE=image/jpeg:https://www.nicensleazy.com/wp-content/uploads/2023/05/IMG_2932.jpg
END:VEVENT
BEGIN:VEVENT
DTSTART;TZID=Europe/London:20240302T230000
DTEND;TZID=Europe/London:20240303T030000
DTSTAMP:20260420T201309
CREATED:20240301T130733Z
LAST-MODIFIED:20240301T130737Z
UID:10000634-1709420400-1709434800@www.nicensleazy.com
SUMMARY:CLUB- ACT NATURAL
DESCRIPTION:Act Natural is a club where the eyes & ears drive your rears. BOOM! \nHustled into life by DJ\, producer & performer Baillie Jnr & DJ HuussH\, their prime manifesto is to fill the dance floor wall 2 wall with B-I-G FUN\, deliriously AND seriously. \nAct Natural’s aim is to deliver some exclusive production cuts and a dynamic visual aesthetic with bespoke lights and design. Hot dance dubs and vocal cuts with a twist – vibrating between Bonnie Tyler & Sylvester. There is something preposterous about it sure\, but it’s irresistibly FUN no matter what. \nPitching their rhythm nation across a timeline that runs 70’s – 20’s\, Act Natural is a jumping blend of Hi-NRG 80’s disco/ italo woven into 90’s house & electro – think scorchingly fresh Parisian club sounds bumping against gym-buffed 80’s stadium disco funk – but spun with a low-end bounce that SLAMS like sweating poppers! \nThere is no ‘natural’\, it’s ALL an act. Find your place\, to the BEAT.
URL:https://www.nicensleazy.com/event/club-act-natural-2
CATEGORIES:Basement,Club
ATTACH;FMTTYPE=image/webp:https://www.nicensleazy.com/wp-content/uploads/2024/03/87fd5f9ead52b10347bfd9764ea542b87d9e5d31.webp
END:VEVENT
BEGIN:VEVENT
DTSTART;TZID=Europe/London:20240306T230000
DTEND;TZID=Europe/London:20240307T030000
DTSTAMP:20260420T201309
CREATED:20240219T000901Z
LAST-MODIFIED:20240219T000901Z
UID:10000622-1709766000-1709780400@www.nicensleazy.com
SUMMARY:BAR- JAMIE SHAKA
DESCRIPTION:Jamie of Shaka Loves You is back in the bar for his bi-monthly residency\, he’ll be spinning funk\, hip-hop\, soul and lots more!
URL:https://www.nicensleazy.com/event/bar-jamie-shaka-2
CATEGORIES:Bar,Club
ATTACH;FMTTYPE=image/jpeg:https://www.nicensleazy.com/wp-content/uploads/2023/06/Web-capture_28-6-2023_171633_www.instagram.com_.jpeg
END:VEVENT
BEGIN:VEVENT
DTSTART;TZID=Europe/London:20240307T230000
DTEND;TZID=Europe/London:20240308T020000
DTSTAMP:20260420T201309
CREATED:20240207T125127Z
LAST-MODIFIED:20240207T125127Z
UID:10000585-1709852400-1709863200@www.nicensleazy.com
SUMMARY:TRAD THURSDAYS
DESCRIPTION:TRAD THURSDAYS brought to you by Falasgair our resident Trad band\, come along every Thursday for knee slapping traditional Scottish music. \nCome along just to listen\, For feel free to play as all are welcome to the session!
URL:https://www.nicensleazy.com/event/trad-thursdays-40
CATEGORIES:Bar,Club
ATTACH;FMTTYPE=image/jpeg:https://www.nicensleazy.com/wp-content/uploads/2023/06/Web-capture_28-6-2023_182248_www.instagram.com_.jpeg
END:VEVENT
BEGIN:VEVENT
DTSTART;TZID=Europe/London:20240307T230000
DTEND;TZID=Europe/London:20240308T030000
DTSTAMP:20260420T201309
CREATED:20240301T131011Z
LAST-MODIFIED:20240301T131011Z
UID:10000635-1709852400-1709866800@www.nicensleazy.com
SUMMARY:CLUB- FRENCH TOUCH
DESCRIPTION:Some of Scotland’s freshest up and coming talent make an appearance for French Touch’s third and biggest night so far. \nHeading up this edition will be he Isle of Skye’s smoothest selector – Ros T. Well established in the scene and fresh from supporting Ewan Mcvicar on his ‘Wee Toon tour’\, expect big house beats and electro flavours. \nWith an album due for release in March\, this will sure to be a top notch session. \nFired up from their FLY club appearance are silky B2B duo BÜRNA with some bouncy vibes to get the night warmed up. \nSeeing the night out will be a collaborative effort from the FK’s finest malk and boydie. \n£5 entry £4 for students
URL:https://www.nicensleazy.com/event/club-french-touch-2
CATEGORIES:Basement,Club
ATTACH;FMTTYPE=image/webp:https://www.nicensleazy.com/wp-content/uploads/2024/03/556ba5956af653c8df29b2112a598475bc57d709-2.webp
END:VEVENT
BEGIN:VEVENT
DTSTART;TZID=Europe/London:20240308T230000
DTEND;TZID=Europe/London:20240309T030000
DTSTAMP:20260420T201309
CREATED:20240219T001135Z
LAST-MODIFIED:20240219T001135Z
UID:10000623-1709938800-1709953200@www.nicensleazy.com
SUMMARY:BAR- UGLY.WAIN
DESCRIPTION:Ugly.Wain is back at the bar this weekend\, bring you certified bangers and vibes all night long!
URL:https://www.nicensleazy.com/event/bar-ugly-wain-4
CATEGORIES:Bar,Club
ATTACH;FMTTYPE=image/jpeg:https://www.nicensleazy.com/wp-content/uploads/2023/08/Web-capture_23-8-2023_18630_www.instagram.com_.jpeg
END:VEVENT
BEGIN:VEVENT
DTSTART;TZID=Europe/London:20240308T230000
DTEND;TZID=Europe/London:20240309T030000
DTSTAMP:20260420T201309
CREATED:20240301T131206Z
LAST-MODIFIED:20240301T131206Z
UID:10000636-1709938800-1709953200@www.nicensleazy.com
SUMMARY:CLUB- DOMINO DANCING
DESCRIPTION:Domino Dancing continues its residency in Sleazys on the 2nd Friday of the month. \nFor March\, resident DJ Dean Munch is joined by Casual Look spinning lots of upbeat disco\, 90s house and euphoric italo edits
URL:https://www.nicensleazy.com/event/club-domino-dancing-3
CATEGORIES:Basement,Club
ATTACH;FMTTYPE=image/webp:https://www.nicensleazy.com/wp-content/uploads/2024/03/a326ffc45f7a87a8a45da669c62980dc032be35c.webp
END:VEVENT
BEGIN:VEVENT
DTSTART;TZID=Europe/London:20240309T230000
DTEND;TZID=Europe/London:20240310T030000
DTSTAMP:20260420T201309
CREATED:20240301T131331Z
LAST-MODIFIED:20240301T131331Z
UID:10000637-1710025200-1710039600@www.nicensleazy.com
SUMMARY:CLUB- LANCE VANCE DANCE
DESCRIPTION:Disco Delectations with The Lance Vance Dance…. XOXOXOXOXOX
URL:https://www.nicensleazy.com/event/club-lance-vance-dance-5
CATEGORIES:Basement,Club
ATTACH;FMTTYPE=image/webp:https://www.nicensleazy.com/wp-content/uploads/2024/03/6d374d30f718296ae4a0643fe8fe052ea9ee0443.webp
END:VEVENT
BEGIN:VEVENT
DTSTART;TZID=Europe/London:20240309T230000
DTEND;TZID=Europe/London:20240310T030000
DTSTAMP:20260420T201309
CREATED:20240303T224437Z
LAST-MODIFIED:20240303T224437Z
UID:10000639-1710025200-1710039600@www.nicensleazy.com
SUMMARY:BAR- NIGHTBUS SOUNDSYSTEM
DESCRIPTION:Nightbus Soundsystem come to play the Sleazies bar following their sold out show at The Hug And Pint supporting BDRMM! \n  \n 
URL:https://www.nicensleazy.com/event/bar-nightbus-soundsystem
CATEGORIES:Bar,Club
ATTACH;FMTTYPE=image/jpeg:https://www.nicensleazy.com/wp-content/uploads/2024/03/IMG_1191.jpg
END:VEVENT
BEGIN:VEVENT
DTSTART;TZID=Europe/London:20240310T230000
DTEND;TZID=Europe/London:20240311T030000
DTSTAMP:20260420T201309
CREATED:20240219T001326Z
LAST-MODIFIED:20240219T001326Z
UID:10000624-1710111600-1710126000@www.nicensleazy.com
SUMMARY:BAR- MARCVANIMPE
DESCRIPTION:Marc Van Impe started Deejaying in the late 80s with Glasgow club Texas Fever\, sharing a love of indie\, post punk\, psychedelia and soul. \nA recent return to the music scene in Glasgow sees his new venture Shake Some Action in a monthly club night in The August House\, in addition to regular bar slots in Nice and Sleazy
URL:https://www.nicensleazy.com/event/bar-marcvanimpe
CATEGORIES:Bar,Club
ATTACH;FMTTYPE=image/png:https://www.nicensleazy.com/wp-content/uploads/2023/11/logo.png
END:VEVENT
BEGIN:VEVENT
DTSTART;TZID=Europe/London:20240314T230000
DTEND;TZID=Europe/London:20240315T020000
DTSTAMP:20260420T201309
CREATED:20240207T124452Z
LAST-MODIFIED:20240207T124452Z
UID:10000580-1710457200-1710468000@www.nicensleazy.com
SUMMARY:TRAD THURSDAYS
DESCRIPTION:TRAD THURSDAYS brought to you by Falasgair our resident Trad band\, come along every Thursday for knee slapping traditional Scottish music. \nCome along just to listen\, For feel free to play as all are welcome to the session!
URL:https://www.nicensleazy.com/event/trad-thursdays-35
CATEGORIES:Bar,Club,Gig
ATTACH;FMTTYPE=image/jpeg:https://www.nicensleazy.com/wp-content/uploads/2023/06/Web-capture_28-6-2023_182248_www.instagram.com_.jpeg
END:VEVENT
BEGIN:VEVENT
DTSTART;TZID=Europe/London:20240314T230000
DTEND;TZID=Europe/London:20240315T030000
DTSTAMP:20260420T201309
CREATED:20240301T132622Z
LAST-MODIFIED:20240301T132622Z
UID:10000638-1710457200-1710471600@www.nicensleazy.com
SUMMARY:CLUB- VENØM PRESENTS: Arm & Hammer\, Reny\, Kief and Nerve Damage
DESCRIPTION:Arm & Hammer \nReny Kief B2B NERVE DAMAGE \nVENØM  ( \nESFI \, MyaJ\, neeva nine)
URL:https://www.nicensleazy.com/event/club-venom-presents-arm-hammer-reny-kief-and-nerve-damage
CATEGORIES:Basement,Club
ATTACH;FMTTYPE=image/webp:https://www.nicensleazy.com/wp-content/uploads/2024/03/7670908840fb8623d5c688848e1d7224e0b1b85c-2.webp
END:VEVENT
BEGIN:VEVENT
DTSTART;TZID=Europe/London:20240315T230000
DTEND;TZID=Europe/London:20240316T030000
DTSTAMP:20260420T201309
CREATED:20240219T001732Z
LAST-MODIFIED:20240219T001732Z
UID:10000625-1710543600-1710558000@www.nicensleazy.com
SUMMARY:BAR- PEARL NECKLACE
DESCRIPTION:Pearl Necklace is back at the bar with a whole new selection of pop\, house & UKG. This is one not to miss!
URL:https://www.nicensleazy.com/event/bar-pearl-necklace-2
CATEGORIES:Bar,Club
ATTACH;FMTTYPE=image/jpeg:https://www.nicensleazy.com/wp-content/uploads/2023/06/Web-capture_28-6-2023_19957_www.instagram.com_.jpeg
END:VEVENT
BEGIN:VEVENT
DTSTART;TZID=Europe/London:20240317T230000
DTEND;TZID=Europe/London:20240318T030000
DTSTAMP:20260420T201309
CREATED:20240219T001915Z
LAST-MODIFIED:20240219T001915Z
UID:10000626-1710716400-1710730800@www.nicensleazy.com
SUMMARY:BAR- CASUAL LOOK
DESCRIPTION:Casual Look is a Glasgow-based\, New Orleans-raised producer and DJ. \nHe has appeared on Rinse FM\, Reprezent FM\, Radio Buena Vida\, Clyde Built Radio\, and hosts monthly shows highlighting Glasgow’s club scene on Subcity Radio.
URL:https://www.nicensleazy.com/event/bar-casual-look-3
CATEGORIES:Bar,Club
ATTACH;FMTTYPE=image/jpeg:https://www.nicensleazy.com/wp-content/uploads/2024/01/casual-look.jpg
END:VEVENT
BEGIN:VEVENT
DTSTART;TZID=Europe/London:20240320T230000
DTEND;TZID=Europe/London:20240321T030000
DTSTAMP:20260420T201309
CREATED:20240219T002211Z
LAST-MODIFIED:20240219T002211Z
UID:10000627-1710975600-1710990000@www.nicensleazy.com
SUMMARY:BAR- JAMIE SHAKA
DESCRIPTION:Jamie of Shaka Loves You is back in the bar for his bi-monthly residency\, he’ll be spinning funk\, hip-hop\, soul and lots more!
URL:https://www.nicensleazy.com/event/bar-jamie-shaka-3
CATEGORIES:Bar,Club
ATTACH;FMTTYPE=image/jpeg:https://www.nicensleazy.com/wp-content/uploads/2023/06/Web-capture_28-6-2023_171633_www.instagram.com_.jpeg
END:VEVENT
BEGIN:VEVENT
DTSTART;TZID=Europe/London:20240321T230000
DTEND;TZID=Europe/London:20240322T020000
DTSTAMP:20260420T201309
CREATED:20240207T125253Z
LAST-MODIFIED:20240207T125253Z
UID:10000587-1711062000-1711072800@www.nicensleazy.com
SUMMARY:TRAD THURSDAYS
DESCRIPTION:TRAD THURSDAYS brought to you by Falasgair our resident Trad band\, come along every Thursday for knee slapping traditional Scottish music. \nCome along just to listen\, For feel free to play as all are welcome to the session!
URL:https://www.nicensleazy.com/event/trad-thursdays-42
CATEGORIES:Bar,Club
ATTACH;FMTTYPE=image/jpeg:https://www.nicensleazy.com/wp-content/uploads/2023/06/Web-capture_28-6-2023_182248_www.instagram.com_.jpeg
END:VEVENT
BEGIN:VEVENT
DTSTART;TZID=Europe/London:20240322T230000
DTEND;TZID=Europe/London:20240323T030000
DTSTAMP:20260420T201309
CREATED:20240219T002424Z
LAST-MODIFIED:20240219T002424Z
UID:10000628-1711148400-1711162800@www.nicensleazy.com
SUMMARY:BAR- HOLLY CALDER
DESCRIPTION:Holly plays records this Friday from 11pm to 4am. \n  \nExpect Psych\, Old & New\, Garage\, Rock ‘N’ Roll and much more!
URL:https://www.nicensleazy.com/event/bar-holly-calder-5
CATEGORIES:Bar,Club
ATTACH;FMTTYPE=image/jpeg:https://www.nicensleazy.com/wp-content/uploads/2023/11/image5.jpg
END:VEVENT
END:VCALENDAR