BEGIN:VCALENDAR
VERSION:2.0
PRODID:-//NiceNSleazy - ECPv6.15.20//NONSGML v1.0//EN
CALSCALE:GREGORIAN
METHOD:PUBLISH
X-WR-CALNAME:NiceNSleazy
X-ORIGINAL-URL:https://www.nicensleazy.com
X-WR-CALDESC:Events for NiceNSleazy
REFRESH-INTERVAL;VALUE=DURATION:PT1H
X-Robots-Tag:noindex
X-PUBLISHED-TTL:PT1H
BEGIN:VTIMEZONE
TZID:Europe/London
BEGIN:DAYLIGHT
TZOFFSETFROM:+0000
TZOFFSETTO:+0100
TZNAME:BST
DTSTART:20230326T010000
END:DAYLIGHT
BEGIN:STANDARD
TZOFFSETFROM:+0100
TZOFFSETTO:+0000
TZNAME:GMT
DTSTART:20231029T010000
END:STANDARD
BEGIN:DAYLIGHT
TZOFFSETFROM:+0000
TZOFFSETTO:+0100
TZNAME:BST
DTSTART:20240331T010000
END:DAYLIGHT
BEGIN:STANDARD
TZOFFSETFROM:+0100
TZOFFSETTO:+0000
TZNAME:GMT
DTSTART:20241027T010000
END:STANDARD
BEGIN:DAYLIGHT
TZOFFSETFROM:+0000
TZOFFSETTO:+0100
TZNAME:BST
DTSTART:20250330T010000
END:DAYLIGHT
BEGIN:STANDARD
TZOFFSETFROM:+0100
TZOFFSETTO:+0000
TZNAME:GMT
DTSTART:20251026T010000
END:STANDARD
END:VTIMEZONE
BEGIN:VEVENT
DTSTART;TZID=Europe/London:20240720T230000
DTEND;TZID=Europe/London:20240721T030000
DTSTAMP:20260421T090717
CREATED:20240619T120110Z
LAST-MODIFIED:20240619T120110Z
UID:10000865-1721516400-1721530800@www.nicensleazy.com
SUMMARY:BAR: CARMEN
DESCRIPTION:Carmen is BAAACK!! She’s on the dials tonight bringing you all the feels that you need. Get ready to move your hips x
URL:https://www.nicensleazy.com/event/bar-carmen-2
CATEGORIES:Bar,Club
ATTACH;FMTTYPE=image/jpeg:https://www.nicensleazy.com/wp-content/uploads/2023/05/83A0536F-0F9B-4E53-BBAA-FA547B1AB3C6.jpg
END:VEVENT
BEGIN:VEVENT
DTSTART;TZID=Europe/London:20240722T230000
DTEND;TZID=Europe/London:20240723T030000
DTSTAMP:20260421T090717
CREATED:20240602T174148Z
LAST-MODIFIED:20240602T174148Z
UID:10000832-1721689200-1721703600@www.nicensleazy.com
SUMMARY:SLEAZY KARAOKE
DESCRIPTION:Come sing along with our wonderful host Gloria!
URL:https://www.nicensleazy.com/event/sleazy-karaoke-56
CATEGORIES:Basement,Club
ATTACH;FMTTYPE=image/png:https://www.nicensleazy.com/wp-content/uploads/2023/11/11.00-PM-3.00-AM.png
END:VEVENT
BEGIN:VEVENT
DTSTART;TZID=Europe/London:20240724T230000
DTEND;TZID=Europe/London:20240725T030000
DTSTAMP:20260421T090717
CREATED:20240602T180732Z
LAST-MODIFIED:20240602T180838Z
UID:10000837-1721862000-1721876400@www.nicensleazy.com
SUMMARY:DRAG BINGO WITH MISS TESS
DESCRIPTION:Drag Bingo every Wednesday with the incredible Miss Tess!! \nCome a long for some fun\, laughs and win prizes 🙂 \nWIN:\nCASH PRIZES 💴\nVOUCHERS 🎫 \nSee you there x
URL:https://www.nicensleazy.com/event/drag-bingo-with-miss-tess-15
CATEGORIES:Bar,Club
ATTACH;FMTTYPE=image/png:https://www.nicensleazy.com/wp-content/uploads/2024/04/Screenshot-2024-04-12-at-14.31.20.png
END:VEVENT
BEGIN:VEVENT
DTSTART;TZID=Europe/London:20240725T230000
DTEND;TZID=Europe/London:20240726T030000
DTSTAMP:20260421T090717
CREATED:20240602T181412Z
LAST-MODIFIED:20240602T181412Z
UID:10000842-1721948400-1721962800@www.nicensleazy.com
SUMMARY:TRAD THURSDAYS
DESCRIPTION:TRAD THURSDAYS brought to you by Falasgair our resident Trad band\, come along every Thursday for knee slapping traditional Scottish music. \nCome along just to listen\, For feel free to play as all are welcome to the session!
URL:https://www.nicensleazy.com/event/trad-thursdays-53
CATEGORIES:Bar,Club,Gig
ATTACH;FMTTYPE=image/jpeg:https://www.nicensleazy.com/wp-content/uploads/2023/06/Web-capture_28-6-2023_182248_www.instagram.com_.jpeg
END:VEVENT
BEGIN:VEVENT
DTSTART;TZID=Europe/London:20240725T230000
DTEND;TZID=Europe/London:20240726T030000
DTSTAMP:20260421T090718
CREATED:20240602T181452Z
LAST-MODIFIED:20240602T181452Z
UID:10000843-1721948400-1721962800@www.nicensleazy.com
SUMMARY:TRAD THURSDAYS
DESCRIPTION:TRAD THURSDAYS brought to you by Falasgair our resident Trad band\, come along every Thursday for knee slapping traditional Scottish music. \nCome along just to listen\, For feel free to play as all are welcome to the session!
URL:https://www.nicensleazy.com/event/trad-thursdays-54
CATEGORIES:Bar,Club,Gig
ATTACH;FMTTYPE=image/jpeg:https://www.nicensleazy.com/wp-content/uploads/2023/06/Web-capture_28-6-2023_182248_www.instagram.com_.jpeg
END:VEVENT
BEGIN:VEVENT
DTSTART;TZID=Europe/London:20240726T230000
DTEND;TZID=Europe/London:20240727T030000
DTSTAMP:20260421T090718
CREATED:20240619T122013Z
LAST-MODIFIED:20240619T122013Z
UID:10000867-1722034800-1722049200@www.nicensleazy.com
SUMMARY:CLUB: AMPHORA
DESCRIPTION:
URL:https://www.nicensleazy.com/event/club-amphora-2
CATEGORIES:Basement,Club
ATTACH;FMTTYPE=image/png:https://www.nicensleazy.com/wp-content/uploads/2024/06/Screenshot-2024-06-19-at-11.46.45.png
END:VEVENT
BEGIN:VEVENT
DTSTART;TZID=Europe/London:20240727T230000
DTEND;TZID=Europe/London:20240728T030000
DTSTAMP:20260421T090718
CREATED:20240619T122337Z
LAST-MODIFIED:20240619T122442Z
UID:10000868-1722121200-1722135600@www.nicensleazy.com
SUMMARY:CLUB: BOOTYCALL
DESCRIPTION:If they’re calling you at 11pm on a Saturday night\, they’re trying to get into your dancing pants. Let’s be honest. \nThey want a Bootycall at Nice n Sleazys. No strings attached. Bootycall presents T.D. Slider and Carmen Baía. \nA night full of sexy bangers\, breaks\, baile funk\, R&B\, house\, edits\, jungle\, UKG\, electro\, ghetto tech\, club\, dancehall\, disco. \nAll the goodies xx
URL:https://www.nicensleazy.com/event/club-boosterhooc
CATEGORIES:Basement,Club
ATTACH;FMTTYPE=image/webp:https://www.nicensleazy.com/wp-content/uploads/2024/04/0880cdf8cf1bdf54bfd55b3b12d74a1e66da22e3.webp
END:VEVENT
BEGIN:VEVENT
DTSTART;TZID=Europe/London:20240727T230000
DTEND;TZID=Europe/London:20240728T030000
DTSTAMP:20260421T090718
CREATED:20240619T122541Z
LAST-MODIFIED:20240619T122541Z
UID:10000869-1722121200-1722135600@www.nicensleazy.com
SUMMARY:BAR: BOOSTERHOOCH
DESCRIPTION:Boosterhooch runs local gig series Events Research Programme\, is a resident DJ at La Cheetah with her night Clank\, and a regular on Radio Buena Vida. She is into music which straddles the weird and fun ~
URL:https://www.nicensleazy.com/event/bar-boosterhooch-4
CATEGORIES:Bar,Club
ATTACH;FMTTYPE=image/jpeg:https://www.nicensleazy.com/wp-content/uploads/2024/01/Han_Experimental_Club_Noise.jpg
END:VEVENT
BEGIN:VEVENT
DTSTART;TZID=Europe/London:20240729T230000
DTEND;TZID=Europe/London:20240730T030000
DTSTAMP:20260421T090718
CREATED:20240602T174608Z
LAST-MODIFIED:20240602T174608Z
UID:10000833-1722294000-1722308400@www.nicensleazy.com
SUMMARY:SLEAZY KARAOKE
DESCRIPTION:Come sing along with our wonderful host Gloria!
URL:https://www.nicensleazy.com/event/sleazy-karaoke-57
CATEGORIES:Basement,Club
ATTACH;FMTTYPE=image/png:https://www.nicensleazy.com/wp-content/uploads/2023/11/11.00-PM-3.00-AM.png
END:VEVENT
BEGIN:VEVENT
DTSTART;TZID=Europe/London:20240731T230000
DTEND;TZID=Europe/London:20240801T030000
DTSTAMP:20260421T090718
CREATED:20240602T180826Z
LAST-MODIFIED:20240602T180826Z
UID:10000838-1722466800-1722481200@www.nicensleazy.com
SUMMARY:DRAG BINGO WITH MISS TESS
DESCRIPTION:Drag Bingo every Wednesday with the incredible Miss Tess!! \nCome a long for some fun\, laughs and win prizes 🙂 \nWIN:\nCASH PRIZES 💴\nVOUCHERS 🎫 \nSee you there x
URL:https://www.nicensleazy.com/event/drag-bingo-with-miss-tess-16
CATEGORIES:Bar,Club
ATTACH;FMTTYPE=image/png:https://www.nicensleazy.com/wp-content/uploads/2024/04/Screenshot-2024-04-12-at-14.31.20.png
END:VEVENT
BEGIN:VEVENT
DTSTART;TZID=Europe/London:20240801T230000
DTEND;TZID=Europe/London:20240802T020000
DTSTAMP:20260421T090718
CREATED:20240717T150545Z
LAST-MODIFIED:20240717T150545Z
UID:10000882-1722553200-1722564000@www.nicensleazy.com
SUMMARY:TRAD THURSDAYS
DESCRIPTION:TRAD THURSDAYS brought to you by Falasgair our resident Trad band\, come along every Thursday for knee slapping traditional Scottish music. \nCome along just to listen\, For feel free to play as all are welcome to the session!
URL:https://www.nicensleazy.com/event/trad-thursdays-55
CATEGORIES:Bar,Gig
ATTACH;FMTTYPE=image/jpeg:https://www.nicensleazy.com/wp-content/uploads/2023/06/Web-capture_28-6-2023_182248_www.instagram.com_.jpeg
END:VEVENT
BEGIN:VEVENT
DTSTART;TZID=Europe/London:20240802T200000
DTEND;TZID=Europe/London:20240802T230000
DTSTAMP:20260421T090718
CREATED:20240717T151102Z
LAST-MODIFIED:20240717T151102Z
UID:10000888-1722628800-1722639600@www.nicensleazy.com
SUMMARY:PEACE & JAM
DESCRIPTION:Come along for our weekly Friday Night Jam! \nEach week a lovely community of musicians come here to play an incredible mix of blues\, Americana and soul \n  \nFree entry and everyone is welcome!
URL:https://www.nicensleazy.com/event/peace-jam-13
CATEGORIES:Bar,Gig
ATTACH;FMTTYPE=image/png:https://www.nicensleazy.com/wp-content/uploads/2024/04/Insta-post0.png
END:VEVENT
BEGIN:VEVENT
DTSTART;TZID=Europe/London:20240802T230000
DTEND;TZID=Europe/London:20240803T030000
DTSTAMP:20260421T090718
CREATED:20240730T235506Z
LAST-MODIFIED:20240730T235506Z
UID:10000903-1722639600-1722654000@www.nicensleazy.com
SUMMARY:CORE AFTERPARTY
DESCRIPTION:
URL:https://www.nicensleazy.com/event/core-afterparty
CATEGORIES:Basement,Club
ATTACH;FMTTYPE=image/png:https://www.nicensleazy.com/wp-content/uploads/2024/07/Screenshot-2024-07-31-at-00.52.52.png
END:VEVENT
BEGIN:VEVENT
DTSTART;TZID=Europe/London:20240802T230000
DTEND;TZID=Europe/London:20240803T030000
DTSTAMP:20260421T090718
CREATED:20240730T235617Z
LAST-MODIFIED:20240730T235617Z
UID:10000904-1722639600-1722654000@www.nicensleazy.com
SUMMARY:BAR: CARMEN
DESCRIPTION:
URL:https://www.nicensleazy.com/event/bar-carmen-3
CATEGORIES:Bar,Club
ATTACH;FMTTYPE=image/jpeg:https://www.nicensleazy.com/wp-content/uploads/2023/06/Web-capture_28-6-2023_172535_www.instagram.com_.jpeg
END:VEVENT
BEGIN:VEVENT
DTSTART;TZID=Europe/London:20240803T230000
DTEND;TZID=Europe/London:20240804T030000
DTSTAMP:20260421T090718
CREATED:20240730T235702Z
LAST-MODIFIED:20240730T235702Z
UID:10000905-1722726000-1722740400@www.nicensleazy.com
SUMMARY:BAR: ROKKII
DESCRIPTION:
URL:https://www.nicensleazy.com/event/bar-rokkii
CATEGORIES:Bar,Club
END:VEVENT
BEGIN:VEVENT
DTSTART;TZID=Europe/London:20240803T230000
DTEND;TZID=Europe/London:20240804T030000
DTSTAMP:20260421T090718
CREATED:20240730T235752Z
LAST-MODIFIED:20240730T235752Z
UID:10000906-1722726000-1722740400@www.nicensleazy.com
SUMMARY:CORE AFTERPARTY
DESCRIPTION:
URL:https://www.nicensleazy.com/event/core-afterparty-2
CATEGORIES:Basement,Club
ATTACH;FMTTYPE=image/png:https://www.nicensleazy.com/wp-content/uploads/2024/07/Screenshot-2024-07-31-at-00.52.52.png
END:VEVENT
BEGIN:VEVENT
DTSTART;TZID=Europe/London:20240807T230000
DTEND;TZID=Europe/London:20240808T020000
DTSTAMP:20260421T090718
CREATED:20240717T145951Z
LAST-MODIFIED:20240717T145951Z
UID:10000878-1723071600-1723082400@www.nicensleazy.com
SUMMARY:DRAG BINGO W/ MISS TESS
DESCRIPTION:Drag Bingo every Wednesday with the incredible Miss Tess!! \nCome a long for some fun\, laughs and win prizes 🙂 \nWIN:\nCASH PRIZES 💴\nVOUCHERS 🎫 \nSee you there x
URL:https://www.nicensleazy.com/event/drag-bingo-w-miss-tess
CATEGORIES:Bar,Club
ATTACH;FMTTYPE=image/png:https://www.nicensleazy.com/wp-content/uploads/2024/02/to-BINGO.png
END:VEVENT
BEGIN:VEVENT
DTSTART;TZID=Europe/London:20240808T230000
DTEND;TZID=Europe/London:20240809T020000
DTSTAMP:20260421T090718
CREATED:20240717T150643Z
LAST-MODIFIED:20240717T150643Z
UID:10000883-1723158000-1723168800@www.nicensleazy.com
SUMMARY:TRAD THURSDAYS
DESCRIPTION:TRAD THURSDAYS brought to you by Falasgair our resident Trad band\, come along every Thursday for knee slapping traditional Scottish music. \nCome along just to listen\, For feel free to play as all are welcome to the session!
URL:https://www.nicensleazy.com/event/trad-thursdays-56
CATEGORIES:Bar,Gig
ATTACH;FMTTYPE=image/jpeg:https://www.nicensleazy.com/wp-content/uploads/2023/06/Web-capture_28-6-2023_182248_www.instagram.com_.jpeg
END:VEVENT
BEGIN:VEVENT
DTSTART;TZID=Europe/London:20240808T230000
DTEND;TZID=Europe/London:20240809T030000
DTSTAMP:20260421T090718
CREATED:20240730T235843Z
LAST-MODIFIED:20240730T235843Z
UID:10000907-1723158000-1723172400@www.nicensleazy.com
SUMMARY:CLUB: VENOM
DESCRIPTION:
URL:https://www.nicensleazy.com/event/club-venom-2
CATEGORIES:Basement,Club
ATTACH;FMTTYPE=image/jpeg:https://www.nicensleazy.com/wp-content/uploads/2024/04/venom-art.jpeg
END:VEVENT
BEGIN:VEVENT
DTSTART;TZID=Europe/London:20240809T200000
DTEND;TZID=Europe/London:20240809T230000
DTSTAMP:20260421T090718
CREATED:20240717T151140Z
LAST-MODIFIED:20240717T151140Z
UID:10000889-1723233600-1723244400@www.nicensleazy.com
SUMMARY:PEACE & JAM
DESCRIPTION:Come along for our weekly Friday Night Jam! \nEach week a lovely community of musicians come here to play an incredible mix of blues\, Americana and soul \n  \nFree entry and everyone is welcome!
URL:https://www.nicensleazy.com/event/peace-jam-14
CATEGORIES:Bar,Gig
ATTACH;FMTTYPE=image/png:https://www.nicensleazy.com/wp-content/uploads/2024/06/Screenshot-2024-06-18-at-14.27.36.png
END:VEVENT
BEGIN:VEVENT
DTSTART;TZID=Europe/London:20240809T230000
DTEND;TZID=Europe/London:20240810T030000
DTSTAMP:20260421T090718
CREATED:20240730T235947Z
LAST-MODIFIED:20240730T235947Z
UID:10000908-1723244400-1723258800@www.nicensleazy.com
SUMMARY:BAR: UGLY WAIN
DESCRIPTION:
URL:https://www.nicensleazy.com/event/bar-ugly-wain-8
CATEGORIES:Bar,Club
ATTACH;FMTTYPE=image/jpeg:https://www.nicensleazy.com/wp-content/uploads/2023/08/Web-capture_23-8-2023_18630_www.instagram.com_.jpeg
END:VEVENT
BEGIN:VEVENT
DTSTART;TZID=Europe/London:20240809T230000
DTEND;TZID=Europe/London:20240810T030000
DTSTAMP:20260421T090718
CREATED:20240731T000034Z
LAST-MODIFIED:20240731T000122Z
UID:10000909-1723244400-1723258800@www.nicensleazy.com
SUMMARY:CLUB: DOMINO DANCING
DESCRIPTION:
URL:https://www.nicensleazy.com/event/club-domino-dancing-7
CATEGORIES:Basement,Club
ATTACH;FMTTYPE=image/jpeg:https://www.nicensleazy.com/wp-content/uploads/2024/01/domino-dancing-scaled.jpg
END:VEVENT
BEGIN:VEVENT
DTSTART;TZID=Europe/London:20240810T230000
DTEND;TZID=Europe/London:20240811T030000
DTSTAMP:20260421T090718
CREATED:20240731T000202Z
LAST-MODIFIED:20240731T000202Z
UID:10000910-1723330800-1723345200@www.nicensleazy.com
SUMMARY:BAR: CARPHONE MEMORIES
DESCRIPTION:
URL:https://www.nicensleazy.com/event/bar-carphone-memories-4
CATEGORIES:Bar,Club
ATTACH;FMTTYPE=image/png:https://www.nicensleazy.com/wp-content/uploads/2024/01/sleazy-1.png
END:VEVENT
BEGIN:VEVENT
DTSTART;TZID=Europe/London:20240810T230000
DTEND;TZID=Europe/London:20240811T030000
DTSTAMP:20260421T090718
CREATED:20240731T000252Z
LAST-MODIFIED:20240731T000252Z
UID:10000911-1723330800-1723345200@www.nicensleazy.com
SUMMARY:CLUB: MANDALO
DESCRIPTION:
URL:https://www.nicensleazy.com/event/club-mandalo-4
CATEGORIES:Basement,Club
END:VEVENT
BEGIN:VEVENT
DTSTART;TZID=Europe/London:20240814T230000
DTEND;TZID=Europe/London:20240815T020000
DTSTAMP:20260421T090718
CREATED:20240717T150207Z
LAST-MODIFIED:20240717T150207Z
UID:10000879-1723676400-1723687200@www.nicensleazy.com
SUMMARY:DRAG BINGO W/ MISS TESS
DESCRIPTION:Drag Bingo every Wednesday with the incredible Miss Tess!! \nCome a long for some fun\, laughs and win prizes 🙂 \nWIN:\nCASH PRIZES 💴\nVOUCHERS 🎫 \nSee you there x
URL:https://www.nicensleazy.com/event/drag-bingo-w-miss-tess-2
CATEGORIES:Bar,Club
ATTACH;FMTTYPE=image/png:https://www.nicensleazy.com/wp-content/uploads/2024/07/Screenshot-2024-07-17-at-16.01.01.png
END:VEVENT
BEGIN:VEVENT
DTSTART;TZID=Europe/London:20240815T230000
DTEND;TZID=Europe/London:20240816T020000
DTSTAMP:20260421T090718
CREATED:20240717T150728Z
LAST-MODIFIED:20240717T150728Z
UID:10000884-1723762800-1723773600@www.nicensleazy.com
SUMMARY:TRAD THURSDAYS
DESCRIPTION:TRAD THURSDAYS brought to you by Falasgair our resident Trad band\, come along every Thursday for knee slapping traditional Scottish music. \nCome along just to listen\, For feel free to play as all are welcome to the session!
URL:https://www.nicensleazy.com/event/trad-thursdays-57
CATEGORIES:Bar,Gig
ATTACH;FMTTYPE=image/jpeg:https://www.nicensleazy.com/wp-content/uploads/2023/06/Web-capture_28-6-2023_182248_www.instagram.com_.jpeg
END:VEVENT
BEGIN:VEVENT
DTSTART;TZID=Europe/London:20240815T230000
DTEND;TZID=Europe/London:20240816T030000
DTSTAMP:20260421T090718
CREATED:20240731T000349Z
LAST-MODIFIED:20240731T000349Z
UID:10000912-1723762800-1723777200@www.nicensleazy.com
SUMMARY:CLUB: BLUNT FORCE SAUNA
DESCRIPTION:
URL:https://www.nicensleazy.com/event/club-blunt-force-sauna-2
CATEGORIES:Basement,Club
END:VEVENT
BEGIN:VEVENT
DTSTART;TZID=Europe/London:20240816T200000
DTEND;TZID=Europe/London:20240816T230000
DTSTAMP:20260421T090718
CREATED:20240717T151205Z
LAST-MODIFIED:20240717T151205Z
UID:10000890-1723838400-1723849200@www.nicensleazy.com
SUMMARY:PEACE & JAM
DESCRIPTION:Come along for our weekly Friday Night Jam! \nEach week a lovely community of musicians come here to play an incredible mix of blues\, Americana and soul \n  \nFree entry and everyone is welcome!
URL:https://www.nicensleazy.com/event/peace-jam-15
CATEGORIES:Bar,Gig
ATTACH;FMTTYPE=image/png:https://www.nicensleazy.com/wp-content/uploads/2024/06/Screenshot-2024-06-18-at-14.27.36.png
END:VEVENT
BEGIN:VEVENT
DTSTART;TZID=Europe/London:20240816T230000
DTEND;TZID=Europe/London:20240817T030000
DTSTAMP:20260421T090718
CREATED:20240731T000430Z
LAST-MODIFIED:20240731T000430Z
UID:10000913-1723849200-1723863600@www.nicensleazy.com
SUMMARY:BAR: CASUAL LOOK
DESCRIPTION:
URL:https://www.nicensleazy.com/event/bar-casual-look-5
CATEGORIES:Bar,Club
ATTACH;FMTTYPE=image/jpeg:https://www.nicensleazy.com/wp-content/uploads/2024/01/casual-look.jpg
END:VEVENT
BEGIN:VEVENT
DTSTART;TZID=Europe/London:20240816T230000
DTEND;TZID=Europe/London:20240817T030000
DTSTAMP:20260421T090718
CREATED:20240731T000509Z
LAST-MODIFIED:20240731T000509Z
UID:10000914-1723849200-1723863600@www.nicensleazy.com
SUMMARY:CLUB: PRECIOUS NOTHING
DESCRIPTION:
URL:https://www.nicensleazy.com/event/club-precious-nothing-3
CATEGORIES:Basement,Club
ATTACH;FMTTYPE=image/jpeg:https://www.nicensleazy.com/wp-content/uploads/2023/05/00E98DE3-543B-4F1D-9FD7-EE8D6163E125.jpg
END:VEVENT
END:VCALENDAR