BEGIN:VCALENDAR
VERSION:2.0
PRODID:-//NiceNSleazy - ECPv6.15.20//NONSGML v1.0//EN
CALSCALE:GREGORIAN
METHOD:PUBLISH
X-ORIGINAL-URL:https://www.nicensleazy.com
X-WR-CALDESC:Events for NiceNSleazy
REFRESH-INTERVAL;VALUE=DURATION:PT1H
X-Robots-Tag:noindex
X-PUBLISHED-TTL:PT1H
BEGIN:VTIMEZONE
TZID:Europe/London
BEGIN:DAYLIGHT
TZOFFSETFROM:+0000
TZOFFSETTO:+0100
TZNAME:BST
DTSTART:20250330T010000
END:DAYLIGHT
BEGIN:STANDARD
TZOFFSETFROM:+0100
TZOFFSETTO:+0000
TZNAME:GMT
DTSTART:20251026T010000
END:STANDARD
BEGIN:DAYLIGHT
TZOFFSETFROM:+0000
TZOFFSETTO:+0100
TZNAME:BST
DTSTART:20260329T010000
END:DAYLIGHT
BEGIN:STANDARD
TZOFFSETFROM:+0100
TZOFFSETTO:+0000
TZNAME:GMT
DTSTART:20261025T010000
END:STANDARD
BEGIN:DAYLIGHT
TZOFFSETFROM:+0000
TZOFFSETTO:+0100
TZNAME:BST
DTSTART:20270328T010000
END:DAYLIGHT
BEGIN:STANDARD
TZOFFSETFROM:+0100
TZOFFSETTO:+0000
TZNAME:GMT
DTSTART:20271031T010000
END:STANDARD
END:VTIMEZONE
BEGIN:VEVENT
DTSTART;TZID=Europe/London:20260522T190000
DTEND;TZID=Europe/London:20260522T230000
DTSTAMP:20260420T153813
CREATED:20260407T225926Z
LAST-MODIFIED:20260407T225926Z
UID:10005489-1779476400-1779490800@www.nicensleazy.com
SUMMARY:GIG - ALPHAWHORES
DESCRIPTION:For fans of Alice In Chains\, Tool\, Deftones. \nAlphaWhores is an alternative rock / metal / stoner duo from Panama\, Central America\, formed by Massiel Pinzón and Juan Carlos García de Paredes. \nAlphaWhores play their first ever show in Glasgow to celebrate the release of their critically acclaimed second album\, ‘You Can Come Out Now’\, which is available to listen to or buy on vinyl now.
URL:https://www.nicensleazy.com/event/gig-alphawhores
CATEGORIES:Basement,Gig
ATTACH;FMTTYPE=image/jpeg:https://www.nicensleazy.com/wp-content/uploads/2026/04/gddz6lzfwcpyd1trmzdo.jpg
END:VEVENT
END:VCALENDAR