BEGIN:VCALENDAR
VERSION:2.0
PRODID:-//NiceNSleazy - ECPv6.15.20//NONSGML v1.0//EN
CALSCALE:GREGORIAN
METHOD:PUBLISH
X-ORIGINAL-URL:https://www.nicensleazy.com
X-WR-CALDESC:Events for NiceNSleazy
REFRESH-INTERVAL;VALUE=DURATION:PT1H
X-Robots-Tag:noindex
X-PUBLISHED-TTL:PT1H
BEGIN:VTIMEZONE
TZID:Europe/London
BEGIN:DAYLIGHT
TZOFFSETFROM:+0000
TZOFFSETTO:+0100
TZNAME:BST
DTSTART:20250330T010000
END:DAYLIGHT
BEGIN:STANDARD
TZOFFSETFROM:+0100
TZOFFSETTO:+0000
TZNAME:GMT
DTSTART:20251026T010000
END:STANDARD
BEGIN:DAYLIGHT
TZOFFSETFROM:+0000
TZOFFSETTO:+0100
TZNAME:BST
DTSTART:20260329T010000
END:DAYLIGHT
BEGIN:STANDARD
TZOFFSETFROM:+0100
TZOFFSETTO:+0000
TZNAME:GMT
DTSTART:20261025T010000
END:STANDARD
BEGIN:DAYLIGHT
TZOFFSETFROM:+0000
TZOFFSETTO:+0100
TZNAME:BST
DTSTART:20270328T010000
END:DAYLIGHT
BEGIN:STANDARD
TZOFFSETFROM:+0100
TZOFFSETTO:+0000
TZNAME:GMT
DTSTART:20271031T010000
END:STANDARD
END:VTIMEZONE
BEGIN:VEVENT
DTSTART;TZID=Europe/London:20260510T200000
DTEND;TZID=Europe/London:20260510T230000
DTSTAMP:20260420T153702
CREATED:20260407T223923Z
LAST-MODIFIED:20260407T223923Z
UID:10005483-1778443200-1778454000@www.nicensleazy.com
SUMMARY:GIG - BELOW THE NECK + VOWS + SILKSPINE
DESCRIPTION:Below The Neck return to Glasgow with support from VOWS and SILKSPINE.
URL:https://www.nicensleazy.com/event/gig-below-the-neck-vows-silkspine
CATEGORIES:Basement,Gig
ATTACH;FMTTYPE=application/pdf:https://www.nicensleazy.com/wp-content/uploads/2026/04/Screenshot-2026-04-07-at-23.38.52.pdf
END:VEVENT
BEGIN:VEVENT
DTSTART;TZID=Europe/London:20260510T200000
DTEND;TZID=Europe/London:20260511T030000
DTSTAMP:20260420T153702
CREATED:20260127T211454Z
LAST-MODIFIED:20260127T211454Z
UID:10005100-1778443200-1778468400@www.nicensleazy.com
SUMMARY:SPIN CLASS - VINYL OPEN DECKS
DESCRIPTION:sunday spin class… \never wondered what your favourite records would sound like through a professional PA system?\nor did you buy a new vinyl at a gig recently and want to relive it?\nwell… here’s your opportunity! \nbring in some records and give mixing a go // choose some tunes from our in-house collection\nFREE ENTRY every week
URL:https://www.nicensleazy.com/event/spinclass-with-assai-records-2-2-2/2026-05-10
CATEGORIES:Bar
ATTACH;FMTTYPE=image/jpeg:https://www.nicensleazy.com/wp-content/uploads/2025/05/1.jpg
END:VEVENT
END:VCALENDAR