BEGIN:VCALENDAR
VERSION:2.0
PRODID:-//NiceNSleazy - ECPv6.15.20//NONSGML v1.0//EN
CALSCALE:GREGORIAN
METHOD:PUBLISH
X-ORIGINAL-URL:https://www.nicensleazy.com
X-WR-CALDESC:Events for NiceNSleazy
REFRESH-INTERVAL;VALUE=DURATION:PT1H
X-Robots-Tag:noindex
X-PUBLISHED-TTL:PT1H
BEGIN:VTIMEZONE
TZID:Europe/London
BEGIN:DAYLIGHT
TZOFFSETFROM:+0000
TZOFFSETTO:+0100
TZNAME:BST
DTSTART:20250330T010000
END:DAYLIGHT
BEGIN:STANDARD
TZOFFSETFROM:+0100
TZOFFSETTO:+0000
TZNAME:GMT
DTSTART:20251026T010000
END:STANDARD
BEGIN:DAYLIGHT
TZOFFSETFROM:+0000
TZOFFSETTO:+0100
TZNAME:BST
DTSTART:20260329T010000
END:DAYLIGHT
BEGIN:STANDARD
TZOFFSETFROM:+0100
TZOFFSETTO:+0000
TZNAME:GMT
DTSTART:20261025T010000
END:STANDARD
BEGIN:DAYLIGHT
TZOFFSETFROM:+0000
TZOFFSETTO:+0100
TZNAME:BST
DTSTART:20270328T010000
END:DAYLIGHT
BEGIN:STANDARD
TZOFFSETFROM:+0100
TZOFFSETTO:+0000
TZNAME:GMT
DTSTART:20271031T010000
END:STANDARD
END:VTIMEZONE
BEGIN:VEVENT
DTSTART;TZID=Europe/London:20260425T190000
DTEND;TZID=Europe/London:20260425T220000
DTSTAMP:20260420T153646
CREATED:20260310T204540Z
LAST-MODIFIED:20260310T204540Z
UID:10005429-1777143600-1777154400@www.nicensleazy.com
SUMMARY:GIG UPSTAIRS - DUDEK P56
DESCRIPTION:Doors 7.00pm \nAge Restrictions: Over 18s only
URL:https://www.nicensleazy.com/event/gig-upstairs-dudek-p56
CATEGORIES:Bar,Gig
ATTACH;FMTTYPE=application/pdf:https://www.nicensleazy.com/wp-content/uploads/2026/03/Screenshot-2026-03-10-at-20.42.01-1.pdf
END:VEVENT
BEGIN:VEVENT
DTSTART;TZID=Europe/London:20260425T190000
DTEND;TZID=Europe/London:20260425T230000
DTSTAMP:20260420T153646
CREATED:20260320T204003Z
LAST-MODIFIED:20260320T204003Z
UID:10005457-1777143600-1777158000@www.nicensleazy.com
SUMMARY:EARLY CLUB - DOMINION
DESCRIPTION:April 25th will be our next Dominion back in Nice N Sleazy for another early club to get you in the mood. \nDark scene club night \n18+
URL:https://www.nicensleazy.com/event/early-club-dominion-3
CATEGORIES:Basement,Club
ATTACH;FMTTYPE=application/pdf:https://www.nicensleazy.com/wp-content/uploads/2026/03/673c77_159633dba7ce4d86b8ea28cd4aed08f5mv2.pdf
END:VEVENT
BEGIN:VEVENT
DTSTART;TZID=Europe/London:20260425T230000
DTEND;TZID=Europe/London:20260426T030000
DTSTAMP:20260420T153646
CREATED:20260320T213921Z
LAST-MODIFIED:20260320T213921Z
UID:10005463-1777158000-1777172400@www.nicensleazy.com
SUMMARY:CLUB  - DARK PROTOCOL PRESENTS: ANGEL NEGRIN
DESCRIPTION:ATTENTION! We are delighted to announce that on the 25th of April we will be joined by the wonderful @angelnegrin. \nAngel currently runs a fantastic event called @lunarojagla and has recently held amazing gigs with the likes of Co Accused\, Nightwave\, Phil Kieran \, Kairogen and many more. \nHe is an exceptional DJ and we are ecstatic to hear him take us on a journey of hypnotic techno so this won’t be one to miss out on! \nTickets will be 4 pound cash on the door at the fabulous @nicensleazy. \nsee you on the dance floor
URL:https://www.nicensleazy.com/event/club-dark-protocol-presents-angel-negrin
CATEGORIES:Basement,Club
ATTACH;FMTTYPE=application/pdf:https://www.nicensleazy.com/wp-content/uploads/2026/03/63019482e2d75fa24cbf9830d674568f6bf349e2.pdf
END:VEVENT
END:VCALENDAR