BEGIN:VCALENDAR
VERSION:2.0
PRODID:-//NiceNSleazy - ECPv6.15.20//NONSGML v1.0//EN
CALSCALE:GREGORIAN
METHOD:PUBLISH
X-WR-CALNAME:NiceNSleazy
X-ORIGINAL-URL:https://www.nicensleazy.com
X-WR-CALDESC:Events for NiceNSleazy
REFRESH-INTERVAL;VALUE=DURATION:PT1H
X-Robots-Tag:noindex
X-PUBLISHED-TTL:PT1H
BEGIN:VTIMEZONE
TZID:Europe/London
BEGIN:DAYLIGHT
TZOFFSETFROM:+0000
TZOFFSETTO:+0100
TZNAME:BST
DTSTART:20250330T010000
END:DAYLIGHT
BEGIN:STANDARD
TZOFFSETFROM:+0100
TZOFFSETTO:+0000
TZNAME:GMT
DTSTART:20251026T010000
END:STANDARD
BEGIN:DAYLIGHT
TZOFFSETFROM:+0000
TZOFFSETTO:+0100
TZNAME:BST
DTSTART:20260329T010000
END:DAYLIGHT
BEGIN:STANDARD
TZOFFSETFROM:+0100
TZOFFSETTO:+0000
TZNAME:GMT
DTSTART:20261025T010000
END:STANDARD
BEGIN:DAYLIGHT
TZOFFSETFROM:+0000
TZOFFSETTO:+0100
TZNAME:BST
DTSTART:20270328T010000
END:DAYLIGHT
BEGIN:STANDARD
TZOFFSETFROM:+0100
TZOFFSETTO:+0000
TZNAME:GMT
DTSTART:20271031T010000
END:STANDARD
END:VTIMEZONE
BEGIN:VEVENT
DTSTART;TZID=Europe/London:20260424T193000
DTEND;TZID=Europe/London:20260424T220000
DTSTAMP:20260420T140737
CREATED:20260330T194239Z
LAST-MODIFIED:20260330T194239Z
UID:10005478-1777059000-1777068000@www.nicensleazy.com
SUMMARY:GIG - KETTYLES
DESCRIPTION:Kettyles returns to Sleazys to sing about ex boyfriends \n  \n  \n… \n  \n  \n(she might be the problem) \n  \nJoined by Evyn Wilson and Catherine .
URL:https://www.nicensleazy.com/event/gig-kettyles
CATEGORIES:Basement,Gig
ATTACH;FMTTYPE=image/png:https://www.nicensleazy.com/wp-content/uploads/2026/03/unnamed-2.png
END:VEVENT
BEGIN:VEVENT
DTSTART;TZID=Europe/London:20260424T230000
DTEND;TZID=Europe/London:20260425T030000
DTSTAMP:20260420T140737
CREATED:20260328T154553Z
LAST-MODIFIED:20260328T154810Z
UID:10005470-1777071600-1777086000@www.nicensleazy.com
SUMMARY:CLUB - 909 SOCIETY
DESCRIPTION:a guaranteed good time with proper groovers all night long from our DJs\, covering disco to hard house \npresale tix will be available via RA\,\, buy in advance to skip the queue!
URL:https://www.nicensleazy.com/event/club-909-society
CATEGORIES:Basement,Club
ATTACH;FMTTYPE=application/pdf:https://www.nicensleazy.com/wp-content/uploads/2026/03/Screenshot-2026-03-28-at-15.44.47.pdf
END:VEVENT
END:VCALENDAR