BEGIN:VCALENDAR
VERSION:2.0
PRODID:-//NiceNSleazy - ECPv6.15.20//NONSGML v1.0//EN
CALSCALE:GREGORIAN
METHOD:PUBLISH
X-WR-CALNAME:NiceNSleazy
X-ORIGINAL-URL:https://www.nicensleazy.com
X-WR-CALDESC:Events for NiceNSleazy
REFRESH-INTERVAL;VALUE=DURATION:PT1H
X-Robots-Tag:noindex
X-PUBLISHED-TTL:PT1H
BEGIN:VTIMEZONE
TZID:Europe/London
BEGIN:DAYLIGHT
TZOFFSETFROM:+0000
TZOFFSETTO:+0100
TZNAME:BST
DTSTART:20250330T010000
END:DAYLIGHT
BEGIN:STANDARD
TZOFFSETFROM:+0100
TZOFFSETTO:+0000
TZNAME:GMT
DTSTART:20251026T010000
END:STANDARD
BEGIN:DAYLIGHT
TZOFFSETFROM:+0000
TZOFFSETTO:+0100
TZNAME:BST
DTSTART:20260329T010000
END:DAYLIGHT
BEGIN:STANDARD
TZOFFSETFROM:+0100
TZOFFSETTO:+0000
TZNAME:GMT
DTSTART:20261025T010000
END:STANDARD
BEGIN:DAYLIGHT
TZOFFSETFROM:+0000
TZOFFSETTO:+0100
TZNAME:BST
DTSTART:20270328T010000
END:DAYLIGHT
BEGIN:STANDARD
TZOFFSETFROM:+0100
TZOFFSETTO:+0000
TZNAME:GMT
DTSTART:20271031T010000
END:STANDARD
END:VTIMEZONE
BEGIN:VEVENT
DTSTART;TZID=Europe/London:20260422T190000
DTEND;TZID=Europe/London:20260422T220000
DTSTAMP:20260420T142524
CREATED:20260310T203155Z
LAST-MODIFIED:20260320T203311Z
UID:10005427-1776884400-1776895200@www.nicensleazy.com
SUMMARY:UPSTAIRS GIG - MYSHKIN'S RUBY WARBLERS
DESCRIPTION:Myshkin’s Ruby Warblers is the project of award-winning US songwriter and multimedia artist Myshkin\, now based in the Scottish Highlands thanks to a prestigious UK Global Talent Visa. \nThey kicked off 2026 as the Artist of the Week in The Scotsman and clocked-up airplay via Amazing Radio (in both the US and the UK). \nThey’ve won the New Orleans Music Industry Award for Best Folk Album and performed at major festivals including Vancouver Folk Festival\, Pickathon\, New Orleans Jazz & Heritage Festival\, Brooklyn Americana Fest and Joshua Tree Music Festival. \nThey perform at Upstairs at Nice N Sleazy in GLASGOW on Wednesday 22 April 2026 \n\n18+ event.
URL:https://www.nicensleazy.com/event/gig-myshkins-ruby-warblers
CATEGORIES:Bar,Gig
ATTACH;FMTTYPE=image/jpeg:https://www.nicensleazy.com/wp-content/uploads/2026/03/MyshkinRubyWarblers_1_square.jpg
END:VEVENT
BEGIN:VEVENT
DTSTART;TZID=Europe/London:20260422T193000
DTEND;TZID=Europe/London:20260422T223000
DTSTAMP:20260420T142524
CREATED:20260213T110451Z
LAST-MODIFIED:20260320T203536Z
UID:10005364-1776886200-1776897000@www.nicensleazy.com
SUMMARY:GIG - PUNCHBAG
DESCRIPTION:  \nPCL PRESETS: PUNCHBAG! \nVeering between chaos and clarity where sweetness clashes with distortion\, south-London sibling-duo PUNCHBAG deliver blistering\, unfiltered pop-punk that hits fast\, loud and straight to the gut. \nCusping the end of 2025 with their debut EP\, ‘I’m Not Your Punchbag’\, a sub-15-minute rush which quickly drew tastemaker attention from NME (Radar)\, Dork (HYPE cover)\, DIY\, CLASH (Next Wave)\, Wonderland\, and praise from PAPER\, Stereogum\, Brooklyn Vegan\, Popjustice and more.  \nNamed a Spotify RADAR: First Listen artist\, the band have sold-out multiple London headline shows and hit major festival stages including Reeperbahn\, Iceland Airwaves\, The Great Escape and Live At Leeds\, alongside a live performance on Made In Chelsea.
URL:https://www.nicensleazy.com/event/pcl-presents-punchbag
CATEGORIES:Basement,Gig
ATTACH;FMTTYPE=image/jpeg:https://www.nicensleazy.com/wp-content/uploads/2026/02/punchbag-1630253683-300x300-1.jpg
END:VEVENT
BEGIN:VEVENT
DTSTART;TZID=Europe/London:20260422T230000
DTEND;TZID=Europe/London:20260423T030000
DTSTAMP:20260420T142524
CREATED:20250513T202513Z
LAST-MODIFIED:20250830T112433Z
UID:10001636-1776898800-1776913200@www.nicensleazy.com
SUMMARY:DRAG KARAOKE W/ MISS TESS
DESCRIPTION:Weekly Karaoke night until 3am with the icon herself\, Miss Tess!! \nGet down early as the singers list fills very fast! 😍😍
URL:https://www.nicensleazy.com/event/drag-bingo-w-miss-tess-9-2/2026-04-22
CATEGORIES:Bar
ATTACH;FMTTYPE=image/png:https://www.nicensleazy.com/wp-content/uploads/2025/05/DRAG-KARAOKE-1.png
END:VEVENT
BEGIN:VEVENT
DTSTART;TZID=Europe/London:20260422T233000
DTEND;TZID=Europe/London:20260423T030000
DTSTAMP:20260420T142524
CREATED:20260320T213103Z
LAST-MODIFIED:20260320T213103Z
UID:10005462-1776900600-1776913200@www.nicensleazy.com
SUMMARY:CLUB - A-TØN & FRIENDS
DESCRIPTION:A-TØN Presents: open decks night. First come first serve. All genre’s welcome below 150bpm. Come and join me for a night of good music\, good craic and potential future opportunities!
URL:https://www.nicensleazy.com/event/club-a-ton-friends
CATEGORIES:Basement,Club
ATTACH;FMTTYPE=application/pdf:https://www.nicensleazy.com/wp-content/uploads/2026/03/unnamed-3.pdf
END:VEVENT
END:VCALENDAR