BEGIN:VCALENDAR
VERSION:2.0
PRODID:-//NiceNSleazy - ECPv6.15.20//NONSGML v1.0//EN
CALSCALE:GREGORIAN
METHOD:PUBLISH
X-WR-CALNAME:NiceNSleazy
X-ORIGINAL-URL:https://www.nicensleazy.com
X-WR-CALDESC:Events for NiceNSleazy
REFRESH-INTERVAL;VALUE=DURATION:PT1H
X-Robots-Tag:noindex
X-PUBLISHED-TTL:PT1H
BEGIN:VTIMEZONE
TZID:Europe/London
BEGIN:DAYLIGHT
TZOFFSETFROM:+0000
TZOFFSETTO:+0100
TZNAME:BST
DTSTART:20250330T010000
END:DAYLIGHT
BEGIN:STANDARD
TZOFFSETFROM:+0100
TZOFFSETTO:+0000
TZNAME:GMT
DTSTART:20251026T010000
END:STANDARD
BEGIN:DAYLIGHT
TZOFFSETFROM:+0000
TZOFFSETTO:+0100
TZNAME:BST
DTSTART:20260329T010000
END:DAYLIGHT
BEGIN:STANDARD
TZOFFSETFROM:+0100
TZOFFSETTO:+0000
TZNAME:GMT
DTSTART:20261025T010000
END:STANDARD
BEGIN:DAYLIGHT
TZOFFSETFROM:+0000
TZOFFSETTO:+0100
TZNAME:BST
DTSTART:20270328T010000
END:DAYLIGHT
BEGIN:STANDARD
TZOFFSETFROM:+0100
TZOFFSETTO:+0000
TZNAME:GMT
DTSTART:20271031T010000
END:STANDARD
END:VTIMEZONE
BEGIN:VEVENT
DTSTART;TZID=Europe/London:20260313T190000
DTEND;TZID=Europe/London:20260313T220000
DTSTAMP:20260420T154757
CREATED:20260218T141726Z
LAST-MODIFIED:20260220T205702Z
UID:10005374-1773428400-1773439200@www.nicensleazy.com
SUMMARY:GIG- GUERILLA LISTENING PARTY
DESCRIPTION:Guerrilla Listening Party – a new live music showcase series featuring top emerging acts from the city & surrounding areas. \nFEATURING: \nGleam\, Reign\, The Lines\, The Violent Polite
URL:https://www.nicensleazy.com/event/gig-guerilla-listening-party
CATEGORIES:Bar,Gig
ATTACH;FMTTYPE=image/webp:https://www.nicensleazy.com/wp-content/uploads/2026/02/rsw_730h_730cg_true.webp
END:VEVENT
BEGIN:VEVENT
DTSTART;TZID=Europe/London:20260313T190000
DTEND;TZID=Europe/London:20260313T220000
DTSTAMP:20260420T154757
CREATED:20260218T142317Z
LAST-MODIFIED:20260220T205837Z
UID:10005375-1773428400-1773439200@www.nicensleazy.com
SUMMARY:GIG - STRAIGHTEN OUT (STRANGLERS TRIBUTE)
DESCRIPTION:Straighten out – the no 1 Stranglers tribute play a 2 hour show of live Stranglers music. \nAn authentic night of Stranglers music played by the most authentic Stranglers tribute around. \n  \n 
URL:https://www.nicensleazy.com/event/gig-straighten-out-stranglers-tribute
CATEGORIES:Basement,Gig
ATTACH;FMTTYPE=image/png:https://www.nicensleazy.com/wp-content/uploads/2026/02/Screenshot-2026-02-18-at-14.21.15.png
END:VEVENT
BEGIN:VEVENT
DTSTART;TZID=Europe/London:20260313T230000
DTEND;TZID=Europe/London:20260314T030000
DTSTAMP:20260420T154757
CREATED:20260301T183610Z
LAST-MODIFIED:20260301T183610Z
UID:10005403-1773442800-1773457200@www.nicensleazy.com
SUMMARY:CLUB - STEW!003: STOCK
DESCRIPTION:we’re back with our third stew; this stew showcases our 6 resident chefs::: the genre-fluid stock that shapes the seasoning of any stew we make 😏🍲🍲 \nchefs:\ndj kaluun; kinz luiz; north star; saparilla; spxo and zolf \ncome thru\, bring a plate n a mate!!! \n///whats your favourite stew??👀 \n  \ntech house//footwork
URL:https://www.nicensleazy.com/event/club-stew003-stock
CATEGORIES:Basement,Club
ATTACH;FMTTYPE=application/pdf:https://www.nicensleazy.com/wp-content/uploads/2026/03/Screenshot-2026-03-01-at-18.33.23.pdf
END:VEVENT
END:VCALENDAR