BEGIN:VCALENDAR
VERSION:2.0
PRODID:-//NiceNSleazy - ECPv6.15.20//NONSGML v1.0//EN
CALSCALE:GREGORIAN
METHOD:PUBLISH
X-ORIGINAL-URL:https://www.nicensleazy.com
X-WR-CALDESC:Events for NiceNSleazy
REFRESH-INTERVAL;VALUE=DURATION:PT1H
X-Robots-Tag:noindex
X-PUBLISHED-TTL:PT1H
BEGIN:VTIMEZONE
TZID:Europe/London
BEGIN:DAYLIGHT
TZOFFSETFROM:+0000
TZOFFSETTO:+0100
TZNAME:BST
DTSTART:20250330T010000
END:DAYLIGHT
BEGIN:STANDARD
TZOFFSETFROM:+0100
TZOFFSETTO:+0000
TZNAME:GMT
DTSTART:20251026T010000
END:STANDARD
BEGIN:DAYLIGHT
TZOFFSETFROM:+0000
TZOFFSETTO:+0100
TZNAME:BST
DTSTART:20260329T010000
END:DAYLIGHT
BEGIN:STANDARD
TZOFFSETFROM:+0100
TZOFFSETTO:+0000
TZNAME:GMT
DTSTART:20261025T010000
END:STANDARD
BEGIN:DAYLIGHT
TZOFFSETFROM:+0000
TZOFFSETTO:+0100
TZNAME:BST
DTSTART:20270328T010000
END:DAYLIGHT
BEGIN:STANDARD
TZOFFSETFROM:+0100
TZOFFSETTO:+0000
TZNAME:GMT
DTSTART:20271031T010000
END:STANDARD
END:VTIMEZONE
BEGIN:VEVENT
DTSTART;TZID=Europe/London:20260128T230000
DTEND;TZID=Europe/London:20260129T030000
DTSTAMP:20260422T125745
CREATED:20250513T202513Z
LAST-MODIFIED:20250830T112433Z
UID:10001624-1769641200-1769655600@www.nicensleazy.com
SUMMARY:DRAG KARAOKE W/ MISS TESS
DESCRIPTION:Weekly Karaoke night until 3am with the icon herself\, Miss Tess!! \nGet down early as the singers list fills very fast! 😍😍
URL:https://www.nicensleazy.com/event/drag-bingo-w-miss-tess-9-2/2026-01-28
CATEGORIES:Bar
ATTACH;FMTTYPE=image/png:https://www.nicensleazy.com/wp-content/uploads/2025/05/DRAG-KARAOKE-1.png
END:VEVENT
BEGIN:VEVENT
DTSTART;TZID=Europe/London:20260128T230000
DTEND;TZID=Europe/London:20260129T030000
DTSTAMP:20260422T125745
CREATED:20260103T122137Z
LAST-MODIFIED:20260103T122137Z
UID:10005067-1769641200-1769655600@www.nicensleazy.com
SUMMARY:HAMBO INVITES - CLUB
DESCRIPTION:FREE ENTRY \nHAMBO INVITES: \n\nFM DUB 11-12\nCIARAN MELHUISH 12-1\nHAMBO 1-3
URL:https://www.nicensleazy.com/event/hambo-invites-club
CATEGORIES:Basement,Club
ATTACH;FMTTYPE=image/jpeg:https://www.nicensleazy.com/wp-content/uploads/2026/01/poster-option-2.jpg
END:VEVENT
END:VCALENDAR