BEGIN:VCALENDAR
VERSION:2.0
PRODID:-//NiceNSleazy - ECPv6.15.20//NONSGML v1.0//EN
CALSCALE:GREGORIAN
METHOD:PUBLISH
X-ORIGINAL-URL:https://www.nicensleazy.com
X-WR-CALDESC:Events for NiceNSleazy
REFRESH-INTERVAL;VALUE=DURATION:PT1H
X-Robots-Tag:noindex
X-PUBLISHED-TTL:PT1H
BEGIN:VTIMEZONE
TZID:Europe/London
BEGIN:DAYLIGHT
TZOFFSETFROM:+0000
TZOFFSETTO:+0100
TZNAME:BST
DTSTART:20250330T010000
END:DAYLIGHT
BEGIN:STANDARD
TZOFFSETFROM:+0100
TZOFFSETTO:+0000
TZNAME:GMT
DTSTART:20251026T010000
END:STANDARD
BEGIN:DAYLIGHT
TZOFFSETFROM:+0000
TZOFFSETTO:+0100
TZNAME:BST
DTSTART:20260329T010000
END:DAYLIGHT
BEGIN:STANDARD
TZOFFSETFROM:+0100
TZOFFSETTO:+0000
TZNAME:GMT
DTSTART:20261025T010000
END:STANDARD
BEGIN:DAYLIGHT
TZOFFSETFROM:+0000
TZOFFSETTO:+0100
TZNAME:BST
DTSTART:20270328T010000
END:DAYLIGHT
BEGIN:STANDARD
TZOFFSETFROM:+0100
TZOFFSETTO:+0000
TZNAME:GMT
DTSTART:20271031T010000
END:STANDARD
END:VTIMEZONE
BEGIN:VEVENT
DTSTART;TZID=Europe/London:20260122T230000
DTEND;TZID=Europe/London:20260123T020000
DTSTAMP:20260422T142437
CREATED:20241125T225609Z
LAST-MODIFIED:20250513T204235Z
UID:10001889-1769122800-1769133600@www.nicensleazy.com
SUMMARY:TRAD THURSDAYS
DESCRIPTION:11PM-2AM EVERY THURSDAY \nBrought to you by our resident Trad band! \nAn assortment of knee-slapping traditional Scottish music\, with a few covers here and there. \nCome along just to listen\, or feel free to play – all are welcome to the session!
URL:https://www.nicensleazy.com/event/trad-thursdays-62/2026-01-22
CATEGORIES:Bar,Gig
ATTACH;FMTTYPE=image/png:https://www.nicensleazy.com/wp-content/uploads/2024/11/Screenshot-2025-05-13-at-21.38.54.png
END:VEVENT
BEGIN:VEVENT
DTSTART;TZID=Europe/London:20260122T230000
DTEND;TZID=Europe/London:20260123T030000
DTSTAMP:20260422T142437
CREATED:20251227T222847Z
LAST-MODIFIED:20251227T223330Z
UID:10005056-1769122800-1769137200@www.nicensleazy.com
SUMMARY:CLUB: ANGELS OF GLASGOW
DESCRIPTION:Angels of Glasgow brings it’s debut for a new monthly event of house\, techno\, hip hop\, & queer club bangers to Nice N Sleazy\, spotlighting up-and-coming artists and local DJs\, plus a special guest TBA. \nGenre-fluid bangers\, baddie / girlypop energy\, and percussive beats. Vibe: Ethereal / Sinful. All-inclusive\, low-ego\, high-energy. \nCome as you are. Dance like an angel. \nAbsolutely NO racism\, homophobia\, transphobia or harassment will be tolerated. \nFULL LINE-UP TBA\,\, WATCH THIS SPACE
URL:https://www.nicensleazy.com/event/club-angels-of-glasgow
CATEGORIES:Basement,Club
ATTACH;FMTTYPE=image/webp:https://www.nicensleazy.com/wp-content/uploads/2025/12/7914e80fe5bacd6f84560cb5945586592151cbc1.webp
END:VEVENT
END:VCALENDAR