BEGIN:VCALENDAR
VERSION:2.0
PRODID:-//NiceNSleazy - ECPv6.15.20//NONSGML v1.0//EN
CALSCALE:GREGORIAN
METHOD:PUBLISH
X-ORIGINAL-URL:https://www.nicensleazy.com
X-WR-CALDESC:Events for NiceNSleazy
REFRESH-INTERVAL;VALUE=DURATION:PT1H
X-Robots-Tag:noindex
X-PUBLISHED-TTL:PT1H
BEGIN:VTIMEZONE
TZID:Europe/London
BEGIN:DAYLIGHT
TZOFFSETFROM:+0000
TZOFFSETTO:+0100
TZNAME:BST
DTSTART:20250330T010000
END:DAYLIGHT
BEGIN:STANDARD
TZOFFSETFROM:+0100
TZOFFSETTO:+0000
TZNAME:GMT
DTSTART:20251026T010000
END:STANDARD
BEGIN:DAYLIGHT
TZOFFSETFROM:+0000
TZOFFSETTO:+0100
TZNAME:BST
DTSTART:20260329T010000
END:DAYLIGHT
BEGIN:STANDARD
TZOFFSETFROM:+0100
TZOFFSETTO:+0000
TZNAME:GMT
DTSTART:20261025T010000
END:STANDARD
BEGIN:DAYLIGHT
TZOFFSETFROM:+0000
TZOFFSETTO:+0100
TZNAME:BST
DTSTART:20270328T010000
END:DAYLIGHT
BEGIN:STANDARD
TZOFFSETFROM:+0100
TZOFFSETTO:+0000
TZNAME:GMT
DTSTART:20271031T010000
END:STANDARD
END:VTIMEZONE
BEGIN:VEVENT
DTSTART;TZID=Europe/London:20260119T193000
DTEND;TZID=Europe/London:20260119T230000
DTSTAMP:20260422T142424
CREATED:20251227T221208Z
LAST-MODIFIED:20251227T221208Z
UID:10005055-1768851000-1768863600@www.nicensleazy.com
SUMMARY:COMEDY GIG: PLEASE LAUGH
DESCRIPTION:Please Laugh – a comedy night at Nice n Sleazy hosted by Caitlin Connor. \nFull line-up TBA soon…
URL:https://www.nicensleazy.com/event/comedy-gig-please-laugh
CATEGORIES:Basement,Gig
END:VEVENT
BEGIN:VEVENT
DTSTART;TZID=Europe/London:20260119T230000
DTEND;TZID=Europe/London:20260120T030000
DTSTAMP:20260422T142424
CREATED:20251119T234406Z
LAST-MODIFIED:20251119T234406Z
UID:10004693-1768863600-1768878000@www.nicensleazy.com
SUMMARY:MAZZA MONDAYS
DESCRIPTION:COME SING US A TUNE!\nEVERY MONDAY 11-3AM\, HOSTED BY THE ONE AND ONLY MAZZA
URL:https://www.nicensleazy.com/event/mazza-mondays/2026-01-19
CATEGORIES:Bar
ATTACH;FMTTYPE=image/jpeg:https://www.nicensleazy.com/wp-content/uploads/2025/11/MAZZA-Instagram-Post-45.jpg
END:VEVENT
END:VCALENDAR