BEGIN:VCALENDAR
VERSION:2.0
PRODID:-//NiceNSleazy - ECPv6.15.20//NONSGML v1.0//EN
CALSCALE:GREGORIAN
METHOD:PUBLISH
X-ORIGINAL-URL:https://www.nicensleazy.com
X-WR-CALDESC:Events for NiceNSleazy
REFRESH-INTERVAL;VALUE=DURATION:PT1H
X-Robots-Tag:noindex
X-PUBLISHED-TTL:PT1H
BEGIN:VTIMEZONE
TZID:Europe/London
BEGIN:DAYLIGHT
TZOFFSETFROM:+0000
TZOFFSETTO:+0100
TZNAME:BST
DTSTART:20250330T010000
END:DAYLIGHT
BEGIN:STANDARD
TZOFFSETFROM:+0100
TZOFFSETTO:+0000
TZNAME:GMT
DTSTART:20251026T010000
END:STANDARD
BEGIN:DAYLIGHT
TZOFFSETFROM:+0000
TZOFFSETTO:+0100
TZNAME:BST
DTSTART:20260329T010000
END:DAYLIGHT
BEGIN:STANDARD
TZOFFSETFROM:+0100
TZOFFSETTO:+0000
TZNAME:GMT
DTSTART:20261025T010000
END:STANDARD
BEGIN:DAYLIGHT
TZOFFSETFROM:+0000
TZOFFSETTO:+0100
TZNAME:BST
DTSTART:20270328T010000
END:DAYLIGHT
BEGIN:STANDARD
TZOFFSETFROM:+0100
TZOFFSETTO:+0000
TZNAME:GMT
DTSTART:20271031T010000
END:STANDARD
END:VTIMEZONE
BEGIN:VEVENT
DTSTART;TZID=Europe/London:20260117T190000
DTEND;TZID=Europe/London:20260117T223000
DTSTAMP:20260422T154605
CREATED:20260102T204107Z
LAST-MODIFIED:20260102T204127Z
UID:10005061-1768676400-1768689000@www.nicensleazy.com
SUMMARY:GIG UPSTAIRS: THE SECOND WORLD WAR + HALFHEAD
DESCRIPTION:The Second World War are allured back to Glasgow. \nJoin them alongside local punk legends HALFHEAD for a night of madness. \nAdditional support TBA\, watch this space! \n 
URL:https://www.nicensleazy.com/event/gig-the-second-world-war-halfhead
CATEGORIES:Basement,Gig
ATTACH;FMTTYPE=application/pdf:https://www.nicensleazy.com/wp-content/uploads/2026/01/Screenshot-2026-01-02-at-20.36.37.pdf
END:VEVENT
BEGIN:VEVENT
DTSTART;TZID=Europe/London:20260117T230000
DTEND;TZID=Europe/London:20260118T030000
DTSTAMP:20260422T154605
CREATED:20251227T205610Z
LAST-MODIFIED:20251227T205610Z
UID:10005054-1768690800-1768705200@www.nicensleazy.com
SUMMARY:BAR DJ: CIARAN DEVLIN
DESCRIPTION:Ciaran will be soundtracking the bar with his eclectic mix of 70s/80s synth pop/house/electro! \n11-3am \nfree entry before 11pm. \n 
URL:https://www.nicensleazy.com/event/bar-dj-ciaran-devlin
CATEGORIES:Bar,Club
END:VEVENT
BEGIN:VEVENT
DTSTART;TZID=Europe/London:20260117T230000
DTEND;TZID=Europe/London:20260118T030000
DTSTAMP:20260422T154605
CREATED:20251230T210836Z
LAST-MODIFIED:20251230T210836Z
UID:10005059-1768690800-1768705200@www.nicensleazy.com
SUMMARY:CLUB - LUSTRA
DESCRIPTION:A NIGHT OF HIP HOP AND RAP : FAVS AND DEEPCUTS ALIKE
URL:https://www.nicensleazy.com/event/club-lustra-2
CATEGORIES:Basement,Club
ATTACH;FMTTYPE=image/png:https://www.nicensleazy.com/wp-content/uploads/2025/12/2.png
END:VEVENT
END:VCALENDAR