BEGIN:VCALENDAR
VERSION:2.0
PRODID:-//NiceNSleazy - ECPv6.15.20//NONSGML v1.0//EN
CALSCALE:GREGORIAN
METHOD:PUBLISH
X-WR-CALNAME:NiceNSleazy
X-ORIGINAL-URL:https://www.nicensleazy.com
X-WR-CALDESC:Events for NiceNSleazy
REFRESH-INTERVAL;VALUE=DURATION:PT1H
X-Robots-Tag:noindex
X-PUBLISHED-TTL:PT1H
BEGIN:VTIMEZONE
TZID:Europe/London
BEGIN:DAYLIGHT
TZOFFSETFROM:+0000
TZOFFSETTO:+0100
TZNAME:BST
DTSTART:20250330T010000
END:DAYLIGHT
BEGIN:STANDARD
TZOFFSETFROM:+0100
TZOFFSETTO:+0000
TZNAME:GMT
DTSTART:20251026T010000
END:STANDARD
BEGIN:DAYLIGHT
TZOFFSETFROM:+0000
TZOFFSETTO:+0100
TZNAME:BST
DTSTART:20260329T010000
END:DAYLIGHT
BEGIN:STANDARD
TZOFFSETFROM:+0100
TZOFFSETTO:+0000
TZNAME:GMT
DTSTART:20261025T010000
END:STANDARD
BEGIN:DAYLIGHT
TZOFFSETFROM:+0000
TZOFFSETTO:+0100
TZNAME:BST
DTSTART:20270328T010000
END:DAYLIGHT
BEGIN:STANDARD
TZOFFSETFROM:+0100
TZOFFSETTO:+0000
TZNAME:GMT
DTSTART:20271031T010000
END:STANDARD
END:VTIMEZONE
BEGIN:VEVENT
DTSTART;TZID=Europe/London:20260104T160000
DTEND;TZID=Europe/London:20260104T180000
DTSTAMP:20260422T142148
CREATED:20251223T001850Z
LAST-MODIFIED:20251223T001850Z
UID:10005037-1767542400-1767549600@www.nicensleazy.com
SUMMARY:CRAFT POTTERY BIG FAT QUIZ OF THE YEAR!
DESCRIPTION:Come along to our debut event with Glasgow legends – Nice N Sleazy – on Sauchiehall Street for Big Fat Quiz of the Year\, an afternoon of 2025 pop culture trivia and pottery painting! \nTickets are £26pp which covers a piece of pottery\, your studio fee (paint\, glaze\, firing costs) and a cocktail! \nThe winning team will receive a £50 pottery painting voucher and a round of drinks from the bar! \nAdditional drinks can be purchased on the day and non-alcoholic options are available. \nWe can’t wait for this one!!!
URL:https://www.nicensleazy.com/event/craft-pottery-big-fat-quiz-of-the-year
CATEGORIES:Bar
ATTACH;FMTTYPE=application/pdf:https://www.nicensleazy.com/wp-content/uploads/2025/12/Screenshot-2025-12-23-at-00.17.08.pdf
END:VEVENT
BEGIN:VEVENT
DTSTART;TZID=Europe/London:20260104T200000
DTEND;TZID=Europe/London:20260105T030000
DTSTAMP:20260422T142148
CREATED:20260127T211347Z
LAST-MODIFIED:20260127T211348Z
UID:10004330-1767556800-1767582000@www.nicensleazy.com
SUMMARY:SPIN CLASS W/ ASSAI RECORDS
DESCRIPTION:sunday spin class… \never wondered what your favourite records would sound like through a professional PA system?\nor did you buy a new vinyl at a gig recently and want to relive it?\nwell… here’s your opportunity! \nbring in some records and give mixing a go // choose some tunes from our in-house collection\nFREE ENTRY every week
URL:https://www.nicensleazy.com/event/spinclass-with-assai-records-2-2/2026-01-04
CATEGORIES:Bar
ATTACH;FMTTYPE=image/jpeg:https://www.nicensleazy.com/wp-content/uploads/2025/05/1.jpg
END:VEVENT
BEGIN:VEVENT
DTSTART;TZID=Europe/London:20260104T230000
DTEND;TZID=Europe/London:20260105T030000
DTSTAMP:20260422T142148
CREATED:20251227T175738Z
LAST-MODIFIED:20251227T175738Z
UID:10005042-1767567600-1767582000@www.nicensleazy.com
SUMMARY:CLUB: ENGINE FAILURE
DESCRIPTION:DJ Maicol hosts a club night/leaving do takeover with an incredible line-up of DJs! \n£5 OTD \nLoosely Industrial \nSunday 4th January \n11-3AM
URL:https://www.nicensleazy.com/event/club-engine-failure
CATEGORIES:Basement,Club
ATTACH;FMTTYPE=application/pdf:https://www.nicensleazy.com/wp-content/uploads/2025/12/Screenshot-2025-12-27-at-17.53.15.pdf
END:VEVENT
END:VCALENDAR