BEGIN:VCALENDAR
VERSION:2.0
PRODID:-//NiceNSleazy - ECPv6.15.20//NONSGML v1.0//EN
CALSCALE:GREGORIAN
METHOD:PUBLISH
X-WR-CALNAME:NiceNSleazy
X-ORIGINAL-URL:https://www.nicensleazy.com
X-WR-CALDESC:Events for NiceNSleazy
REFRESH-INTERVAL;VALUE=DURATION:PT1H
X-Robots-Tag:noindex
X-PUBLISHED-TTL:PT1H
BEGIN:VTIMEZONE
TZID:Europe/London
BEGIN:DAYLIGHT
TZOFFSETFROM:+0000
TZOFFSETTO:+0100
TZNAME:BST
DTSTART:20250330T010000
END:DAYLIGHT
BEGIN:STANDARD
TZOFFSETFROM:+0100
TZOFFSETTO:+0000
TZNAME:GMT
DTSTART:20251026T010000
END:STANDARD
BEGIN:DAYLIGHT
TZOFFSETFROM:+0000
TZOFFSETTO:+0100
TZNAME:BST
DTSTART:20260329T010000
END:DAYLIGHT
BEGIN:STANDARD
TZOFFSETFROM:+0100
TZOFFSETTO:+0000
TZNAME:GMT
DTSTART:20261025T010000
END:STANDARD
BEGIN:DAYLIGHT
TZOFFSETFROM:+0000
TZOFFSETTO:+0100
TZNAME:BST
DTSTART:20270328T010000
END:DAYLIGHT
BEGIN:STANDARD
TZOFFSETFROM:+0100
TZOFFSETTO:+0000
TZNAME:GMT
DTSTART:20271031T010000
END:STANDARD
END:VTIMEZONE
BEGIN:VEVENT
DTSTART;TZID=Europe/London:20260103T230000
DTEND;TZID=Europe/London:20260104T040000
DTSTAMP:20260422T154456
CREATED:20251227T174441Z
LAST-MODIFIED:20251227T174441Z
UID:10005041-1767481200-1767499200@www.nicensleazy.com
SUMMARY:BAR DJ: THE WOOK
DESCRIPTION:The Wook is back at the bar bringing the funk\, breaks\, hip-hop and disco all with that signature scratching style! Come get loose!
URL:https://www.nicensleazy.com/event/bar-dj-the-wook-3
CATEGORIES:Bar,Club
ATTACH;FMTTYPE=image/jpeg:https://www.nicensleazy.com/wp-content/uploads/2025/10/download.jpeg
END:VEVENT
BEGIN:VEVENT
DTSTART;TZID=Europe/London:20260103T230000
DTEND;TZID=Europe/London:20260104T040000
DTSTAMP:20260422T154456
CREATED:20260102T202820Z
LAST-MODIFIED:20260102T202820Z
UID:10005060-1767481200-1767499200@www.nicensleazy.com
SUMMARY:CLUB: JOSH FOSTER
DESCRIPTION:EXPECT A HEALTHY MIX OF ELECTRO FUNK/GHETTO HOUSE \n11-4AM \nFREE ENTRY VIA THE BAR BEFORE 11PM X
URL:https://www.nicensleazy.com/event/club-josh-foster
CATEGORIES:Basement,Club
END:VEVENT
END:VCALENDAR