BEGIN:VCALENDAR
VERSION:2.0
PRODID:-//NiceNSleazy - ECPv6.15.20//NONSGML v1.0//EN
CALSCALE:GREGORIAN
METHOD:PUBLISH
X-ORIGINAL-URL:https://www.nicensleazy.com
X-WR-CALDESC:Events for NiceNSleazy
REFRESH-INTERVAL;VALUE=DURATION:PT1H
X-Robots-Tag:noindex
X-PUBLISHED-TTL:PT1H
BEGIN:VTIMEZONE
TZID:Europe/London
BEGIN:DAYLIGHT
TZOFFSETFROM:+0000
TZOFFSETTO:+0100
TZNAME:BST
DTSTART:20240331T010000
END:DAYLIGHT
BEGIN:STANDARD
TZOFFSETFROM:+0100
TZOFFSETTO:+0000
TZNAME:GMT
DTSTART:20241027T010000
END:STANDARD
BEGIN:DAYLIGHT
TZOFFSETFROM:+0000
TZOFFSETTO:+0100
TZNAME:BST
DTSTART:20250330T010000
END:DAYLIGHT
BEGIN:STANDARD
TZOFFSETFROM:+0100
TZOFFSETTO:+0000
TZNAME:GMT
DTSTART:20251026T010000
END:STANDARD
BEGIN:DAYLIGHT
TZOFFSETFROM:+0000
TZOFFSETTO:+0100
TZNAME:BST
DTSTART:20260329T010000
END:DAYLIGHT
BEGIN:STANDARD
TZOFFSETFROM:+0100
TZOFFSETTO:+0000
TZNAME:GMT
DTSTART:20261025T010000
END:STANDARD
END:VTIMEZONE
BEGIN:VEVENT
DTSTART;TZID=Europe/London:20251229T220000
DTEND;TZID=Europe/London:20251230T030000
DTSTAMP:20260422T143532
CREATED:20251222T235019Z
LAST-MODIFIED:20251222T235019Z
UID:10004985-1767045600-1767063600@www.nicensleazy.com
SUMMARY:CLUB: NOCTIDIEM
DESCRIPTION:FREE PARTY!!!!!!! \nAfter almost a year\, Beat Farm are returning to bless the sleazys basement with their finest selections\, for a night of all things housey. Joined by yours truly\, dumb and dumber\, aka surplus.
URL:https://www.nicensleazy.com/event/club-noctidiem
CATEGORIES:Basement,Club
ATTACH;FMTTYPE=image/webp:https://www.nicensleazy.com/wp-content/uploads/2025/12/5070d711f993098edd3d8f30fb0ca770cb0408b7.webp
END:VEVENT
BEGIN:VEVENT
DTSTART;TZID=Europe/London:20251229T230000
DTEND;TZID=Europe/London:20251230T030000
DTSTAMP:20260422T143532
CREATED:20251119T234406Z
LAST-MODIFIED:20251119T234406Z
UID:10004690-1767049200-1767063600@www.nicensleazy.com
SUMMARY:MAZZA MONDAYS
DESCRIPTION:COME SING US A TUNE!\nEVERY MONDAY 11-3AM\, HOSTED BY THE ONE AND ONLY MAZZA
URL:https://www.nicensleazy.com/event/mazza-mondays/2025-12-29
CATEGORIES:Bar
ATTACH;FMTTYPE=image/jpeg:https://www.nicensleazy.com/wp-content/uploads/2025/11/MAZZA-Instagram-Post-45.jpg
END:VEVENT
END:VCALENDAR