BEGIN:VCALENDAR
VERSION:2.0
PRODID:-//NiceNSleazy - ECPv6.15.20//NONSGML v1.0//EN
CALSCALE:GREGORIAN
METHOD:PUBLISH
X-ORIGINAL-URL:https://www.nicensleazy.com
X-WR-CALDESC:Events for NiceNSleazy
REFRESH-INTERVAL;VALUE=DURATION:PT1H
X-Robots-Tag:noindex
X-PUBLISHED-TTL:PT1H
BEGIN:VTIMEZONE
TZID:Europe/London
BEGIN:DAYLIGHT
TZOFFSETFROM:+0000
TZOFFSETTO:+0100
TZNAME:BST
DTSTART:20240331T010000
END:DAYLIGHT
BEGIN:STANDARD
TZOFFSETFROM:+0100
TZOFFSETTO:+0000
TZNAME:GMT
DTSTART:20241027T010000
END:STANDARD
BEGIN:DAYLIGHT
TZOFFSETFROM:+0000
TZOFFSETTO:+0100
TZNAME:BST
DTSTART:20250330T010000
END:DAYLIGHT
BEGIN:STANDARD
TZOFFSETFROM:+0100
TZOFFSETTO:+0000
TZNAME:GMT
DTSTART:20251026T010000
END:STANDARD
BEGIN:DAYLIGHT
TZOFFSETFROM:+0000
TZOFFSETTO:+0100
TZNAME:BST
DTSTART:20260329T010000
END:DAYLIGHT
BEGIN:STANDARD
TZOFFSETFROM:+0100
TZOFFSETTO:+0000
TZNAME:GMT
DTSTART:20261025T010000
END:STANDARD
END:VTIMEZONE
BEGIN:VEVENT
DTSTART;TZID=Europe/London:20251223T230000
DTEND;TZID=Europe/London:20251224T030000
DTSTAMP:20260422T160412
CREATED:20251220T165419Z
LAST-MODIFIED:20251220T165419Z
UID:10004979-1766530800-1766545200@www.nicensleazy.com
SUMMARY:CLUB - DISCLAIMERRY XMAS
DESCRIPTION:You could go out on the 24th\, ruin Christmas and spend the holidays avoiding your mothers gaze — or\, you could get absolutely festived with us at Disclaimer on the 23rd at Sleazys. \nWe’re all just going to play our favourite songs\, fun edits\, and poppy goodness you might not hear otherwise in a club setting. \nPre-party also at the Arly beforehand warming things up before we slay over to Sleazys!
URL:https://www.nicensleazy.com/event/club-disclaimerry-xmas
CATEGORIES:Basement,Club
ATTACH;FMTTYPE=image/jpeg:https://www.nicensleazy.com/wp-content/uploads/2025/12/unnamed.jpg
END:VEVENT
END:VCALENDAR