BEGIN:VCALENDAR
VERSION:2.0
PRODID:-//NiceNSleazy - ECPv6.15.20//NONSGML v1.0//EN
CALSCALE:GREGORIAN
METHOD:PUBLISH
X-WR-CALNAME:NiceNSleazy
X-ORIGINAL-URL:https://www.nicensleazy.com
X-WR-CALDESC:Events for NiceNSleazy
REFRESH-INTERVAL;VALUE=DURATION:PT1H
X-Robots-Tag:noindex
X-PUBLISHED-TTL:PT1H
BEGIN:VTIMEZONE
TZID:Europe/London
BEGIN:DAYLIGHT
TZOFFSETFROM:+0000
TZOFFSETTO:+0100
TZNAME:BST
DTSTART:20240331T010000
END:DAYLIGHT
BEGIN:STANDARD
TZOFFSETFROM:+0100
TZOFFSETTO:+0000
TZNAME:GMT
DTSTART:20241027T010000
END:STANDARD
BEGIN:DAYLIGHT
TZOFFSETFROM:+0000
TZOFFSETTO:+0100
TZNAME:BST
DTSTART:20250330T010000
END:DAYLIGHT
BEGIN:STANDARD
TZOFFSETFROM:+0100
TZOFFSETTO:+0000
TZNAME:GMT
DTSTART:20251026T010000
END:STANDARD
BEGIN:DAYLIGHT
TZOFFSETFROM:+0000
TZOFFSETTO:+0100
TZNAME:BST
DTSTART:20260329T010000
END:DAYLIGHT
BEGIN:STANDARD
TZOFFSETFROM:+0100
TZOFFSETTO:+0000
TZNAME:GMT
DTSTART:20261025T010000
END:STANDARD
END:VTIMEZONE
BEGIN:VEVENT
DTSTART;TZID=Europe/London:20251221T190000
DTEND;TZID=Europe/London:20251221T230000
DTSTAMP:20260422T154508
CREATED:20251122T002555Z
LAST-MODIFIED:20251122T002555Z
UID:10004951-1766343600-1766358000@www.nicensleazy.com
SUMMARY:CHRISTMAS DRAG EXTRAVAGANZA
DESCRIPTION:🎄Get ready to sleigh🎄 \nFrom the Nice N Sleighzy workshop comes… A Very Sleazy\nChristmas: Drag Extravaganza! \nJoin your festive faves for a night of camp\, chaos\, and Christmas cheer\, all hosted by the one and only Miss Tess!! \nDecember 21st\, 2025\nSleazy’s Basement\, 421 Sauchiehall St\nDoors: 7pm / Show: 7:30pm \nNaughty or nice… you’re in for a Sleazy night!
URL:https://www.nicensleazy.com/event/christmas-drag-extravaganza
CATEGORIES:Basement,Gig
ATTACH;FMTTYPE=image/png:https://www.nicensleazy.com/wp-content/uploads/2025/11/Screenshot-2025-11-22-at-00.20.57.png
END:VEVENT
BEGIN:VEVENT
DTSTART;TZID=Europe/London:20251221T190000
DTEND;TZID=Europe/London:20251222T030000
DTSTAMP:20260422T154508
CREATED:20251012T223323Z
LAST-MODIFIED:20251012T223324Z
UID:10004328-1766343600-1766372400@www.nicensleazy.com
SUMMARY:SPIN CLASS W/ ASSAI RECORDS
DESCRIPTION:sunday spin class… \never wondered what your favourite records would sound like through a professional PA system?\nor did you buy a new vinyl at a gig recently and want to relive it?\nwell… here’s your opportunity! \nbring in some records and give mixing a go // choose some tunes from our in-house collection\nFREE ENTRY every week
URL:https://www.nicensleazy.com/event/spinclass-with-assai-records-2/2025-12-21
CATEGORIES:Bar
ATTACH;FMTTYPE=image/jpeg:https://www.nicensleazy.com/wp-content/uploads/2025/05/1.jpg
END:VEVENT
END:VCALENDAR