BEGIN:VCALENDAR
VERSION:2.0
PRODID:-//NiceNSleazy - ECPv6.15.20//NONSGML v1.0//EN
CALSCALE:GREGORIAN
METHOD:PUBLISH
X-WR-CALNAME:NiceNSleazy
X-ORIGINAL-URL:https://www.nicensleazy.com
X-WR-CALDESC:Events for NiceNSleazy
REFRESH-INTERVAL;VALUE=DURATION:PT1H
X-Robots-Tag:noindex
X-PUBLISHED-TTL:PT1H
BEGIN:VTIMEZONE
TZID:Europe/London
BEGIN:DAYLIGHT
TZOFFSETFROM:+0000
TZOFFSETTO:+0100
TZNAME:BST
DTSTART:20240331T010000
END:DAYLIGHT
BEGIN:STANDARD
TZOFFSETFROM:+0100
TZOFFSETTO:+0000
TZNAME:GMT
DTSTART:20241027T010000
END:STANDARD
BEGIN:DAYLIGHT
TZOFFSETFROM:+0000
TZOFFSETTO:+0100
TZNAME:BST
DTSTART:20250330T010000
END:DAYLIGHT
BEGIN:STANDARD
TZOFFSETFROM:+0100
TZOFFSETTO:+0000
TZNAME:GMT
DTSTART:20251026T010000
END:STANDARD
BEGIN:DAYLIGHT
TZOFFSETFROM:+0000
TZOFFSETTO:+0100
TZNAME:BST
DTSTART:20260329T010000
END:DAYLIGHT
BEGIN:STANDARD
TZOFFSETFROM:+0100
TZOFFSETTO:+0000
TZNAME:GMT
DTSTART:20261025T010000
END:STANDARD
END:VTIMEZONE
BEGIN:VEVENT
DTSTART;TZID=Europe/London:20251220T193000
DTEND;TZID=Europe/London:20251220T230000
DTSTAMP:20260422T171203
CREATED:20251122T001941Z
LAST-MODIFIED:20251122T001942Z
UID:10004950-1766259000-1766271600@www.nicensleazy.com
SUMMARY:PCL Presents: Miki Berenyi Trio + FO Machete - GIG
DESCRIPTION:COMING UP ⭐️\nMiki Berenyi trio comes to NICE N SLEAZY this December 20th\, following a sold-out show in Edinburgh the night before.\nLed by former Lush singer and dreampop legend Miki Berenyi\, the band returns to Glasgow following last year’s sell-out show.
URL:https://www.nicensleazy.com/event/pcl-presents-miki-berenyi-trio-fo-machete-gig
CATEGORIES:Basement,Gig
ATTACH;FMTTYPE=image/jpeg:https://www.nicensleazy.com/wp-content/uploads/2025/11/574882539_1457713776363404_3136048126469948669_n.jpg
END:VEVENT
END:VCALENDAR