BEGIN:VCALENDAR
VERSION:2.0
PRODID:-//NiceNSleazy - ECPv6.15.20//NONSGML v1.0//EN
CALSCALE:GREGORIAN
METHOD:PUBLISH
X-ORIGINAL-URL:https://www.nicensleazy.com
X-WR-CALDESC:Events for NiceNSleazy
REFRESH-INTERVAL;VALUE=DURATION:PT1H
X-Robots-Tag:noindex
X-PUBLISHED-TTL:PT1H
BEGIN:VTIMEZONE
TZID:Europe/London
BEGIN:DAYLIGHT
TZOFFSETFROM:+0000
TZOFFSETTO:+0100
TZNAME:BST
DTSTART:20240331T010000
END:DAYLIGHT
BEGIN:STANDARD
TZOFFSETFROM:+0100
TZOFFSETTO:+0000
TZNAME:GMT
DTSTART:20241027T010000
END:STANDARD
BEGIN:DAYLIGHT
TZOFFSETFROM:+0000
TZOFFSETTO:+0100
TZNAME:BST
DTSTART:20250330T010000
END:DAYLIGHT
BEGIN:STANDARD
TZOFFSETFROM:+0100
TZOFFSETTO:+0000
TZNAME:GMT
DTSTART:20251026T010000
END:STANDARD
BEGIN:DAYLIGHT
TZOFFSETFROM:+0000
TZOFFSETTO:+0100
TZNAME:BST
DTSTART:20260329T010000
END:DAYLIGHT
BEGIN:STANDARD
TZOFFSETFROM:+0100
TZOFFSETTO:+0000
TZNAME:GMT
DTSTART:20261025T010000
END:STANDARD
END:VTIMEZONE
BEGIN:VEVENT
DTSTART;TZID=Europe/London:20251213T190000
DTEND;TZID=Europe/London:20251213T230000
DTSTAMP:20260422T154757
CREATED:20251120T003244Z
LAST-MODIFIED:20251120T003244Z
UID:10004949-1765652400-1765666800@www.nicensleazy.com
SUMMARY:FIRST LADY - BAR VENUE
DESCRIPTION:Temptation\, the Debut EP from First Lady. Launching at Nice N Sleazy on the 13th of December. \nCelebrate with First Lady\, alongside support from the fantastic Mallet Space and Akapo!!
URL:https://www.nicensleazy.com/event/first-lady-bar-venue
CATEGORIES:Bar,Gig
ATTACH;FMTTYPE=application/pdf:https://www.nicensleazy.com/wp-content/uploads/2025/11/Screenshot-2025-11-20-at-00.30.41.pdf
END:VEVENT
BEGIN:VEVENT
DTSTART;TZID=Europe/London:20251213T230000
DTEND;TZID=Europe/London:20251214T040000
DTSTAMP:20260422T154757
CREATED:20251115T162430Z
LAST-MODIFIED:20251122T214657Z
UID:10004680-1765666800-1765684800@www.nicensleazy.com
SUMMARY:WOLF ALICE - BAR AFTERPARTY
DESCRIPTION:WOLD ALICE AFTERS HOSTED BY JUDE OF SPYRES BAND!\nUPSTAIRS BAR\, 11pm-4am!\nFree entry with your ticket for the gig
URL:https://www.nicensleazy.com/event/carmen-baia-bar-dj
CATEGORIES:Bar,Club
END:VEVENT
BEGIN:VEVENT
DTSTART;TZID=Europe/London:20251213T230000
DTEND;TZID=Europe/London:20251214T040000
DTSTAMP:20260422T154757
CREATED:20251122T220248Z
LAST-MODIFIED:20251122T220248Z
UID:10004959-1765666800-1765684800@www.nicensleazy.com
SUMMARY:JOSH FOSTER - CLUB
DESCRIPTION:EXPECT A HEALTHY MIX OF ELECTRO FUNK/GHETTO HOUSE\nFREE ENTRY BEFORE 11PM
URL:https://www.nicensleazy.com/event/josh-foster-club
CATEGORIES:Basement,Club
END:VEVENT
END:VCALENDAR