BEGIN:VCALENDAR
VERSION:2.0
PRODID:-//NiceNSleazy - ECPv6.15.20//NONSGML v1.0//EN
CALSCALE:GREGORIAN
METHOD:PUBLISH
X-WR-CALNAME:NiceNSleazy
X-ORIGINAL-URL:https://www.nicensleazy.com
X-WR-CALDESC:Events for NiceNSleazy
REFRESH-INTERVAL;VALUE=DURATION:PT1H
X-Robots-Tag:noindex
X-PUBLISHED-TTL:PT1H
BEGIN:VTIMEZONE
TZID:Europe/London
BEGIN:DAYLIGHT
TZOFFSETFROM:+0000
TZOFFSETTO:+0100
TZNAME:BST
DTSTART:20240331T010000
END:DAYLIGHT
BEGIN:STANDARD
TZOFFSETFROM:+0100
TZOFFSETTO:+0000
TZNAME:GMT
DTSTART:20241027T010000
END:STANDARD
BEGIN:DAYLIGHT
TZOFFSETFROM:+0000
TZOFFSETTO:+0100
TZNAME:BST
DTSTART:20250330T010000
END:DAYLIGHT
BEGIN:STANDARD
TZOFFSETFROM:+0100
TZOFFSETTO:+0000
TZNAME:GMT
DTSTART:20251026T010000
END:STANDARD
BEGIN:DAYLIGHT
TZOFFSETFROM:+0000
TZOFFSETTO:+0100
TZNAME:BST
DTSTART:20260329T010000
END:DAYLIGHT
BEGIN:STANDARD
TZOFFSETFROM:+0100
TZOFFSETTO:+0000
TZNAME:GMT
DTSTART:20261025T010000
END:STANDARD
END:VTIMEZONE
BEGIN:VEVENT
DTSTART;TZID=Europe/London:20251209T193000
DTEND;TZID=Europe/London:20251209T230000
DTSTAMP:20260422T155209
CREATED:20251115T164406Z
LAST-MODIFIED:20251115T164406Z
UID:10004682-1765308600-1765321200@www.nicensleazy.com
SUMMARY:MONOLITH PROMOTIONS PRESENTS : HEMLOCK + GUESTS
DESCRIPTION:MONOLITH PROMOTIONS PRESENT:\nHEMLOCK\nTHE SABBATS\nLOST IN TRANSLATION\nREVELATION 23
URL:https://www.nicensleazy.com/event/monolith-promotions-presents-hemlock-guests
CATEGORIES:Basement,Gig
ATTACH;FMTTYPE=image/jpeg:https://www.nicensleazy.com/wp-content/uploads/2025/11/Screenshot-2025-11-15-at-16.38.23.jpeg
END:VEVENT
BEGIN:VEVENT
DTSTART;TZID=Europe/London:20251209T230000
DTEND;TZID=Europe/London:20251210T030000
DTSTAMP:20260422T155209
CREATED:20251122T213523Z
LAST-MODIFIED:20251122T213549Z
UID:10004956-1765321200-1765335600@www.nicensleazy.com
SUMMARY:DARKERR - CLUB
DESCRIPTION:DARKERR FM ALL NIGHT LONG \ngroovy techno\, hypnotic\, minimal \nFREE ENTRY
URL:https://www.nicensleazy.com/event/darkerr-club/2025-12-09
CATEGORIES:Basement,Club
ATTACH;FMTTYPE=image/jpeg:https://www.nicensleazy.com/wp-content/uploads/2025/11/unnamed-5.jpg
END:VEVENT
END:VCALENDAR