BEGIN:VCALENDAR
VERSION:2.0
PRODID:-//NiceNSleazy - ECPv6.15.20//NONSGML v1.0//EN
CALSCALE:GREGORIAN
METHOD:PUBLISH
X-WR-CALNAME:NiceNSleazy
X-ORIGINAL-URL:https://www.nicensleazy.com
X-WR-CALDESC:Events for NiceNSleazy
REFRESH-INTERVAL;VALUE=DURATION:PT1H
X-Robots-Tag:noindex
X-PUBLISHED-TTL:PT1H
BEGIN:VTIMEZONE
TZID:Europe/London
BEGIN:DAYLIGHT
TZOFFSETFROM:+0000
TZOFFSETTO:+0100
TZNAME:BST
DTSTART:20240331T010000
END:DAYLIGHT
BEGIN:STANDARD
TZOFFSETFROM:+0100
TZOFFSETTO:+0000
TZNAME:GMT
DTSTART:20241027T010000
END:STANDARD
BEGIN:DAYLIGHT
TZOFFSETFROM:+0000
TZOFFSETTO:+0100
TZNAME:BST
DTSTART:20250330T010000
END:DAYLIGHT
BEGIN:STANDARD
TZOFFSETFROM:+0100
TZOFFSETTO:+0000
TZNAME:GMT
DTSTART:20251026T010000
END:STANDARD
BEGIN:DAYLIGHT
TZOFFSETFROM:+0000
TZOFFSETTO:+0100
TZNAME:BST
DTSTART:20260329T010000
END:DAYLIGHT
BEGIN:STANDARD
TZOFFSETFROM:+0100
TZOFFSETTO:+0000
TZNAME:GMT
DTSTART:20261025T010000
END:STANDARD
END:VTIMEZONE
BEGIN:VEVENT
DTSTART;TZID=Europe/London:20251208T073000
DTEND;TZID=Europe/London:20251208T230000
DTSTAMP:20260424T113355
CREATED:20251115T145507Z
LAST-MODIFIED:20251115T145507Z
UID:10004675-1765179000-1765234800@www.nicensleazy.com
SUMMARY:PLEASE LAUGH - COMEDY NIGHT
DESCRIPTION:ANOTHER INSTALMENT OF PLEASE LAUGH – A COMEDY NIGHT HOSTED BY CAITLIN CONNOR
URL:https://www.nicensleazy.com/event/please-laugh-comedy-night
CATEGORIES:Basement,Gig
ATTACH;FMTTYPE=image/png:https://www.nicensleazy.com/wp-content/uploads/2025/11/Screenshot-2025-11-15-at-14.51.47.png
END:VEVENT
BEGIN:VEVENT
DTSTART;TZID=Europe/London:20251208T230000
DTEND;TZID=Europe/London:20251209T030000
DTSTAMP:20260424T113355
CREATED:20251119T234406Z
LAST-MODIFIED:20251119T234406Z
UID:10004687-1765234800-1765249200@www.nicensleazy.com
SUMMARY:MAZZA MONDAYS
DESCRIPTION:COME SING US A TUNE!\nEVERY MONDAY 11-3AM\, HOSTED BY THE ONE AND ONLY MAZZA
URL:https://www.nicensleazy.com/event/mazza-mondays/2025-12-08
CATEGORIES:Bar
ATTACH;FMTTYPE=image/jpeg:https://www.nicensleazy.com/wp-content/uploads/2025/11/MAZZA-Instagram-Post-45.jpg
END:VEVENT
END:VCALENDAR