BEGIN:VCALENDAR
VERSION:2.0
PRODID:-//NiceNSleazy - ECPv6.15.20//NONSGML v1.0//EN
CALSCALE:GREGORIAN
METHOD:PUBLISH
X-WR-CALNAME:NiceNSleazy
X-ORIGINAL-URL:https://www.nicensleazy.com
X-WR-CALDESC:Events for NiceNSleazy
REFRESH-INTERVAL;VALUE=DURATION:PT1H
X-Robots-Tag:noindex
X-PUBLISHED-TTL:PT1H
BEGIN:VTIMEZONE
TZID:Europe/London
BEGIN:DAYLIGHT
TZOFFSETFROM:+0000
TZOFFSETTO:+0100
TZNAME:BST
DTSTART:20240331T010000
END:DAYLIGHT
BEGIN:STANDARD
TZOFFSETFROM:+0100
TZOFFSETTO:+0000
TZNAME:GMT
DTSTART:20241027T010000
END:STANDARD
BEGIN:DAYLIGHT
TZOFFSETFROM:+0000
TZOFFSETTO:+0100
TZNAME:BST
DTSTART:20250330T010000
END:DAYLIGHT
BEGIN:STANDARD
TZOFFSETFROM:+0100
TZOFFSETTO:+0000
TZNAME:GMT
DTSTART:20251026T010000
END:STANDARD
BEGIN:DAYLIGHT
TZOFFSETFROM:+0000
TZOFFSETTO:+0100
TZNAME:BST
DTSTART:20260329T010000
END:DAYLIGHT
BEGIN:STANDARD
TZOFFSETFROM:+0100
TZOFFSETTO:+0000
TZNAME:GMT
DTSTART:20261025T010000
END:STANDARD
END:VTIMEZONE
BEGIN:VEVENT
DTSTART;TZID=Europe/London:20251129T230000
DTEND;TZID=Europe/London:20251130T040000
DTSTAMP:20260422T171207
CREATED:20251030T182842Z
LAST-MODIFIED:20251030T182842Z
UID:10004653-1764457200-1764475200@www.nicensleazy.com
SUMMARY:BAR DJ  - JO-HANN
DESCRIPTION:Jo-Hann is a Glasgow-based musician and producer\, influenced by the sounds of UK dubstep\, breakbeat\, garage\, electro and jazz. \nA long-time instrumentalist\, he often incorporates live elements into his tracks and performances. His sets offer a selection of alternative dance music featuring scattered original tunes. \nWe are buzzing to have him soundtracking the car this November!
URL:https://www.nicensleazy.com/event/bar-dj-jo-hann
CATEGORIES:Bar,Club
ATTACH;FMTTYPE=image/jpeg:https://www.nicensleazy.com/wp-content/uploads/2025/10/0037442332_21.jpg
END:VEVENT
BEGIN:VEVENT
DTSTART;TZID=Europe/London:20251129T230000
DTEND;TZID=Europe/London:20251130T040000
DTSTAMP:20260422T171207
CREATED:20251112T191034Z
LAST-MODIFIED:20251112T191034Z
UID:10004658-1764457200-1764475200@www.nicensleazy.com
SUMMARY:CLUB- SHAKA LOVES YOU
DESCRIPTION:Join us for the “Joints n’ Jams” compilation launch party with Shaka Loves You. \nShaka Loves You are back with the third volume of the much-loved Joint n’ Jams series. Staying true to the spirit of their syndicated radio shows\, the Glasgow duo dig deep into the intersection of Funk\, Disco\, and House\, curating a selection that perfectly captures their sound. \nWith recent no.1s under their belt and support on stations such as BBC Radio 1 and Glitterbox Radio\, SLY are riding a wave of momentum while keeping their focus firmly on the dancefloor. This latest instalment captures that energy\, placing together exclusive new tracks from the duo alongside music from Illyus & Barrientos\, Young Pulse\, Moodeena\, Art of Tones\, Lindstrøm\, Hotmood\, Dombrance\, Ray Mang\, and many more. \nThis event is not to be missed!
URL:https://www.nicensleazy.com/event/club-shaka-loves-you-8
CATEGORIES:Basement,Club
ATTACH;FMTTYPE=image/jpeg:https://www.nicensleazy.com/wp-content/uploads/2025/11/WhatsApp-Image-2025-11-10-at-17.35.29-1.jpeg
END:VEVENT
END:VCALENDAR