BEGIN:VCALENDAR
VERSION:2.0
PRODID:-//NiceNSleazy - ECPv6.15.20//NONSGML v1.0//EN
CALSCALE:GREGORIAN
METHOD:PUBLISH
X-WR-CALNAME:NiceNSleazy
X-ORIGINAL-URL:https://www.nicensleazy.com
X-WR-CALDESC:Events for NiceNSleazy
REFRESH-INTERVAL;VALUE=DURATION:PT1H
X-Robots-Tag:noindex
X-PUBLISHED-TTL:PT1H
BEGIN:VTIMEZONE
TZID:Europe/London
BEGIN:DAYLIGHT
TZOFFSETFROM:+0000
TZOFFSETTO:+0100
TZNAME:BST
DTSTART:20240331T010000
END:DAYLIGHT
BEGIN:STANDARD
TZOFFSETFROM:+0100
TZOFFSETTO:+0000
TZNAME:GMT
DTSTART:20241027T010000
END:STANDARD
BEGIN:DAYLIGHT
TZOFFSETFROM:+0000
TZOFFSETTO:+0100
TZNAME:BST
DTSTART:20250330T010000
END:DAYLIGHT
BEGIN:STANDARD
TZOFFSETFROM:+0100
TZOFFSETTO:+0000
TZNAME:GMT
DTSTART:20251026T010000
END:STANDARD
BEGIN:DAYLIGHT
TZOFFSETFROM:+0000
TZOFFSETTO:+0100
TZNAME:BST
DTSTART:20260329T010000
END:DAYLIGHT
BEGIN:STANDARD
TZOFFSETFROM:+0100
TZOFFSETTO:+0000
TZNAME:GMT
DTSTART:20261025T010000
END:STANDARD
END:VTIMEZONE
BEGIN:VEVENT
DTSTART;TZID=Europe/London:20251121T230000
DTEND;TZID=Europe/London:20251122T030000
DTSTAMP:20260422T171234
CREATED:20251030T174010Z
LAST-MODIFIED:20251030T174010Z
UID:10004646-1763766000-1763780400@www.nicensleazy.com
SUMMARY:DJ UNCOMFORTABLE
DESCRIPTION:Come and join DJ Uncomfortable for a final showdown! There’ll be house\, there’ll be funk and maybe even a little junglist action in the mix. \nSlink downstairs to forget your cares and dance into the wee hours with your pals
URL:https://www.nicensleazy.com/event/dj-uncomfortable
CATEGORIES:Basement,Club
ATTACH;FMTTYPE=image/jpeg:https://www.nicensleazy.com/wp-content/uploads/2025/10/DJ-Uncomfortable.jpg
END:VEVENT
BEGIN:VEVENT
DTSTART;TZID=Europe/London:20251121T230000
DTEND;TZID=Europe/London:20251122T030000
DTSTAMP:20260422T171234
CREATED:20251030T181116Z
LAST-MODIFIED:20251030T181116Z
UID:10004651-1763766000-1763780400@www.nicensleazy.com
SUMMARY:BAR DJ - JOYSTEALER
DESCRIPTION:DJ JOYSTEALER from @mercygirlband will be spinning the tunes on Friday 21st of November!!
URL:https://www.nicensleazy.com/event/bar-dj-joystealer
CATEGORIES:Bar,Club
END:VEVENT
END:VCALENDAR