BEGIN:VCALENDAR
VERSION:2.0
PRODID:-//NiceNSleazy - ECPv6.15.20//NONSGML v1.0//EN
CALSCALE:GREGORIAN
METHOD:PUBLISH
X-WR-CALNAME:NiceNSleazy
X-ORIGINAL-URL:https://www.nicensleazy.com
X-WR-CALDESC:Events for NiceNSleazy
REFRESH-INTERVAL;VALUE=DURATION:PT1H
X-Robots-Tag:noindex
X-PUBLISHED-TTL:PT1H
BEGIN:VTIMEZONE
TZID:Europe/London
BEGIN:DAYLIGHT
TZOFFSETFROM:+0000
TZOFFSETTO:+0100
TZNAME:BST
DTSTART:20240331T010000
END:DAYLIGHT
BEGIN:STANDARD
TZOFFSETFROM:+0100
TZOFFSETTO:+0000
TZNAME:GMT
DTSTART:20241027T010000
END:STANDARD
BEGIN:DAYLIGHT
TZOFFSETFROM:+0000
TZOFFSETTO:+0100
TZNAME:BST
DTSTART:20250330T010000
END:DAYLIGHT
BEGIN:STANDARD
TZOFFSETFROM:+0100
TZOFFSETTO:+0000
TZNAME:GMT
DTSTART:20251026T010000
END:STANDARD
BEGIN:DAYLIGHT
TZOFFSETFROM:+0000
TZOFFSETTO:+0100
TZNAME:BST
DTSTART:20260329T010000
END:DAYLIGHT
BEGIN:STANDARD
TZOFFSETFROM:+0100
TZOFFSETTO:+0000
TZNAME:GMT
DTSTART:20261025T010000
END:STANDARD
END:VTIMEZONE
BEGIN:VEVENT
DTSTART;TZID=Europe/London:20251031T230000
DTEND;TZID=Europe/London:20251101T040000
DTSTAMP:20260422T171203
CREATED:20251012T221556Z
LAST-MODIFIED:20251018T142740Z
UID:10004310-1761951600-1761969600@www.nicensleazy.com
SUMMARY:SUZIE MAC AND FRIENDS: HALLOWEEN SPECIAL - CLUB
DESCRIPTION:Miss Suzie Mac takes over the basement for a skin-crawling Halloween special!\nbangers/electronic/house/techno all night long
URL:https://www.nicensleazy.com/event/susie-mac-and-friends-halloween-special
CATEGORIES:Basement,Club
ATTACH;FMTTYPE=image/jpeg:https://www.nicensleazy.com/wp-content/uploads/2025/10/NiceNSleazy_Square-Format_INSTA-FINAL-scaled.jpg
END:VEVENT
BEGIN:VEVENT
DTSTART;TZID=Europe/London:20251031T230000
DTEND;TZID=Europe/London:20251101T040000
DTSTAMP:20260422T171203
CREATED:20251012T222240Z
LAST-MODIFIED:20251018T142853Z
UID:10004311-1761951600-1761969600@www.nicensleazy.com
SUMMARY:FRASER BONE: HALLOWEEN SPECIAL - BAR
DESCRIPTION:FRASER BONE… AKA PEARL NECKLACE is a fun flirty & fluid DJ & creative who has been tearing up the Scottish queer scene for over a decade.\nexpect themes of vogue // ballroom // house // pop // hip hop // queer shit \,\, but perhaps a little spookier
URL:https://www.nicensleazy.com/event/fraser-bone-halloween-special-bar
CATEGORIES:Bar,Club
ATTACH;FMTTYPE=image/jpeg:https://www.nicensleazy.com/wp-content/uploads/2025/10/NiceNSleazy_Square-Format_INSTA-FINAL-scaled.jpg
END:VEVENT
END:VCALENDAR