BEGIN:VCALENDAR
VERSION:2.0
PRODID:-//NiceNSleazy - ECPv6.15.20//NONSGML v1.0//EN
CALSCALE:GREGORIAN
METHOD:PUBLISH
X-WR-CALNAME:NiceNSleazy
X-ORIGINAL-URL:https://www.nicensleazy.com
X-WR-CALDESC:Events for NiceNSleazy
REFRESH-INTERVAL;VALUE=DURATION:PT1H
X-Robots-Tag:noindex
X-PUBLISHED-TTL:PT1H
BEGIN:VTIMEZONE
TZID:Europe/London
BEGIN:DAYLIGHT
TZOFFSETFROM:+0000
TZOFFSETTO:+0100
TZNAME:BST
DTSTART:20240331T010000
END:DAYLIGHT
BEGIN:STANDARD
TZOFFSETFROM:+0100
TZOFFSETTO:+0000
TZNAME:GMT
DTSTART:20241027T010000
END:STANDARD
BEGIN:DAYLIGHT
TZOFFSETFROM:+0000
TZOFFSETTO:+0100
TZNAME:BST
DTSTART:20250330T010000
END:DAYLIGHT
BEGIN:STANDARD
TZOFFSETFROM:+0100
TZOFFSETTO:+0000
TZNAME:GMT
DTSTART:20251026T010000
END:STANDARD
BEGIN:DAYLIGHT
TZOFFSETFROM:+0000
TZOFFSETTO:+0100
TZNAME:BST
DTSTART:20260329T010000
END:DAYLIGHT
BEGIN:STANDARD
TZOFFSETFROM:+0100
TZOFFSETTO:+0000
TZNAME:GMT
DTSTART:20261025T010000
END:STANDARD
END:VTIMEZONE
BEGIN:VEVENT
DTSTART;TZID=Europe/London:20251030T180000
DTEND;TZID=Europe/London:20251030T230000
DTSTAMP:20260422T184601
CREATED:20251012T144220Z
LAST-MODIFIED:20251012T220338Z
UID:10004307-1761847200-1761865200@www.nicensleazy.com
SUMMARY:GIG BROTHER'S HALLOWEEN PARTY - UPSTAIRS
DESCRIPTION:GIG BROTHER HAVE RISEN FROM THE DEAD\, AND ARE BACK WITH A VENGEANCE… \nJUST IN TIME FOR HALLOWEEN!!!!! 🎃 \nTheir annual Halloween party has returned to Sleazy’s (Upstairs/ Bar Venue). \nOn the lineup\, they have:\nBig Girl’s Blouse\nOedipus & the Mama’s Boys\nGuevara\nDownpour \nIt’s gonna be spooky… Very spooky!!!! \nAs always\, costumes are mandatory. \n🔞 18+ only
URL:https://www.nicensleazy.com/event/big-girls-blouse-gig
CATEGORIES:Bar,Gig
ATTACH;FMTTYPE=image/png:https://www.nicensleazy.com/wp-content/uploads/2025/10/Screenshot-2025-10-11-at-17.01.40.png
END:VEVENT
BEGIN:VEVENT
DTSTART;TZID=Europe/London:20251030T230000
DTEND;TZID=Europe/London:20251031T020000
DTSTAMP:20260422T184601
CREATED:20241125T225609Z
LAST-MODIFIED:20250513T204235Z
UID:10001877-1761865200-1761876000@www.nicensleazy.com
SUMMARY:TRAD THURSDAYS
DESCRIPTION:11PM-2AM EVERY THURSDAY \nBrought to you by our resident Trad band! \nAn assortment of knee-slapping traditional Scottish music\, with a few covers here and there. \nCome along just to listen\, or feel free to play – all are welcome to the session!
URL:https://www.nicensleazy.com/event/trad-thursdays-62/2025-10-30
CATEGORIES:Bar,Gig
ATTACH;FMTTYPE=image/png:https://www.nicensleazy.com/wp-content/uploads/2024/11/Screenshot-2025-05-13-at-21.38.54.png
END:VEVENT
END:VCALENDAR