BEGIN:VCALENDAR
VERSION:2.0
PRODID:-//NiceNSleazy - ECPv6.15.20//NONSGML v1.0//EN
CALSCALE:GREGORIAN
METHOD:PUBLISH
X-ORIGINAL-URL:https://www.nicensleazy.com
X-WR-CALDESC:Events for NiceNSleazy
REFRESH-INTERVAL;VALUE=DURATION:PT1H
X-Robots-Tag:noindex
X-PUBLISHED-TTL:PT1H
BEGIN:VTIMEZONE
TZID:Europe/London
BEGIN:DAYLIGHT
TZOFFSETFROM:+0000
TZOFFSETTO:+0100
TZNAME:BST
DTSTART:20230326T010000
END:DAYLIGHT
BEGIN:STANDARD
TZOFFSETFROM:+0100
TZOFFSETTO:+0000
TZNAME:GMT
DTSTART:20231029T010000
END:STANDARD
BEGIN:DAYLIGHT
TZOFFSETFROM:+0000
TZOFFSETTO:+0100
TZNAME:BST
DTSTART:20240331T010000
END:DAYLIGHT
BEGIN:STANDARD
TZOFFSETFROM:+0100
TZOFFSETTO:+0000
TZNAME:GMT
DTSTART:20241027T010000
END:STANDARD
BEGIN:DAYLIGHT
TZOFFSETFROM:+0000
TZOFFSETTO:+0100
TZNAME:BST
DTSTART:20250330T010000
END:DAYLIGHT
BEGIN:STANDARD
TZOFFSETFROM:+0100
TZOFFSETTO:+0000
TZNAME:GMT
DTSTART:20251026T010000
END:STANDARD
END:VTIMEZONE
BEGIN:VEVENT
DTSTART;TZID=Europe/London:20240510T230000
DTEND;TZID=Europe/London:20240511T030000
DTSTAMP:20260420T142726
CREATED:20240417T130736Z
LAST-MODIFIED:20240417T130736Z
UID:10000733-1715382000-1715396400@www.nicensleazy.com
SUMMARY:BAR - PEARL NECKLACE
DESCRIPTION:serving an eclectic mix of house\, vogue\, pop & edits for your aural pleasure! expect a wee sprinkle of riot grrrl\, 90s queerness if ya nasty!
URL:https://www.nicensleazy.com/event/bar-pearl-necklace-5
CATEGORIES:Bar,Club
ATTACH;FMTTYPE=image/jpeg:https://www.nicensleazy.com/wp-content/uploads/2023/06/Web-capture_28-6-2023_19957_www.instagram.com_.jpeg
END:VEVENT
BEGIN:VEVENT
DTSTART;TZID=Europe/London:20240510T230000
DTEND;TZID=Europe/London:20240511T030000
DTSTAMP:20260420T142726
CREATED:20240417T133935Z
LAST-MODIFIED:20240429T000304Z
UID:10000742-1715382000-1715396400@www.nicensleazy.com
SUMMARY:CLUB - DOMINO DANCING
DESCRIPTION:Charlotte Tuesday brings her self-proclaimed ‘disco hits\, big tits and hairy pits’ to the Sleazys basement for the next Domino Dancing! \nNever wanting to be pigeonholed into one genre\, Charlotte always brings a load of dancefloor filling tunes from italo\, house and acid to pop edits that she has played all over Glasgow & beyond – at the likes of Berkeley Suite\, Sub Club\, Sneaky Petes and most recently at SWG3 supporting Toy Tonics. Joining Charlotte\, is Domino Dancing resident & producer Dean Munch with another eclectic and high energy set spanning from new wave to electropop to disco.
URL:https://www.nicensleazy.com/event/club-domino-dancing-5
CATEGORIES:Basement,Club
ATTACH;FMTTYPE=image/jpeg:https://www.nicensleazy.com/wp-content/uploads/2024/01/domino-dancing-scaled.jpg
END:VEVENT
END:VCALENDAR