BEGIN:VCALENDAR
VERSION:2.0
PRODID:-//NiceNSleazy - ECPv6.15.20//NONSGML v1.0//EN
CALSCALE:GREGORIAN
METHOD:PUBLISH
X-WR-CALNAME:NiceNSleazy
X-ORIGINAL-URL:https://www.nicensleazy.com
X-WR-CALDESC:Events for NiceNSleazy
REFRESH-INTERVAL;VALUE=DURATION:PT1H
X-Robots-Tag:noindex
X-PUBLISHED-TTL:PT1H
BEGIN:VTIMEZONE
TZID:Europe/London
BEGIN:DAYLIGHT
TZOFFSETFROM:+0000
TZOFFSETTO:+0100
TZNAME:BST
DTSTART:20250330T010000
END:DAYLIGHT
BEGIN:STANDARD
TZOFFSETFROM:+0100
TZOFFSETTO:+0000
TZNAME:GMT
DTSTART:20251026T010000
END:STANDARD
BEGIN:DAYLIGHT
TZOFFSETFROM:+0000
TZOFFSETTO:+0100
TZNAME:BST
DTSTART:20260329T010000
END:DAYLIGHT
BEGIN:STANDARD
TZOFFSETFROM:+0100
TZOFFSETTO:+0000
TZNAME:GMT
DTSTART:20261025T010000
END:STANDARD
BEGIN:DAYLIGHT
TZOFFSETFROM:+0000
TZOFFSETTO:+0100
TZNAME:BST
DTSTART:20270328T010000
END:DAYLIGHT
BEGIN:STANDARD
TZOFFSETFROM:+0100
TZOFFSETTO:+0000
TZNAME:GMT
DTSTART:20271031T010000
END:STANDARD
BEGIN:DAYLIGHT
TZOFFSETFROM:+0000
TZOFFSETTO:+0100
TZNAME:BST
DTSTART:20280326T010000
END:DAYLIGHT
BEGIN:STANDARD
TZOFFSETFROM:+0100
TZOFFSETTO:+0000
TZNAME:GMT
DTSTART:20281029T010000
END:STANDARD
BEGIN:DAYLIGHT
TZOFFSETFROM:+0000
TZOFFSETTO:+0100
TZNAME:BST
DTSTART:20290325T010000
END:DAYLIGHT
BEGIN:STANDARD
TZOFFSETFROM:+0100
TZOFFSETTO:+0000
TZNAME:GMT
DTSTART:20291028T010000
END:STANDARD
END:VTIMEZONE
BEGIN:VEVENT
DTSTART;TZID=Europe/London:20260528T193000
DTEND;TZID=Europe/London:20260528T230000
DTSTAMP:20260421T194947
CREATED:20260407T230429Z
LAST-MODIFIED:20260407T230429Z
UID:10005490-1779996600-1780009200@www.nicensleazy.com
SUMMARY:GIG - CANNED PINEAPPLE
DESCRIPTION:UK indie rockers\, Canned Pineapple headline Glasgow on 28th May 2026 for the first time at Nice N Sleazy’s. The 5 piece from Brighton just released their 2nd EP\, ‘Big Break’ in 2025 to a great reception and have been on the road exporting their brand of Scuzz-pop to venues across the UK ever since.
URL:https://www.nicensleazy.com/event/gig-canned-pineapple
CATEGORIES:Basement,Gig
ATTACH;FMTTYPE=image/webp:https://www.nicensleazy.com/wp-content/uploads/2026/04/17720318725UzJ4jgxYM_big.webp
END:VEVENT
BEGIN:VEVENT
DTSTART;TZID=Europe/London:20260529T190000
DTEND;TZID=Europe/London:20260529T223000
DTSTAMP:20260421T194947
CREATED:20260116T165504Z
LAST-MODIFIED:20260407T230635Z
UID:10005069-1780081200-1780093800@www.nicensleazy.com
SUMMARY:EARLY CLUB - THE ROBYN PARTY
DESCRIPTION:This Party Is Killing You!: The Robyn Party is the original and the longest-lasting night dedicated to the music of Robyn and its euphoria. \n\n\n\n\nADVENTURE[s] presents: This Party Is Killing You!: The Robyn Party \nAs seen in the film for Robyn’s Honey-era launching “Missing U”\, This Party Is Killing You!: The Robyn Party touches down in Glasgow by popular demand for the very first time! \nThe party’s founders\, producers and DJs Russ\, Marley and Chris bring euphoric track after track of your favorites by our favorite Swedish pop star – stuff from her groundbreaking new album Sexistential\, the remixes\, the b-sides\, the lost tracks\, and the hits\, and then more pop by femme faves like Carly\, Charli\, Romy and Gaga\, and then of course…more Robyn. \nHaving brought their glorious and heartfelt night to dancefloors across the globe\, ADVENTURE[s] is finally\, in 2026\, bringing This Party Is Killing You!: The Robyn Party to Glasgow.The party is a testament to the power of Robyn’s masterful pop craft and the bliss of cry-dancing. Come celebrate\, dance\, and understand why more than one party goer has been known to exclaim “The Robyn Party saved my life!”
URL:https://www.nicensleazy.com/event/this-party-is-killing-you-the-robyn-party
CATEGORIES:Basement,Club
ATTACH;FMTTYPE=image/webp:https://www.nicensleazy.com/wp-content/uploads/2026/01/1b6b4077b2b5fd5917eaff56259d62ab8326789a-1545x1999-1.webp
END:VEVENT
BEGIN:VEVENT
DTSTART;TZID=Europe/London:20260530T193000
DTEND;TZID=Europe/London:20260530T223000
DTSTAMP:20260421T194947
CREATED:20260213T111510Z
LAST-MODIFIED:20260407T231031Z
UID:10005366-1780169400-1780180200@www.nicensleazy.com
SUMMARY:GIG - PINS + CHROMA
DESCRIPTION:PCL Presents: PINS \n\nPINS are Faith Vern\, Lois Macdonald\, and Kyoko Swan. Since the release of their debut album Girls Like Us in 2013\, PINS have exuded strength in their danceable\, alternative post-punk transmissions and earned the trust and creative blessings of rock royalty such as Iggy Pop\, as well as peers including Jamie Hince of The Kills.\n2015’s Wild Nights (Bella Union) was recorded and produced at Rancho De La Luna with Dave Catching (Eagles of Death Metal) They toured on both sides of the pond\, including appearances at SXSW and Reading and Leeds and supporting everyone from Sleater-Kinney and Warpaint to Stereophonic and The Subways. \nIn 2017\, they unveiled their Bad Thing EP\, preceded by the single “Aggrophobe” [feat. Iggy Pop]. \n2020 saw the band release their full-length record Hot Slick. The 10-track album found the trio welcoming a rotating cast of collaborators following the departure of the original rhythm section. Rich Woodcraft oversaw the entire project as producer and engineer\, while Jamie Hince and Dean Honer contributed additional production\, Nathan Saoudi of Fat White Family lent his talents on the keys. The resulting album highlights an expanded soundscape with nods to influences such as Suicide and New Order. \n2025 will see the band return to the stage as PINS are set to embark on a highly anticipated UK tour this September to celebrate the 10 year anniversary of their critically acclaimed album Wild Nights.
URL:https://www.nicensleazy.com/event/pcl-presents-pcl
CATEGORIES:Basement,Gig
ATTACH;FMTTYPE=image/jpeg:https://www.nicensleazy.com/wp-content/uploads/2026/02/0e03556c-2f0f-48af-9cc3-ec4bde7a2ec0.jpg
END:VEVENT
BEGIN:VEVENT
DTSTART;TZID=Europe/London:20260601T200000
DTEND;TZID=Europe/London:20260601T230000
DTSTAMP:20260421T194947
CREATED:20241125T200533Z
LAST-MODIFIED:20250514T023452Z
UID:10001522-1780344000-1780354800@www.nicensleazy.com
SUMMARY:OPEN MIC NIGHT WITH GERRY LYONS
DESCRIPTION:Come sing a tune at the longest running Open Mic Night\, going 27 years strong x \nFirst Monday of every month\, 8pm-11pm!\nEveryone welcome\, to perform or just to revel in the talent!
URL:https://www.nicensleazy.com/event/open-mic-night-with-gerry-lyons/2026-06-01
CATEGORIES:Basement,Gig
ATTACH;FMTTYPE=image/png:https://www.nicensleazy.com/wp-content/uploads/2024/11/Screenshot-2025-05-14-at-03.32.04.png
LOCATION:
END:VEVENT
BEGIN:VEVENT
DTSTART;TZID=Europe/London:20260630T193000
DTEND;TZID=Europe/London:20260630T223000
DTSTAMP:20260421T194947
CREATED:20260317T163352Z
LAST-MODIFIED:20260317T163352Z
UID:10005431-1782847800-1782858600@www.nicensleazy.com
SUMMARY:PCL Presents: Good Flying Birds
DESCRIPTION:Tickets – https://www.seetickets.com/event/good-flying-birds/nice-n-sleazy/3617595 \nGood Flying Birds is a jangly\, noisy guitar-pop group from the Midwest\, USA. The project began in December 2023 with a string of 4-track cassette recordings and stop-motion videos uploaded to YouTube under the name “Talulah God\,” accompanied by a chaotic\, GIF-filled website. Over the next few months\, songs were uploaded regularly\, eventually catching the attention of influential punk and DIY label head Martin Meyer. \nIn January 2025\, Talulah’s Tape was released on Rotten Apple\, compiling home recordings from 2020-2024. It showcased a wide-ranging love for independent guitar music\, clever songwriting\, and a charmingly scrappy\, twee-punk aesthetic. The release found immediate underground acclaim\, earning radio play and selling 300 cassettes in under a month. \nRiding the momentum and building a reputation as a dynamic live act\, the group attracted significant label interest\, ultimately signing with Carpark and Smoking Room. Together\, the labels re-released Talulah’s Tape on vinyl and streaming in October 2025. It has since seen glowing reviews from Rolling Stone\, Pitchfork\, Paste\, Bandcamp\, and landed in numerous “Best of 2025” lists. \nTheir sound nods to lo-fi icons like Guided By Voices\, Beat Happening\, DLIMC\, Talulah Gosh\, and The Vaselines\, but carries a singular\, earnest charm. It’s the sound of wide-eyed optimism in a cracked world-rosy cheeks\, a tambourine in hand\, and guitars ringing in all directions.
URL:https://www.nicensleazy.com/event/pcl-presents-good-flying-birds
CATEGORIES:Basement,Gig
ATTACH;FMTTYPE=image/png:https://www.nicensleazy.com/wp-content/uploads/2026/03/Screenshot-2026-03-17-at-16.32.15.png
END:VEVENT
BEGIN:VEVENT
DTSTART;TZID=Europe/London:20260706T200000
DTEND;TZID=Europe/London:20260706T230000
DTSTAMP:20260421T194947
CREATED:20241125T200533Z
LAST-MODIFIED:20250514T023452Z
UID:10001523-1783368000-1783378800@www.nicensleazy.com
SUMMARY:OPEN MIC NIGHT WITH GERRY LYONS
DESCRIPTION:Come sing a tune at the longest running Open Mic Night\, going 27 years strong x \nFirst Monday of every month\, 8pm-11pm!\nEveryone welcome\, to perform or just to revel in the talent!
URL:https://www.nicensleazy.com/event/open-mic-night-with-gerry-lyons/2026-07-06
CATEGORIES:Basement,Gig
ATTACH;FMTTYPE=image/png:https://www.nicensleazy.com/wp-content/uploads/2024/11/Screenshot-2025-05-14-at-03.32.04.png
LOCATION:
END:VEVENT
BEGIN:VEVENT
DTSTART;TZID=Europe/London:20260803T200000
DTEND;TZID=Europe/London:20260803T230000
DTSTAMP:20260421T194947
CREATED:20241125T200533Z
LAST-MODIFIED:20250514T023452Z
UID:10001524-1785787200-1785798000@www.nicensleazy.com
SUMMARY:OPEN MIC NIGHT WITH GERRY LYONS
DESCRIPTION:Come sing a tune at the longest running Open Mic Night\, going 27 years strong x \nFirst Monday of every month\, 8pm-11pm!\nEveryone welcome\, to perform or just to revel in the talent!
URL:https://www.nicensleazy.com/event/open-mic-night-with-gerry-lyons/2026-08-03
CATEGORIES:Basement,Gig
ATTACH;FMTTYPE=image/png:https://www.nicensleazy.com/wp-content/uploads/2024/11/Screenshot-2025-05-14-at-03.32.04.png
LOCATION:
END:VEVENT
BEGIN:VEVENT
DTSTART;TZID=Europe/London:20260907T200000
DTEND;TZID=Europe/London:20260907T230000
DTSTAMP:20260421T194947
CREATED:20241125T200533Z
LAST-MODIFIED:20250514T023452Z
UID:10001525-1788811200-1788822000@www.nicensleazy.com
SUMMARY:OPEN MIC NIGHT WITH GERRY LYONS
DESCRIPTION:Come sing a tune at the longest running Open Mic Night\, going 27 years strong x \nFirst Monday of every month\, 8pm-11pm!\nEveryone welcome\, to perform or just to revel in the talent!
URL:https://www.nicensleazy.com/event/open-mic-night-with-gerry-lyons/2026-09-07
CATEGORIES:Basement,Gig
ATTACH;FMTTYPE=image/png:https://www.nicensleazy.com/wp-content/uploads/2024/11/Screenshot-2025-05-14-at-03.32.04.png
LOCATION:
END:VEVENT
BEGIN:VEVENT
DTSTART;TZID=Europe/London:20261005T200000
DTEND;TZID=Europe/London:20261005T230000
DTSTAMP:20260421T194947
CREATED:20241125T200533Z
LAST-MODIFIED:20250514T023452Z
UID:10001526-1791230400-1791241200@www.nicensleazy.com
SUMMARY:OPEN MIC NIGHT WITH GERRY LYONS
DESCRIPTION:Come sing a tune at the longest running Open Mic Night\, going 27 years strong x \nFirst Monday of every month\, 8pm-11pm!\nEveryone welcome\, to perform or just to revel in the talent!
URL:https://www.nicensleazy.com/event/open-mic-night-with-gerry-lyons/2026-10-05
CATEGORIES:Basement,Gig
ATTACH;FMTTYPE=image/png:https://www.nicensleazy.com/wp-content/uploads/2024/11/Screenshot-2025-05-14-at-03.32.04.png
LOCATION:
END:VEVENT
BEGIN:VEVENT
DTSTART;TZID=Europe/London:20261017T193000
DTEND;TZID=Europe/London:20261017T223000
DTSTAMP:20260421T194947
CREATED:20260302T160753Z
LAST-MODIFIED:20260303T125457Z
UID:10005408-1792265400-1792276200@www.nicensleazy.com
SUMMARY:Lungs: Performing The Music Of Florence + The Machine
DESCRIPTION:Lungs – Performing The Music of Florence + Machine capture the soaring vocals\, dramatic rhythms\, and emotional intensity that define Florence Welch’s iconic music. \nFrom euphoric anthems to haunting ballads\, expect a powerful live performance that celebrates the spirit\, style\, and soul of one of modern music’s most distinctive artists. \nhttps://wegottickets.com/exepresents
URL:https://www.nicensleazy.com/event/lungs-performing-the-music-of-florence-the-machine
CATEGORIES:Basement,Gig
END:VEVENT
BEGIN:VEVENT
DTSTART;TZID=Europe/London:20261030T193000
DTEND;TZID=Europe/London:20261030T223000
DTSTAMP:20260421T194947
CREATED:20260213T171207Z
LAST-MODIFIED:20260213T171207Z
UID:10005368-1793388600-1793399400@www.nicensleazy.com
SUMMARY:WHEEZER (A Tribute To Weezer)
DESCRIPTION:Celebrating 30 Years of Weezer’s Pinkerton. \nGlasgow – Get ready for a night of distorted guitars\, huge choruses\, and pure 90s alt-rock nostalgia as Wheezer the ultimate Weezer tribute band\, headline Nice N Sleazy for a special show celebrating 30 years of the legendary album Pinkerton. \nExpect a high-energy set packed with Pinkerton classics like El Scorcho\, The Good Life\, Pink Triangle and more — plus a stack of fan favourites from across Weezer’s career. \nCome join us for one of alternative rock’s most iconic albums live in Glasgow. \nTickets – www.nicensleazy.com | www.WeGotTickets.com/exepresents | 16+
URL:https://www.nicensleazy.com/event/wheezer-a-tribute-to-weezer
CATEGORIES:Basement,Gig
END:VEVENT
BEGIN:VEVENT
DTSTART;TZID=Europe/London:20261102T200000
DTEND;TZID=Europe/London:20261102T230000
DTSTAMP:20260421T194947
CREATED:20241125T200533Z
LAST-MODIFIED:20250514T023452Z
UID:10001527-1793649600-1793660400@www.nicensleazy.com
SUMMARY:OPEN MIC NIGHT WITH GERRY LYONS
DESCRIPTION:Come sing a tune at the longest running Open Mic Night\, going 27 years strong x \nFirst Monday of every month\, 8pm-11pm!\nEveryone welcome\, to perform or just to revel in the talent!
URL:https://www.nicensleazy.com/event/open-mic-night-with-gerry-lyons/2026-11-02
CATEGORIES:Basement,Gig
ATTACH;FMTTYPE=image/png:https://www.nicensleazy.com/wp-content/uploads/2024/11/Screenshot-2025-05-14-at-03.32.04.png
LOCATION:
END:VEVENT
BEGIN:VEVENT
DTSTART;TZID=Europe/London:20261207T200000
DTEND;TZID=Europe/London:20261207T230000
DTSTAMP:20260421T194947
CREATED:20241125T200533Z
LAST-MODIFIED:20250514T023452Z
UID:10001528-1796673600-1796684400@www.nicensleazy.com
SUMMARY:OPEN MIC NIGHT WITH GERRY LYONS
DESCRIPTION:Come sing a tune at the longest running Open Mic Night\, going 27 years strong x \nFirst Monday of every month\, 8pm-11pm!\nEveryone welcome\, to perform or just to revel in the talent!
URL:https://www.nicensleazy.com/event/open-mic-night-with-gerry-lyons/2026-12-07
CATEGORIES:Basement,Gig
ATTACH;FMTTYPE=image/png:https://www.nicensleazy.com/wp-content/uploads/2024/11/Screenshot-2025-05-14-at-03.32.04.png
LOCATION:
END:VEVENT
BEGIN:VEVENT
DTSTART;TZID=Europe/London:20270104T200000
DTEND;TZID=Europe/London:20270104T230000
DTSTAMP:20260421T194947
CREATED:20241125T200533Z
LAST-MODIFIED:20250514T023452Z
UID:10001529-1799092800-1799103600@www.nicensleazy.com
SUMMARY:OPEN MIC NIGHT WITH GERRY LYONS
DESCRIPTION:Come sing a tune at the longest running Open Mic Night\, going 27 years strong x \nFirst Monday of every month\, 8pm-11pm!\nEveryone welcome\, to perform or just to revel in the talent!
URL:https://www.nicensleazy.com/event/open-mic-night-with-gerry-lyons/2027-01-04
CATEGORIES:Basement,Gig
ATTACH;FMTTYPE=image/png:https://www.nicensleazy.com/wp-content/uploads/2024/11/Screenshot-2025-05-14-at-03.32.04.png
LOCATION:
END:VEVENT
BEGIN:VEVENT
DTSTART;TZID=Europe/London:20270201T200000
DTEND;TZID=Europe/London:20270201T230000
DTSTAMP:20260421T194947
CREATED:20241125T200533Z
LAST-MODIFIED:20250514T023452Z
UID:10001530-1801512000-1801522800@www.nicensleazy.com
SUMMARY:OPEN MIC NIGHT WITH GERRY LYONS
DESCRIPTION:Come sing a tune at the longest running Open Mic Night\, going 27 years strong x \nFirst Monday of every month\, 8pm-11pm!\nEveryone welcome\, to perform or just to revel in the talent!
URL:https://www.nicensleazy.com/event/open-mic-night-with-gerry-lyons/2027-02-01
CATEGORIES:Basement,Gig
ATTACH;FMTTYPE=image/png:https://www.nicensleazy.com/wp-content/uploads/2024/11/Screenshot-2025-05-14-at-03.32.04.png
LOCATION:
END:VEVENT
BEGIN:VEVENT
DTSTART;TZID=Europe/London:20270301T200000
DTEND;TZID=Europe/London:20270301T230000
DTSTAMP:20260421T194947
CREATED:20241125T200533Z
LAST-MODIFIED:20250514T023452Z
UID:10001531-1803931200-1803942000@www.nicensleazy.com
SUMMARY:OPEN MIC NIGHT WITH GERRY LYONS
DESCRIPTION:Come sing a tune at the longest running Open Mic Night\, going 27 years strong x \nFirst Monday of every month\, 8pm-11pm!\nEveryone welcome\, to perform or just to revel in the talent!
URL:https://www.nicensleazy.com/event/open-mic-night-with-gerry-lyons/2027-03-01
CATEGORIES:Basement,Gig
ATTACH;FMTTYPE=image/png:https://www.nicensleazy.com/wp-content/uploads/2024/11/Screenshot-2025-05-14-at-03.32.04.png
LOCATION:
END:VEVENT
BEGIN:VEVENT
DTSTART;TZID=Europe/London:20270405T200000
DTEND;TZID=Europe/London:20270405T230000
DTSTAMP:20260421T194947
CREATED:20241125T200533Z
LAST-MODIFIED:20250514T023452Z
UID:10001532-1806955200-1806966000@www.nicensleazy.com
SUMMARY:OPEN MIC NIGHT WITH GERRY LYONS
DESCRIPTION:Come sing a tune at the longest running Open Mic Night\, going 27 years strong x \nFirst Monday of every month\, 8pm-11pm!\nEveryone welcome\, to perform or just to revel in the talent!
URL:https://www.nicensleazy.com/event/open-mic-night-with-gerry-lyons/2027-04-05
CATEGORIES:Basement,Gig
ATTACH;FMTTYPE=image/png:https://www.nicensleazy.com/wp-content/uploads/2024/11/Screenshot-2025-05-14-at-03.32.04.png
LOCATION:
END:VEVENT
BEGIN:VEVENT
DTSTART;TZID=Europe/London:20270503T200000
DTEND;TZID=Europe/London:20270503T230000
DTSTAMP:20260421T194947
CREATED:20241125T200533Z
LAST-MODIFIED:20250514T023452Z
UID:10001533-1809374400-1809385200@www.nicensleazy.com
SUMMARY:OPEN MIC NIGHT WITH GERRY LYONS
DESCRIPTION:Come sing a tune at the longest running Open Mic Night\, going 27 years strong x \nFirst Monday of every month\, 8pm-11pm!\nEveryone welcome\, to perform or just to revel in the talent!
URL:https://www.nicensleazy.com/event/open-mic-night-with-gerry-lyons/2027-05-03
CATEGORIES:Basement,Gig
ATTACH;FMTTYPE=image/png:https://www.nicensleazy.com/wp-content/uploads/2024/11/Screenshot-2025-05-14-at-03.32.04.png
LOCATION:
END:VEVENT
BEGIN:VEVENT
DTSTART;TZID=Europe/London:20270607T200000
DTEND;TZID=Europe/London:20270607T230000
DTSTAMP:20260421T194947
CREATED:20241125T200533Z
LAST-MODIFIED:20250514T023452Z
UID:10001534-1812398400-1812409200@www.nicensleazy.com
SUMMARY:OPEN MIC NIGHT WITH GERRY LYONS
DESCRIPTION:Come sing a tune at the longest running Open Mic Night\, going 27 years strong x \nFirst Monday of every month\, 8pm-11pm!\nEveryone welcome\, to perform or just to revel in the talent!
URL:https://www.nicensleazy.com/event/open-mic-night-with-gerry-lyons/2027-06-07
CATEGORIES:Basement,Gig
ATTACH;FMTTYPE=image/png:https://www.nicensleazy.com/wp-content/uploads/2024/11/Screenshot-2025-05-14-at-03.32.04.png
LOCATION:
END:VEVENT
BEGIN:VEVENT
DTSTART;TZID=Europe/London:20270705T200000
DTEND;TZID=Europe/London:20270705T230000
DTSTAMP:20260421T194947
CREATED:20241125T200533Z
LAST-MODIFIED:20250514T023452Z
UID:10001535-1814817600-1814828400@www.nicensleazy.com
SUMMARY:OPEN MIC NIGHT WITH GERRY LYONS
DESCRIPTION:Come sing a tune at the longest running Open Mic Night\, going 27 years strong x \nFirst Monday of every month\, 8pm-11pm!\nEveryone welcome\, to perform or just to revel in the talent!
URL:https://www.nicensleazy.com/event/open-mic-night-with-gerry-lyons/2027-07-05
CATEGORIES:Basement,Gig
ATTACH;FMTTYPE=image/png:https://www.nicensleazy.com/wp-content/uploads/2024/11/Screenshot-2025-05-14-at-03.32.04.png
LOCATION:
END:VEVENT
BEGIN:VEVENT
DTSTART;TZID=Europe/London:20270802T200000
DTEND;TZID=Europe/London:20270802T230000
DTSTAMP:20260421T194947
CREATED:20241125T200533Z
LAST-MODIFIED:20250514T023452Z
UID:10001536-1817236800-1817247600@www.nicensleazy.com
SUMMARY:OPEN MIC NIGHT WITH GERRY LYONS
DESCRIPTION:Come sing a tune at the longest running Open Mic Night\, going 27 years strong x \nFirst Monday of every month\, 8pm-11pm!\nEveryone welcome\, to perform or just to revel in the talent!
URL:https://www.nicensleazy.com/event/open-mic-night-with-gerry-lyons/2027-08-02
CATEGORIES:Basement,Gig
ATTACH;FMTTYPE=image/png:https://www.nicensleazy.com/wp-content/uploads/2024/11/Screenshot-2025-05-14-at-03.32.04.png
LOCATION:
END:VEVENT
BEGIN:VEVENT
DTSTART;TZID=Europe/London:20270906T200000
DTEND;TZID=Europe/London:20270906T230000
DTSTAMP:20260421T194947
CREATED:20241125T200533Z
LAST-MODIFIED:20250514T023452Z
UID:10001537-1820260800-1820271600@www.nicensleazy.com
SUMMARY:OPEN MIC NIGHT WITH GERRY LYONS
DESCRIPTION:Come sing a tune at the longest running Open Mic Night\, going 27 years strong x \nFirst Monday of every month\, 8pm-11pm!\nEveryone welcome\, to perform or just to revel in the talent!
URL:https://www.nicensleazy.com/event/open-mic-night-with-gerry-lyons/2027-09-06
CATEGORIES:Basement,Gig
ATTACH;FMTTYPE=image/png:https://www.nicensleazy.com/wp-content/uploads/2024/11/Screenshot-2025-05-14-at-03.32.04.png
LOCATION:
END:VEVENT
BEGIN:VEVENT
DTSTART;TZID=Europe/London:20271004T200000
DTEND;TZID=Europe/London:20271004T230000
DTSTAMP:20260421T194948
CREATED:20241125T200533Z
LAST-MODIFIED:20250514T023452Z
UID:10001538-1822680000-1822690800@www.nicensleazy.com
SUMMARY:OPEN MIC NIGHT WITH GERRY LYONS
DESCRIPTION:Come sing a tune at the longest running Open Mic Night\, going 27 years strong x \nFirst Monday of every month\, 8pm-11pm!\nEveryone welcome\, to perform or just to revel in the talent!
URL:https://www.nicensleazy.com/event/open-mic-night-with-gerry-lyons/2027-10-04
CATEGORIES:Basement,Gig
ATTACH;FMTTYPE=image/png:https://www.nicensleazy.com/wp-content/uploads/2024/11/Screenshot-2025-05-14-at-03.32.04.png
LOCATION:
END:VEVENT
BEGIN:VEVENT
DTSTART;TZID=Europe/London:20271101T200000
DTEND;TZID=Europe/London:20271101T230000
DTSTAMP:20260421T194948
CREATED:20241125T200533Z
LAST-MODIFIED:20250514T023452Z
UID:10001539-1825099200-1825110000@www.nicensleazy.com
SUMMARY:OPEN MIC NIGHT WITH GERRY LYONS
DESCRIPTION:Come sing a tune at the longest running Open Mic Night\, going 27 years strong x \nFirst Monday of every month\, 8pm-11pm!\nEveryone welcome\, to perform or just to revel in the talent!
URL:https://www.nicensleazy.com/event/open-mic-night-with-gerry-lyons/2027-11-01
CATEGORIES:Basement,Gig
ATTACH;FMTTYPE=image/png:https://www.nicensleazy.com/wp-content/uploads/2024/11/Screenshot-2025-05-14-at-03.32.04.png
LOCATION:
END:VEVENT
BEGIN:VEVENT
DTSTART;TZID=Europe/London:20271206T200000
DTEND;TZID=Europe/London:20271206T230000
DTSTAMP:20260421T194948
CREATED:20241125T200533Z
LAST-MODIFIED:20250514T023452Z
UID:10001540-1828123200-1828134000@www.nicensleazy.com
SUMMARY:OPEN MIC NIGHT WITH GERRY LYONS
DESCRIPTION:Come sing a tune at the longest running Open Mic Night\, going 27 years strong x \nFirst Monday of every month\, 8pm-11pm!\nEveryone welcome\, to perform or just to revel in the talent!
URL:https://www.nicensleazy.com/event/open-mic-night-with-gerry-lyons/2027-12-06
CATEGORIES:Basement,Gig
ATTACH;FMTTYPE=image/png:https://www.nicensleazy.com/wp-content/uploads/2024/11/Screenshot-2025-05-14-at-03.32.04.png
LOCATION:
END:VEVENT
BEGIN:VEVENT
DTSTART;TZID=Europe/London:20280103T200000
DTEND;TZID=Europe/London:20280103T230000
DTSTAMP:20260421T194948
CREATED:20241125T200533Z
LAST-MODIFIED:20250514T023452Z
UID:10001541-1830542400-1830553200@www.nicensleazy.com
SUMMARY:OPEN MIC NIGHT WITH GERRY LYONS
DESCRIPTION:Come sing a tune at the longest running Open Mic Night\, going 27 years strong x \nFirst Monday of every month\, 8pm-11pm!\nEveryone welcome\, to perform or just to revel in the talent!
URL:https://www.nicensleazy.com/event/open-mic-night-with-gerry-lyons/2028-01-03
CATEGORIES:Basement,Gig
ATTACH;FMTTYPE=image/png:https://www.nicensleazy.com/wp-content/uploads/2024/11/Screenshot-2025-05-14-at-03.32.04.png
LOCATION:
END:VEVENT
BEGIN:VEVENT
DTSTART;TZID=Europe/London:20280207T200000
DTEND;TZID=Europe/London:20280207T230000
DTSTAMP:20260421T194948
CREATED:20241125T200533Z
LAST-MODIFIED:20250514T023452Z
UID:10001542-1833566400-1833577200@www.nicensleazy.com
SUMMARY:OPEN MIC NIGHT WITH GERRY LYONS
DESCRIPTION:Come sing a tune at the longest running Open Mic Night\, going 27 years strong x \nFirst Monday of every month\, 8pm-11pm!\nEveryone welcome\, to perform or just to revel in the talent!
URL:https://www.nicensleazy.com/event/open-mic-night-with-gerry-lyons/2028-02-07
CATEGORIES:Basement,Gig
ATTACH;FMTTYPE=image/png:https://www.nicensleazy.com/wp-content/uploads/2024/11/Screenshot-2025-05-14-at-03.32.04.png
LOCATION:
END:VEVENT
BEGIN:VEVENT
DTSTART;TZID=Europe/London:20280306T200000
DTEND;TZID=Europe/London:20280306T230000
DTSTAMP:20260421T194948
CREATED:20241125T200533Z
LAST-MODIFIED:20250514T023452Z
UID:10001543-1835985600-1835996400@www.nicensleazy.com
SUMMARY:OPEN MIC NIGHT WITH GERRY LYONS
DESCRIPTION:Come sing a tune at the longest running Open Mic Night\, going 27 years strong x \nFirst Monday of every month\, 8pm-11pm!\nEveryone welcome\, to perform or just to revel in the talent!
URL:https://www.nicensleazy.com/event/open-mic-night-with-gerry-lyons/2028-03-06
CATEGORIES:Basement,Gig
ATTACH;FMTTYPE=image/png:https://www.nicensleazy.com/wp-content/uploads/2024/11/Screenshot-2025-05-14-at-03.32.04.png
LOCATION:
END:VEVENT
BEGIN:VEVENT
DTSTART;TZID=Europe/London:20280403T200000
DTEND;TZID=Europe/London:20280403T230000
DTSTAMP:20260421T194948
CREATED:20241125T200533Z
LAST-MODIFIED:20250514T023452Z
UID:10001544-1838404800-1838415600@www.nicensleazy.com
SUMMARY:OPEN MIC NIGHT WITH GERRY LYONS
DESCRIPTION:Come sing a tune at the longest running Open Mic Night\, going 27 years strong x \nFirst Monday of every month\, 8pm-11pm!\nEveryone welcome\, to perform or just to revel in the talent!
URL:https://www.nicensleazy.com/event/open-mic-night-with-gerry-lyons/2028-04-03
CATEGORIES:Basement,Gig
ATTACH;FMTTYPE=image/png:https://www.nicensleazy.com/wp-content/uploads/2024/11/Screenshot-2025-05-14-at-03.32.04.png
LOCATION:
END:VEVENT
BEGIN:VEVENT
DTSTART;TZID=Europe/London:20280501T200000
DTEND;TZID=Europe/London:20280501T230000
DTSTAMP:20260421T194948
CREATED:20241125T200533Z
LAST-MODIFIED:20250514T023452Z
UID:10001545-1840824000-1840834800@www.nicensleazy.com
SUMMARY:OPEN MIC NIGHT WITH GERRY LYONS
DESCRIPTION:Come sing a tune at the longest running Open Mic Night\, going 27 years strong x \nFirst Monday of every month\, 8pm-11pm!\nEveryone welcome\, to perform or just to revel in the talent!
URL:https://www.nicensleazy.com/event/open-mic-night-with-gerry-lyons/2028-05-01
CATEGORIES:Basement,Gig
ATTACH;FMTTYPE=image/png:https://www.nicensleazy.com/wp-content/uploads/2024/11/Screenshot-2025-05-14-at-03.32.04.png
LOCATION:
END:VEVENT
END:VCALENDAR