BEGIN:VCALENDAR
VERSION:2.0
PRODID:-//NiceNSleazy - ECPv6.15.20//NONSGML v1.0//EN
CALSCALE:GREGORIAN
METHOD:PUBLISH
X-ORIGINAL-URL:https://www.nicensleazy.com
X-WR-CALDESC:Events for NiceNSleazy
REFRESH-INTERVAL;VALUE=DURATION:PT1H
X-Robots-Tag:noindex
X-PUBLISHED-TTL:PT1H
BEGIN:VTIMEZONE
TZID:Europe/London
BEGIN:DAYLIGHT
TZOFFSETFROM:+0000
TZOFFSETTO:+0100
TZNAME:BST
DTSTART:20250330T010000
END:DAYLIGHT
BEGIN:STANDARD
TZOFFSETFROM:+0100
TZOFFSETTO:+0000
TZNAME:GMT
DTSTART:20251026T010000
END:STANDARD
BEGIN:DAYLIGHT
TZOFFSETFROM:+0000
TZOFFSETTO:+0100
TZNAME:BST
DTSTART:20260329T010000
END:DAYLIGHT
BEGIN:STANDARD
TZOFFSETFROM:+0100
TZOFFSETTO:+0000
TZNAME:GMT
DTSTART:20261025T010000
END:STANDARD
BEGIN:DAYLIGHT
TZOFFSETFROM:+0000
TZOFFSETTO:+0100
TZNAME:BST
DTSTART:20270328T010000
END:DAYLIGHT
BEGIN:STANDARD
TZOFFSETFROM:+0100
TZOFFSETTO:+0000
TZNAME:GMT
DTSTART:20271031T010000
END:STANDARD
END:VTIMEZONE
BEGIN:VEVENT
DTSTART;TZID=Europe/London:20260420T193000
DTEND;TZID=Europe/London:20260420T230000
DTSTAMP:20260421T140114
CREATED:20260330T193506Z
LAST-MODIFIED:20260330T193506Z
UID:10005477-1776713400-1776726000@www.nicensleazy.com
SUMMARY:GIG - SHERBET KITTY + RUM DOXY + BYONICHORD
DESCRIPTION:ALBUM LAUNCH GIG AT SLEAZYS ON 420 \nSherbet Kitty is back on the 20th of April and her new album “sherbetland” is out the same day !!! \n5er on the door xxxx \nSupport from Byonichord nd Rum Doxy\,\, plus there will be CDs and maybe just maybe T-shirts to buy so pls come out and support ur favourite trans baddie xxxx
URL:https://www.nicensleazy.com/event/gig-sherbet-kitty-rum-doxy-byonichord
CATEGORIES:Basement,Gig
ATTACH;FMTTYPE=image/jpeg:https://www.nicensleazy.com/wp-content/uploads/2026/03/unnamed-1.jpg
END:VEVENT
BEGIN:VEVENT
DTSTART;TZID=Europe/London:20260419T193000
DTEND;TZID=Europe/London:20260419T230000
DTSTAMP:20260421T140114
CREATED:20260320T203034Z
LAST-MODIFIED:20260320T203034Z
UID:10005456-1776627000-1776639600@www.nicensleazy.com
SUMMARY:GIG - GO DOWN FIGHTING + DAN LILKER
DESCRIPTION:Help Go Down Fighting fund their debut album with an epic gig at Nice N Sleazy\, featuring thrash legend Dan Lilker\, grab your tickets for a night of noisy classics and more acts to be announced! \n 
URL:https://www.nicensleazy.com/event/gig-go-down-fighting-dan-lilker
CATEGORIES:Basement,Gig
ATTACH;FMTTYPE=image/jpeg:https://www.nicensleazy.com/wp-content/uploads/2026/03/25a5bfbfab9d9ebd888cf516eb4d73cc.jpg
END:VEVENT
BEGIN:VEVENT
DTSTART;TZID=Europe/London:20260418T230000
DTEND;TZID=Europe/London:20260419T030000
DTSTAMP:20260421T140114
CREATED:20260328T143813Z
LAST-MODIFIED:20260328T154717Z
UID:10005469-1776553200-1776567600@www.nicensleazy.com
SUMMARY:CLUB - BLUNT FORCE SAUNA
DESCRIPTION:This is not AI! 🧠\nBFS is back  @ nice n sleazy in just a few weeks time! We are rumoured to be embracing the digital 🤖 despite our very hands on and human touch approach! 🫶 \nOur parties 🥳 are always geared towards the living 🫁breathing sensory experiences that nightlife provides! 🪩\n👁️ The sights ! The sounds ! The interactions! Even the smells! 🔊💨\nEverything we have put into building the BFS party\, the human element 🫀 is always at the core!\nCreating the posters! Resonating with the music! And engaging in that symbiotic relationship between Dj and Dancer!\n💃🕺 \nWe will always create our own posters and write our own wee blurbs so big hands for @peterjohnboyle as always 👏👏👏 \nOur party is ever evolving into something that will never be perfect\, but always beautiful thanks to all of us involved and those who pass through ❤️‍🔥❤️‍🔥❤️‍🔥\nAnd that CAN NOT be replaced ! \nWe invite everyone to join us in the human experience.. 🫶 \nSelectorz @_fenro 🥂 @grants_no_requests
URL:https://www.nicensleazy.com/event/club-blunt-force-sauna-7
CATEGORIES:Basement,Club
ATTACH;FMTTYPE=image/jpeg:https://www.nicensleazy.com/wp-content/uploads/2026/03/652035389_2124209101731993_4645628198961683587_n.jpg
END:VEVENT
BEGIN:VEVENT
DTSTART;TZID=Europe/London:20260418T183000
DTEND;TZID=Europe/London:20260418T223000
DTSTAMP:20260421T140114
CREATED:20260320T202236Z
LAST-MODIFIED:20260320T202236Z
UID:10005454-1776537000-1776551400@www.nicensleazy.com
SUMMARY:GIG - A B16 MOTIVE
DESCRIPTION:A B16 MOTIVE \nSaturday April 18th 2026 @ nice n sleazy Glasgow \nTickets on sale now \nFeaturing:: Akapo\, EarnestOnline\, Ykecto\, Jay!\, Decemberkid and ThreeTwo
URL:https://www.nicensleazy.com/event/gig-a-b16-motive
CATEGORIES:Basement,Gig
ATTACH;FMTTYPE=application/pdf:https://www.nicensleazy.com/wp-content/uploads/2026/03/Screenshot-2026-03-20-at-20.20.16.pdf
END:VEVENT
BEGIN:VEVENT
DTSTART;TZID=Europe/London:20260417T230000
DTEND;TZID=Europe/London:20260418T030000
DTSTAMP:20260421T140114
CREATED:20260330T192449Z
LAST-MODIFIED:20260330T192449Z
UID:10005476-1776466800-1776481200@www.nicensleazy.com
SUMMARY:2 FLOOR TAKEOVER - GUNK
DESCRIPTION:Coming in hot with our very first 2 floor takeover across both levels of the famous nice & sleazy. \nFor this one we are mega stoked to have guests\, Maveen\, Loose-E downstairs\, Charlotte Tuesday upstairs with a very special UKG set\, and Gunk Residents Corran\, Marky and Temple taking turns on either floor. \nMaveen\, Loose-E and Charlotte are three DJs who we are very excited to have aboard\, all of each have been busy making waves in Glasgow for some years now between them\, and we know they will bring something for everyone from each of their musical niche’s. \nNot to be missed. \nExpect everything all the usual bassy goodies with flavours of house\, UKG\, Funky and maybe even some Latino vibes thrown in. \n  \n£6 Full Venue Entry. Tickets bought in advance skip the queue.
URL:https://www.nicensleazy.com/event/2-floor-takeover-gunk
CATEGORIES:Basement,Club
ATTACH;FMTTYPE=image/webp:https://www.nicensleazy.com/wp-content/uploads/2026/03/dd8166c7aa908b83af6a5fa40b3c61f8ab90c7c6.webp
END:VEVENT
BEGIN:VEVENT
DTSTART;TZID=Europe/London:20260417T190000
DTEND;TZID=Europe/London:20260417T220000
DTSTAMP:20260421T140114
CREATED:20260320T201906Z
LAST-MODIFIED:20260320T201906Z
UID:10005453-1776452400-1776463200@www.nicensleazy.com
SUMMARY:GIG - 3P SLOT MACHINE
DESCRIPTION:Slay Sessions are back at Sleazys with 3p Slot Machine in April! \nGet your tickets now! \nSupports TBA
URL:https://www.nicensleazy.com/event/gig-3p-slot-machine
CATEGORIES:Basement,Gig
ATTACH;FMTTYPE=application/pdf:https://www.nicensleazy.com/wp-content/uploads/2026/03/Screenshot-2026-03-20-at-20.14.32.pdf
END:VEVENT
BEGIN:VEVENT
DTSTART;TZID=Europe/London:20260416T230000
DTEND;TZID=Europe/London:20260417T030000
DTSTAMP:20260421T140114
CREATED:20260328T143356Z
LAST-MODIFIED:20260328T143356Z
UID:10005468-1776380400-1776394800@www.nicensleazy.com
SUMMARY:CLUB - DUURTY TECHNO
DESCRIPTION:DUURTY TECHNO is a new monthly night in Glasgow covering the nastiest of Techno and bringing a choatic energy to the dancefloor. Our residents SIRUS ALTA and PADDIDAS are here to take you on a journey of TECHNO through the ages. \nDeeply inspiried by Glasgows underground scene and bringing an energetic experience to your nights into the dark hours of the morning.
URL:https://www.nicensleazy.com/event/club-duurty-techno-2
CATEGORIES:Basement,Club
ATTACH;FMTTYPE=image/webp:https://www.nicensleazy.com/wp-content/uploads/2026/03/2fef270853cb4ed8da9ec6d0f24e64d6920cee5e.webp
END:VEVENT
BEGIN:VEVENT
DTSTART;TZID=Europe/London:20260416T193000
DTEND;TZID=Europe/London:20260416T223000
DTSTAMP:20260421T140114
CREATED:20260223T120452Z
LAST-MODIFIED:20260310T201608Z
UID:10005386-1776367800-1776378600@www.nicensleazy.com
SUMMARY:GIG - SUGAR HORSE
DESCRIPTION:Sugar Horse is the sound of four socially inept humans soundtracking your disappointing transition into adult life. Formed in 2016\, Sugar Horse draw on their shared love of self destructive behaviours and cognitive dissonance to create incoherent pop songs drowned in bleak soundscapes and visceral rhythms. Horrible music played arrogantly loud. \nWith special guests The Rhubarb and Teleost.
URL:https://www.nicensleazy.com/event/sugar-horse-support
CATEGORIES:Basement,Gig
ATTACH;FMTTYPE=application/pdf:https://www.nicensleazy.com/wp-content/uploads/2026/02/Screenshot-2026-03-10-at-20.03.20.pdf
END:VEVENT
BEGIN:VEVENT
DTSTART;TZID=Europe/London:20260415T193000
DTEND;TZID=Europe/London:20260415T223000
DTSTAMP:20260421T140114
CREATED:20260310T195207Z
LAST-MODIFIED:20260310T195207Z
UID:10005424-1776281400-1776292200@www.nicensleazy.com
SUMMARY:GIG - CALUM BLANE
DESCRIPTION:Behold!\nCalum Blane – coercing respected musicians to join him in a collection of original music in his first time outing from the remote Isle of Lewis. \nWith Special Guests; Demimonde and Lost in Lilacs \n  \n18+
URL:https://www.nicensleazy.com/event/gig-calum-blane
CATEGORIES:Basement,Gig
ATTACH;FMTTYPE=image/jpeg:https://www.nicensleazy.com/wp-content/uploads/2026/03/irxedc8j1w8j7rlrtr7g.jpg
END:VEVENT
BEGIN:VEVENT
DTSTART;TZID=Europe/London:20260415T193000
DTEND;TZID=Europe/London:20260415T220000
DTSTAMP:20260421T140114
CREATED:20260310T210653Z
LAST-MODIFIED:20260328T163156Z
UID:10005430-1776281400-1776290400@www.nicensleazy.com
SUMMARY:UPSTAIRS GIG - QUENTIN COWIE + MARIO VENDITTI
DESCRIPTION:Get ready to vibe with local talent and discover new sounds at our Singer/Songwriter Night – it’s gonna be a night to remember! \n16+ event\, all U18s must be accompanied by a responsible adult.
URL:https://www.nicensleazy.com/event/gig-quentin-cowie-mario-venditti
CATEGORIES:Basement,Gig
ATTACH;FMTTYPE=application/pdf:https://www.nicensleazy.com/wp-content/uploads/2026/03/Screenshot-2026-03-10-at-21.02.05-1.pdf
END:VEVENT
BEGIN:VEVENT
DTSTART;TZID=Europe/London:20260414T233000
DTEND;TZID=Europe/London:20260415T030000
DTSTAMP:20260421T140114
CREATED:20260328T143135Z
LAST-MODIFIED:20260328T143135Z
UID:10005467-1776209400-1776222000@www.nicensleazy.com
SUMMARY:CLUB - DYLAN GILLESPIE
DESCRIPTION:HOUSE ALL NIGHT \n11:30->3
URL:https://www.nicensleazy.com/event/club-dylan-gillespie
CATEGORIES:Basement,Club
ATTACH;FMTTYPE=application/pdf:https://www.nicensleazy.com/wp-content/uploads/2026/03/unnamed-4.pdf
END:VEVENT
BEGIN:VEVENT
DTSTART;TZID=Europe/London:20260413T190000
DTEND;TZID=Europe/London:20260413T220000
DTSTAMP:20260421T140114
CREATED:20260320T184444Z
LAST-MODIFIED:20260320T184444Z
UID:10005436-1776106800-1776117600@www.nicensleazy.com
SUMMARY:GIG - THE CHARITY GIG
DESCRIPTION:Kingston headline NNS with support from Dugout and Arran LJ! \n\n\n\n\nAll donations go to charity and it’s for such a good cause with some known bands in the local area taking part — why would you miss it? \n\n\n\n\n\n\nAll donations go to charity and it’s for such a good cause with some known bands in the local area taking part why would you miss it ?? The skiddle link will be in my bio for tickets come along and enjoy a raffle some live music and good conversations with auld pals. Event is 16+ and there will be lots of things to buy and take part in while you’re there!!\n\n\n\n\n\nCome along and enjoy a raffle some live music and good conversations with auld pals. \n\nEvent is 16+ – all U18s must be accompanied by a responsible adult – and there will be lots of things to buy and take part in while you’re there!!
URL:https://www.nicensleazy.com/event/gig-the-charity-gig
CATEGORIES:Basement,Gig
ATTACH;FMTTYPE=application/pdf:https://www.nicensleazy.com/wp-content/uploads/2026/03/Screenshot-2026-03-20-at-18.44.04.pdf
END:VEVENT
BEGIN:VEVENT
DTSTART;TZID=Europe/London:20260412T230000
DTEND;TZID=Europe/London:20260413T030000
DTSTAMP:20260421T140114
CREATED:20260324T212241Z
LAST-MODIFIED:20260324T212241Z
UID:10005464-1776034800-1776049200@www.nicensleazy.com
SUMMARY:CLUB - CONCRETE GROOVES
DESCRIPTION:Concrete Grooves is the ultimate in-person jam sesh where deep beats meet urban vibes all night long! \n\n\n\n\nCome Jam at concrete grooves!\nGet ready to dive into some slick beats and vibes at concrete grooves. This in-person event is all about good music\, good people\, and great times. Whether you’re a groove lover or just wanna hang out\, this is the spot to be. Don’t miss out on the energy and fun — it’s gonna be a night to remember!
URL:https://www.nicensleazy.com/event/club-concrete-grooves
CATEGORIES:Basement,Club
ATTACH;FMTTYPE=image/webp:https://www.nicensleazy.com/wp-content/uploads/2026/03/https3A2F2Fcdn.webp
END:VEVENT
BEGIN:VEVENT
DTSTART;TZID=Europe/London:20260412T200000
DTEND;TZID=Europe/London:20260412T230000
DTSTAMP:20260421T140114
CREATED:20260310T004339Z
LAST-MODIFIED:20260310T004339Z
UID:10005423-1776024000-1776034800@www.nicensleazy.com
SUMMARY:GIG - STAGEMINUS
DESCRIPTION:STAGEMINUS play NNS with support TBA \n 
URL:https://www.nicensleazy.com/event/gig-stageminus
CATEGORIES:Basement,Gig
ATTACH;FMTTYPE=image/png:https://www.nicensleazy.com/wp-content/uploads/2026/03/Screenshot-2026-03-10-at-00.42.03.png
END:VEVENT
BEGIN:VEVENT
DTSTART;TZID=Europe/London:20260412T190000
DTEND;TZID=Europe/London:20260412T220000
DTSTAMP:20260421T140114
CREATED:20260320T174704Z
LAST-MODIFIED:20260320T201229Z
UID:10005435-1776020400-1776031200@www.nicensleazy.com
SUMMARY:UPSTAIRS GIG - FENCES
DESCRIPTION:Paris Alt- Rockers FENCES \\\\ will tour Scotland for the first time in April 2026. \nThe band has previously shared the stage with The Xcerts in Paris and take their musical roots from the Scottish rock scene (think Twin Atlantic\, Fatherson and Biffy Clyro). \n 
URL:https://www.nicensleazy.com/event/gig-upstairs-fences
CATEGORIES:Basement,Gig
ATTACH;FMTTYPE=application/pdf:https://www.nicensleazy.com/wp-content/uploads/2026/03/Screenshot-2026-03-20-at-17.42.01.pdf
END:VEVENT
BEGIN:VEVENT
DTSTART;TZID=Europe/London:20260411T230000
DTEND;TZID=Europe/London:20260412T030000
DTSTAMP:20260421T140114
CREATED:20260324T211630Z
LAST-MODIFIED:20260328T142728Z
UID:10005466-1775948400-1775962800@www.nicensleazy.com
SUMMARY:CLUB - DARKERR PRESENTS IKIGAI3000
DESCRIPTION:DARKERR are bringing the one and only Dublins Ikigai3000 to Glasgow! Ikigai3000 is a well known Producer and Dj based in Ireland for his signature sound in the Techno scene! \nAlso on the lineup is Glasgows Techno Heads DARKERR and of course KTDJ who will be setting the tone for a night of driving and groovy techno!
URL:https://www.nicensleazy.com/event/club-darkerr-presents-ikigai3000
CATEGORIES:Basement,Club
ATTACH;FMTTYPE=image/webp:https://www.nicensleazy.com/wp-content/uploads/2026/03/d6c29077b155b3e9570402df25f28d9b32e8491a.webp
END:VEVENT
BEGIN:VEVENT
DTSTART;TZID=Europe/London:20260411T193000
DTEND;TZID=Europe/London:20260411T223000
DTSTAMP:20260421T140114
CREATED:20251215T125236Z
LAST-MODIFIED:20260310T004010Z
UID:10004978-1775935800-1775946600@www.nicensleazy.com
SUMMARY:GIG - UNSANE
DESCRIPTION:PCL PRESENTS: UNSANE \nUnsane is a highly influential American noise rock trio from NYC (formed 1988) known for its brutal\, abrasive sound blending hardcore punk and metal\, featuring distorted guitars\, feedback\, and gruesome album art. Led by Chris Spencer\, they inspired a cult following with hits like “Scrape” and have been active on and off for decades. \n16+\, under 18s must be accompanied by a responsible\, ticket holding adult
URL:https://www.nicensleazy.com/event/pcl-presents-unsane
CATEGORIES:Basement,Gig
ATTACH;FMTTYPE=application/pdf:https://www.nicensleazy.com/wp-content/uploads/2025/12/Screenshot-2026-03-10-at-00.38.39.pdf
END:VEVENT
BEGIN:VEVENT
DTSTART;TZID=Europe/London:20260410T230000
DTEND;TZID=Europe/London:20260411T030000
DTSTAMP:20260421T140114
CREATED:20260330T191907Z
LAST-MODIFIED:20260330T191907Z
UID:10005475-1775862000-1775876400@www.nicensleazy.com
SUMMARY:CLUB - GARAGE PARTY
DESCRIPTION:DISCLAIMER presents GARAGE PARTY \nUKG. Bumpin. Soulful. Speed. Wobbling. Edits. Bassline.
URL:https://www.nicensleazy.com/event/club-garage-party
CATEGORIES:Basement,Club
ATTACH;FMTTYPE=image/png:https://www.nicensleazy.com/wp-content/uploads/2026/03/unnamed-1-1.png
END:VEVENT
BEGIN:VEVENT
DTSTART;TZID=Europe/London:20260410T193000
DTEND;TZID=Europe/London:20260410T230000
DTSTAMP:20260421T140114
CREATED:20260310T003400Z
LAST-MODIFIED:20260310T003400Z
UID:10005421-1775849400-1775862000@www.nicensleazy.com
SUMMARY:GIG - ROSELLAS
DESCRIPTION:PCL PRESENTS: Rosellas \nFive lads who all bonded over a passion for wanting real music to be heard again. Moulded by bands like The War On Drugs\, The Verve\, and Pink Floyd\, they strive to create music that blends influences of Manchester’s mightiest\, with the beautiful sounds and atmosphere you find in psychedelic rock. \n16+ event – all U18s must be accompanied by a responsible adult.
URL:https://www.nicensleazy.com/event/gig-rosellas
CATEGORIES:Basement,Gig
ATTACH;FMTTYPE=application/pdf:https://www.nicensleazy.com/wp-content/uploads/2026/03/Screenshot-2026-03-10-at-00.32.25.pdf
END:VEVENT
BEGIN:VEVENT
DTSTART;TZID=Europe/London:20260409T230000
DTEND;TZID=Europe/London:20260410T030000
DTSTAMP:20260421T140114
CREATED:20260328T141949Z
LAST-MODIFIED:20260328T141949Z
UID:10005465-1775775600-1775790000@www.nicensleazy.com
SUMMARY:CLUB - KORE 9
DESCRIPTION:KORE 9 return to the SLeazy’s basement w/ North Star\, Wida3d\, Bobo + special guests TBA \ntickets to be released on RA
URL:https://www.nicensleazy.com/event/club-kore-9
CATEGORIES:Basement,Club
ATTACH;FMTTYPE=application/pdf:https://www.nicensleazy.com/wp-content/uploads/2026/03/nicensleazy.pdf
END:VEVENT
BEGIN:VEVENT
DTSTART;TZID=Europe/London:20260408T233000
DTEND;TZID=Europe/London:20260409T030000
DTSTAMP:20260421T140114
CREATED:20260320T211024Z
LAST-MODIFIED:20260320T211024Z
UID:10005461-1775691000-1775703600@www.nicensleazy.com
SUMMARY:CLUB - EDM ZONE
DESCRIPTION:3 Dj’s\, non stop edm bangers. \nfrom classics\, to mordern MxG\,RbX and TH1STL3 will have the NiceNSleazy dance floor thumping to raise money for charity. \nAll proceeds will be going to MacMillan Cancer Support.
URL:https://www.nicensleazy.com/event/club-edm-zone
CATEGORIES:Basement,Club
ATTACH;FMTTYPE=application/pdf:https://www.nicensleazy.com/wp-content/uploads/2026/03/2202989_7ba06a7a_edm-zone-club-night-for-macmillan-cancer-support-_1024.pdf
END:VEVENT
BEGIN:VEVENT
DTSTART;TZID=Europe/London:20260408T190000
DTEND;TZID=Europe/London:20260408T223000
DTSTAMP:20260421T140114
CREATED:20251027T163748Z
LAST-MODIFIED:20260310T003045Z
UID:10004642-1775674800-1775687400@www.nicensleazy.com
SUMMARY:GIG - COSMIC PSYCHOS
DESCRIPTION:PCL PRESENTS: Cosmic Psychos \nOne of the most notorious Australian pub rock bands\, Cosmic Psychos play beer-fueled\, garage-accented\, heavy-hitting punk rock with no frills and no pretensions. Officially beginning their journey together in 1985\, the Psychos gained a reputation for not caring about money as much as the free beer\, laughs\, and occasional overseas traveling involved with being in a rock band. \n16+ event – all U18s must be accompanied by a responsible adult. \n 
URL:https://www.nicensleazy.com/event/pcl-presents-cosmic-psychos-support
CATEGORIES:Basement,Gig
ATTACH;FMTTYPE=application/pdf:https://www.nicensleazy.com/wp-content/uploads/2025/10/Cosmic-Psychos-Glasgow-4x5-1-240x300-1.pdf
END:VEVENT
BEGIN:VEVENT
DTSTART;TZID=Europe/London:20260407T190000
DTEND;TZID=Europe/London:20260407T230000
DTSTAMP:20260421T140114
CREATED:20260320T172216Z
LAST-MODIFIED:20260320T172249Z
UID:10005432-1775588400-1775602800@www.nicensleazy.com
SUMMARY:GIG - NIGHT OF ACOUSTICS
DESCRIPTION:Strings & Feedback:::\n\n\n3 acts: 2 acoustic\, 1 alt rock band \n\nProceeds will go towards CALM Charity – Campaign Against Living Miserably – to aid their efforts.
URL:https://www.nicensleazy.com/event/gig-night-of-acoustics
CATEGORIES:Basement,Gig
ATTACH;FMTTYPE=image/jpeg:https://www.nicensleazy.com/wp-content/uploads/2026/03/unnamed.jpg
END:VEVENT
BEGIN:VEVENT
DTSTART;TZID=Europe/London:20260406T200000
DTEND;TZID=Europe/London:20260406T230000
DTSTAMP:20260421T140114
CREATED:20241125T200533Z
LAST-MODIFIED:20250514T023452Z
UID:10001520-1775505600-1775516400@www.nicensleazy.com
SUMMARY:OPEN MIC NIGHT WITH GERRY LYONS
DESCRIPTION:Come sing a tune at the longest running Open Mic Night\, going 27 years strong x \nFirst Monday of every month\, 8pm-11pm!\nEveryone welcome\, to perform or just to revel in the talent!
URL:https://www.nicensleazy.com/event/open-mic-night-with-gerry-lyons/2026-04-06
CATEGORIES:Basement,Gig
ATTACH;FMTTYPE=image/png:https://www.nicensleazy.com/wp-content/uploads/2024/11/Screenshot-2025-05-14-at-03.32.04.png
LOCATION:
END:VEVENT
BEGIN:VEVENT
DTSTART;TZID=Europe/London:20260405T210000
DTEND;TZID=Europe/London:20260406T030000
DTSTAMP:20260421T140114
CREATED:20260320T210714Z
LAST-MODIFIED:20260320T210714Z
UID:10005460-1775422800-1775444400@www.nicensleazy.com
SUMMARY:CLUB - FRISSON  PRESENTS: COLD BLUE
DESCRIPTION:Frisson presents: Cold Blue! Frisson Events returns with a huge night of uplifting and driving trance as Cold Blue takes control at Nice ‘n’ Sleazy.
URL:https://www.nicensleazy.com/event/club-frisson-presents-cold-blue
CATEGORIES:Basement,Club
ATTACH;FMTTYPE=application/pdf:https://www.nicensleazy.com/wp-content/uploads/2026/03/1.pdf
END:VEVENT
BEGIN:VEVENT
DTSTART;TZID=Europe/London:20260404T230000
DTEND;TZID=Europe/London:20260405T030000
DTSTAMP:20260421T140114
CREATED:20260320T205821Z
LAST-MODIFIED:20260320T205821Z
UID:10005459-1775343600-1775358000@www.nicensleazy.com
SUMMARY:CLUB - SIDECHAIN
DESCRIPTION:Sidechain returns for its third edition\, continuing to build a space for groove led underground club music in the basement. \nAfter two strong outings\, the night keeps moving forward with another session centred around rhythm\, movement and late-hour energy. \nExpect a blend of house\, garage and techno selections designed for dark rooms\, heavy systems and a floor that stays moving. \n\nNo filler. Just the floor.
URL:https://www.nicensleazy.com/event/club-sidechain
CATEGORIES:Basement,Club
ATTACH;FMTTYPE=application/pdf:https://www.nicensleazy.com/wp-content/uploads/2026/03/3155a48ff21caa3a6303e9838ab72e0d4094da99.pdf
END:VEVENT
BEGIN:VEVENT
DTSTART;TZID=Europe/London:20260404T140000
DTEND;TZID=Europe/London:20260404T230000
DTSTAMP:20260421T140114
CREATED:20260320T200154Z
LAST-MODIFIED:20260320T200707Z
UID:10005452-1775311200-1775343600@www.nicensleazy.com
SUMMARY:FESTIVAL - HOUSEGUEST
DESCRIPTION:HOUSEGUEST 3 – 4th APRIL 2026\, ON SALE NOW! \nHouseguest is back for its third instalment\, brought to you by Crowded Flat &  SMC Presents\, sponsored by Williams Brothers Brewing Co. & Whiteclaw UK. \nThis year’s festival will take place over 4 stages in 3 venues:: The Art School\, Nice N Sleazy and 1990. \nFinal wave of tickets available now!
URL:https://www.nicensleazy.com/event/festival-houseguest-2
CATEGORIES:Bar,Basement,Gig
ATTACH;FMTTYPE=application/pdf:https://www.nicensleazy.com/wp-content/uploads/2026/03/hgposter2026.pdf
END:VEVENT
BEGIN:VEVENT
DTSTART;TZID=Europe/London:20260402T193000
DTEND;TZID=Europe/London:20260402T223000
DTSTAMP:20260421T140114
CREATED:20251215T124905Z
LAST-MODIFIED:20260310T001612Z
UID:10004977-1775158200-1775169000@www.nicensleazy.com
SUMMARY:GIG - PROBLEM PATTERNS
DESCRIPTION:PCL PRESENTS: Problem Patterns. \nBelfast-based queer feminist punk band Problem Patterns play NNS on Thursday\, April 2nd\, as part of their upcoming tour. \n 
URL:https://www.nicensleazy.com/event/pcl-presents-problem-patterns
CATEGORIES:Basement,Gig
ATTACH;FMTTYPE=image/jpeg:https://www.nicensleazy.com/wp-content/uploads/2025/12/problem-patterns-1053505510-300x300-2.jpg
END:VEVENT
BEGIN:VEVENT
DTSTART;TZID=Europe/London:20260331T193000
DTEND;TZID=Europe/London:20260331T223000
DTSTAMP:20260421T140114
CREATED:20260306T135004Z
LAST-MODIFIED:20260306T135004Z
UID:10005412-1774985400-1774996200@www.nicensleazy.com
SUMMARY:PCL Presents: Jon Spencer
DESCRIPTION:Jon Spencer has been innovative force in the independent music scene since the mid-80s. An acclaimed live performer\, he has toured all the continents except Antarctica and has amassed a dizzying discography as the leader of Pussy Galore\, The Jon Spencer Blues Explosion\, Heavy Trash\, and Jon Spencer & the HITmakers\, as well as with Boss Hog\, The Honeymoon Killers\, The Gibson Brothers\, and Taxi Girls \nhttps://www.seetickets.com/event/jon-spencer/nice-n-sleazy/3612455
URL:https://www.nicensleazy.com/event/pcl-presents-jon-spencer
CATEGORIES:Basement,Gig
ATTACH;FMTTYPE=image/png:https://www.nicensleazy.com/wp-content/uploads/2026/03/Screenshot-2026-03-06-at-13.25.05.png
END:VEVENT
BEGIN:VEVENT
DTSTART;TZID=Europe/London:20260331T190000
DTEND;TZID=Europe/London:20260331T220000
DTSTAMP:20260421T140114
CREATED:20260226T212635Z
LAST-MODIFIED:20260226T212635Z
UID:10005396-1774983600-1774994400@www.nicensleazy.com
SUMMARY:GIG - LOOSE WIRES
DESCRIPTION:A gig set-up by UWS students\, also known as LØØSE WIRES— A night full of fun and energy! \n\nThis is a live showcase highlighting UWS students working across a range of genres. \nThe event creates space for emerging artists to test ideas\, share original work\, and collaborate in an open\, informal environment. \nWith a focus on variety and experimentation\, Loosewires brings different sounds and styles together in one night\, reflecting the breadth of creative work happening at UWS. \n\n16+ EVENT\, all U18s must be accompanied by an adult.
URL:https://www.nicensleazy.com/event/gig-loose-wires
CATEGORIES:Basement,Gig
ATTACH;FMTTYPE=image/jpeg:https://www.nicensleazy.com/wp-content/uploads/2026/02/unnamed.jpg
END:VEVENT
END:VCALENDAR