BEGIN:VCALENDAR
VERSION:2.0
PRODID:-//NiceNSleazy - ECPv6.15.20//NONSGML v1.0//EN
CALSCALE:GREGORIAN
METHOD:PUBLISH
X-ORIGINAL-URL:https://www.nicensleazy.com
X-WR-CALDESC:Events for NiceNSleazy
REFRESH-INTERVAL;VALUE=DURATION:PT1H
X-Robots-Tag:noindex
X-PUBLISHED-TTL:PT1H
BEGIN:VTIMEZONE
TZID:Europe/London
BEGIN:DAYLIGHT
TZOFFSETFROM:+0000
TZOFFSETTO:+0100
TZNAME:BST
DTSTART:20230326T010000
END:DAYLIGHT
BEGIN:STANDARD
TZOFFSETFROM:+0100
TZOFFSETTO:+0000
TZNAME:GMT
DTSTART:20231029T010000
END:STANDARD
BEGIN:DAYLIGHT
TZOFFSETFROM:+0000
TZOFFSETTO:+0100
TZNAME:BST
DTSTART:20240331T010000
END:DAYLIGHT
BEGIN:STANDARD
TZOFFSETFROM:+0100
TZOFFSETTO:+0000
TZNAME:GMT
DTSTART:20241027T010000
END:STANDARD
BEGIN:DAYLIGHT
TZOFFSETFROM:+0000
TZOFFSETTO:+0100
TZNAME:BST
DTSTART:20250330T010000
END:DAYLIGHT
BEGIN:STANDARD
TZOFFSETFROM:+0100
TZOFFSETTO:+0000
TZNAME:GMT
DTSTART:20251026T010000
END:STANDARD
END:VTIMEZONE
BEGIN:VEVENT
DTSTART;TZID=Europe/London:20240406T150000
DTEND;TZID=Europe/London:20240406T230000
DTSTAMP:20260421T153028
CREATED:20240126T181015Z
LAST-MODIFIED:20240126T181015Z
UID:10000577-1712415600-1712444400@www.nicensleazy.com
SUMMARY:HOUSE GUEST
DESCRIPTION:TAKE A SEAT\nBE OUR HOUSEGUEST\n\nHOUSEGUEST is the brand new ALL-DAY festival presented by local DIY promoters Crowded Flat and SMC\, featuring a wealth of Scottish talent across three venues this April. Make yourself at home across Nice ’n’ Sleazy’s\, Garage Attic and The Variety Bar and catch acts such as: PARLIAMO\, TINA SANDWICH\, MAJESTY PALM and more TBA. \nCrowded Flat and SMC have been at the forefront of bringing Glasgow’s underground music scene to life\, and have collaborated on creating this inaugural event that aims to let the talented artists of Glasgow flourish. \nThis event is 18+
URL:https://www.nicensleazy.com/event/house-guest
CATEGORIES:Bar,Basement,Club,Gig
ATTACH;FMTTYPE=image/jpeg:https://www.nicensleazy.com/wp-content/uploads/2024/01/Web-capture_26-1-2024_18954_www.instagram.com_.jpeg
END:VEVENT
BEGIN:VEVENT
DTSTART;TZID=Europe/London:20240406T230000
DTEND;TZID=Europe/London:20240407T040000
DTSTAMP:20260421T153028
CREATED:20240322T131145Z
LAST-MODIFIED:20240322T131620Z
UID:10000678-1712444400-1712462400@www.nicensleazy.com
SUMMARY:CLUB - FEMME DM (HOUSEGUEST AFTER PARTY)
DESCRIPTION:FemmeDM are a glasgow based female collective who’ll be bringing the best DJs around with the likes of Ocean\, mily B\, Knees up and Jenn Gunn. \n 
URL:https://www.nicensleazy.com/event/club-femme-dm-houseguest-after-party
CATEGORIES:Bar,Basement
ATTACH;FMTTYPE=image/jpeg:https://www.nicensleazy.com/wp-content/uploads/2024/03/fbb5e73e-d620-4985-9baa-0608deed1759.jpg
END:VEVENT
END:VCALENDAR