BEGIN:VCALENDAR
VERSION:2.0
PRODID:-//NiceNSleazy - ECPv6.15.20//NONSGML v1.0//EN
CALSCALE:GREGORIAN
METHOD:PUBLISH
X-WR-CALNAME:NiceNSleazy
X-ORIGINAL-URL:https://www.nicensleazy.com
X-WR-CALDESC:Events for NiceNSleazy
REFRESH-INTERVAL;VALUE=DURATION:PT1H
X-Robots-Tag:noindex
X-PUBLISHED-TTL:PT1H
BEGIN:VTIMEZONE
TZID:Europe/London
BEGIN:DAYLIGHT
TZOFFSETFROM:+0000
TZOFFSETTO:+0100
TZNAME:BST
DTSTART:20230326T010000
END:DAYLIGHT
BEGIN:STANDARD
TZOFFSETFROM:+0100
TZOFFSETTO:+0000
TZNAME:GMT
DTSTART:20231029T010000
END:STANDARD
BEGIN:DAYLIGHT
TZOFFSETFROM:+0000
TZOFFSETTO:+0100
TZNAME:BST
DTSTART:20240331T010000
END:DAYLIGHT
BEGIN:STANDARD
TZOFFSETFROM:+0100
TZOFFSETTO:+0000
TZNAME:GMT
DTSTART:20241027T010000
END:STANDARD
BEGIN:DAYLIGHT
TZOFFSETFROM:+0000
TZOFFSETTO:+0100
TZNAME:BST
DTSTART:20250330T010000
END:DAYLIGHT
BEGIN:STANDARD
TZOFFSETFROM:+0100
TZOFFSETTO:+0000
TZNAME:GMT
DTSTART:20251026T010000
END:STANDARD
END:VTIMEZONE
BEGIN:VEVENT
DTSTART;TZID=Europe/London:20240203T230000
DTEND;TZID=Europe/London:20240203T230000
DTSTAMP:20260421T182405
CREATED:20240105T154626Z
LAST-MODIFIED:20240108T174729Z
UID:10000554-1707001200-1707001200@www.nicensleazy.com
SUMMARY:CLUB - ACT NATURAL
DESCRIPTION:A club where the eyes & ears drive your rears.  BOOM 😉 \nHustled into life by DJ\, producer & performer Baille Jnr & DJ HuussH\, their prime manifesto is to fill the dance floor wall 2 wall with B-I-G FUN\, deliriously AND seriously. \nAct Natural’s aim is to deliver some exclusive production cuts and a dynamic visual aesthetic to Sleazy’s with bespoke lights and design.   Hot dance dubs and vocal cuts with a twist – vibrating between Bonnie Tyler & Sylvester.  There is something preposterous about it sure\, but it’s irresistibly FUN no matter what. \nPitching their rhythm nation across a timeline that runs 70’s – 20’s\, Act Natural is a jumping blend of Hi-NRG 80’s disco/ italo woven into 90’s house & electro – think scorchingly fresh Parisian club sounds bumping against gym-buffed 80’s stadium disco funk – but spun with a low-end bounce that SLAMS like sweating poppers! \nThere is no ‘natural’\, it’s ALL an act.   Find your place\, to the BEAT.
URL:https://www.nicensleazy.com/event/club-act-natural
CATEGORIES:Basement,Club
ATTACH;FMTTYPE=image/jpeg:https://www.nicensleazy.com/wp-content/uploads/2024/01/IMG_8265.jpg
END:VEVENT
END:VCALENDAR